BEGIN:VCALENDAR
VERSION:2.0
PRODID:-//111Project.org - ECPv6.15.18//NONSGML v1.0//EN
CALSCALE:GREGORIAN
METHOD:PUBLISH
X-ORIGINAL-URL:https://www.111project.org
X-WR-CALDESC:Events for 111Project.org
REFRESH-INTERVAL;VALUE=DURATION:PT1H
X-Robots-Tag:noindex
X-PUBLISHED-TTL:PT1H
BEGIN:VTIMEZONE
TZID:America/Chicago
BEGIN:DAYLIGHT
TZOFFSETFROM:-0600
TZOFFSETTO:-0500
TZNAME:CDT
DTSTART:20240310T080000
END:DAYLIGHT
BEGIN:STANDARD
TZOFFSETFROM:-0500
TZOFFSETTO:-0600
TZNAME:CST
DTSTART:20241103T070000
END:STANDARD
BEGIN:DAYLIGHT
TZOFFSETFROM:-0600
TZOFFSETTO:-0500
TZNAME:CDT
DTSTART:20250309T080000
END:DAYLIGHT
BEGIN:STANDARD
TZOFFSETFROM:-0500
TZOFFSETTO:-0600
TZNAME:CST
DTSTART:20251102T070000
END:STANDARD
BEGIN:DAYLIGHT
TZOFFSETFROM:-0600
TZOFFSETTO:-0500
TZNAME:CDT
DTSTART:20260308T080000
END:DAYLIGHT
BEGIN:STANDARD
TZOFFSETFROM:-0500
TZOFFSETTO:-0600
TZNAME:CST
DTSTART:20261101T070000
END:STANDARD
END:VTIMEZONE
BEGIN:VEVENT
DTSTART;TZID=America/Chicago:20250506T190000
DTEND;TZID=America/Chicago:20250506T203000
DTSTAMP:20260425T051704
CREATED:20250220T212245Z
LAST-MODIFIED:20250422T155209Z
UID:10001171-1746558000-1746563400@www.111project.org
SUMMARY:Tulsa Cares Event
DESCRIPTION:Register Here!\n\n\n\n\n\n\n\nJoin 111Project and Legacy Family Network on May 6th for an evening dedicated to learning how you can support and be involved in foster care\, adoption\, and vulnerable families in our community. The Tulsa Cares event will explore the child welfare crisis\, feature powerful stories from those with lived experiences\, and offer you the chance to connect with local agencies ready to support you in making a difference. Agencies with volunteer opportunities will also be present. This event is open to all Tulsa-area churches and their congregations. We look forward to seeing you there!
URL:https://www.111project.org/activities/tulsa-cares-event-2/
CATEGORIES:Church Appreciation Events
ATTACH;FMTTYPE=image/png:https://www.111project.org/wp-content/uploads/2025/02/TulsaCares-Logo-1.png
ORGANIZER;CN="111Project":MAILTO:info@111project.org
END:VEVENT
END:VCALENDAR