BEGIN:VCALENDAR
VERSION:2.0
PRODID:-//111Project.org - ECPv6.15.18//NONSGML v1.0//EN
CALSCALE:GREGORIAN
METHOD:PUBLISH
X-ORIGINAL-URL:https://www.111project.org
X-WR-CALDESC:Events for 111Project.org
REFRESH-INTERVAL;VALUE=DURATION:PT1H
X-Robots-Tag:noindex
X-PUBLISHED-TTL:PT1H
BEGIN:VTIMEZONE
TZID:America/Chicago
BEGIN:DAYLIGHT
TZOFFSETFROM:-0600
TZOFFSETTO:-0500
TZNAME:CDT
DTSTART:20250309T080000
END:DAYLIGHT
BEGIN:STANDARD
TZOFFSETFROM:-0500
TZOFFSETTO:-0600
TZNAME:CST
DTSTART:20251102T070000
END:STANDARD
BEGIN:DAYLIGHT
TZOFFSETFROM:-0600
TZOFFSETTO:-0500
TZNAME:CDT
DTSTART:20260308T080000
END:DAYLIGHT
BEGIN:STANDARD
TZOFFSETFROM:-0500
TZOFFSETTO:-0600
TZNAME:CST
DTSTART:20261101T070000
END:STANDARD
BEGIN:DAYLIGHT
TZOFFSETFROM:-0600
TZOFFSETTO:-0500
TZNAME:CDT
DTSTART:20270314T080000
END:DAYLIGHT
BEGIN:STANDARD
TZOFFSETFROM:-0500
TZOFFSETTO:-0600
TZNAME:CST
DTSTART:20271107T070000
END:STANDARD
END:VTIMEZONE
BEGIN:VEVENT
DTSTART;TZID=America/Chicago:20260521T133000
DTEND;TZID=America/Chicago:20260521T150000
DTSTAMP:20260425T101025
CREATED:20260212T012322Z
LAST-MODIFIED:20260212T012330Z
UID:10001912-1779370200-1779375600@www.111project.org
SUMMARY:Nowata County Community Gathering
DESCRIPTION:Join local Church and Community Leaders with a heart for children and families! This will be a time of community collaboration\, as we work to come up with solutions and next steps! Invite someone you would like to see at the table! We hope to see you there! 
URL:https://www.111project.org/activities/nowata-county-community-gathering-12/
LOCATION:Wise Beans Coffee Shop\, 102 E Cherokee Ave\, Nowata\, Oklahoma\, United States
CATEGORIES:Community Gatherings
ATTACH;FMTTYPE=image/jpeg:https://www.111project.org/wp-content/uploads/2026/02/Nowata-2.jpg
END:VEVENT
BEGIN:VEVENT
DTSTART;TZID=America/Chicago:20260521T180000
DTEND;TZID=America/Chicago:20260521T193000
DTSTAMP:20260425T101026
CREATED:20260212T012651Z
LAST-MODIFIED:20260212T012655Z
UID:10001914-1779386400-1779391800@www.111project.org
SUMMARY:Craig County Community Gathering
DESCRIPTION:Join local Church and Community Leaders with a heart for children and families! This will be a time of community collaboration\, as we work to come up with solutions and next steps! Invite someone you would like to see at the table! We hope to see you there! 
URL:https://www.111project.org/activities/craig-county-community-gathering-4/
LOCATION:Location Pending
CATEGORIES:Community Gatherings
ATTACH;FMTTYPE=image/jpeg:https://www.111project.org/wp-content/uploads/2026/02/Craig-1.jpg
END:VEVENT
BEGIN:VEVENT
DTSTART;TZID=America/Chicago:20260525T120000
DTEND;TZID=America/Chicago:20260525T133000
DTSTAMP:20260425T101026
CREATED:20260107T025239Z
LAST-MODIFIED:20260107T030245Z
UID:10001602-1779710400-1779715800@www.111project.org
SUMMARY:Oklahoma County Together Virtual Community Gathering
DESCRIPTION:Register Here!\n\n\n\n\n\n\n\n\n\nJoin us for a collaboration of church and agency leaders in Oklahoma County connected through CarePortal with the mission of serving kids and families in our community! Community Gatherings are table conversations where we discuss open opportunities to serve\, ideas for deeper engagement and helpful connections and resourcing among friends.
URL:https://www.111project.org/activities/oklahoma-county-together-virtual-community-gathering/2026-05-25/
LOCATION:Oklahoma
CATEGORIES:Community Gatherings
ATTACH;FMTTYPE=image/png:https://www.111project.org/wp-content/uploads/2026/01/Oklahoma.png
ORGANIZER;CN="111Project":MAILTO:info@111project.org
END:VEVENT
BEGIN:VEVENT
DTSTART;TZID=America/Chicago:20260526T090000
DTEND;TZID=America/Chicago:20260526T101500
DTSTAMP:20260425T101026
CREATED:20260107T163146Z
LAST-MODIFIED:20260107T163236Z
UID:10001816-1779786000-1779790500@www.111project.org
SUMMARY:Lincoln County Community Gathering
DESCRIPTION:What is a Community Gathering? \n\n\n\nIn the simplest terms\, this is where you get to hear about what is happening in your community at a very local level and how you can be involved.  \n\n\n\nThese are regular meetings of church and agency leaders\, as well as community members\, who collaborate to support and advocate for children and families\, particularly through the CarePortal. \n\n\n\nThese gatherings provide a platform for sharing stories (both the good and the challenging)\, discussing local needs\, collaborating on resources\, developing strategies for family support\, and planning future actions for vulnerable children and families within each specific geographic community.
URL:https://www.111project.org/activities/lincoln-county-community-gathering-5/
LOCATION:2020 E 1st Street\, Chandler\, OK 74834\, 2020 E 1st St.\, Chandler\, Oklahoma\, 74834
CATEGORIES:Community Gatherings
ATTACH;FMTTYPE=image/png:https://www.111project.org/wp-content/uploads/2026/01/Lincoln-1.png
END:VEVENT
BEGIN:VEVENT
DTSTART;TZID=America/Chicago:20260526T120000
DTEND;TZID=America/Chicago:20260526T130000
DTSTAMP:20260425T101026
CREATED:20250922T205903Z
LAST-MODIFIED:20251112T192330Z
UID:10001332-1779796800-1779800400@www.111project.org
SUMMARY:LeFlore Community Gathering
DESCRIPTION:Hey\, all! Come join the OKDHS\, the Church\, and community members at the LeFlore County Community Gathering\, where we celebrate what we have done\, discuss what is being done\, and plan what can be done to end the child welfare crisis in LeFlore County.
URL:https://www.111project.org/activities/leflore-community-gathering-15/2026-05-26/
LOCATION:Oklahoma
CATEGORIES:Community Gatherings
END:VEVENT
BEGIN:VEVENT
DTSTART;TZID=America/Chicago:20260526T120000
DTEND;TZID=America/Chicago:20260526T131500
DTSTAMP:20260425T101026
CREATED:20260107T163600Z
LAST-MODIFIED:20260107T163648Z
UID:10001825-1779796800-1779801300@www.111project.org
SUMMARY:Okmulgee County Community Gathering
DESCRIPTION:What is a Community Gathering? \n\n\n\nIn the simplest terms\, this is where you get to hear about what is happening in your community at a very local level and how you can be involved.  \n\n\n\nThese are regular meetings of church and agency leaders\, as well as community members\, who collaborate to support and advocate for children and families\, particularly through the CarePortal. \n\n\n\nThese gatherings provide a platform for sharing stories (both the good and the challenging)\, discussing local needs\, collaborating on resources\, developing strategies for family support\, and planning future actions for vulnerable children and families within each specific geographic community.
URL:https://www.111project.org/activities/okmulgee-county-community-gathering-5/
LOCATION:3499 N. Wood Dr. Okmulgee\, OK 74447\, 3499 N Wood Dr\, Okmulgee\, Oklahoma\, 74447
CATEGORIES:Community Gatherings
ATTACH;FMTTYPE=image/png:https://www.111project.org/wp-content/uploads/2026/01/Okmulgee-1.png
END:VEVENT
BEGIN:VEVENT
DTSTART;TZID=America/Chicago:20260526T180000
DTEND;TZID=America/Chicago:20260526T191500
DTSTAMP:20260425T101026
CREATED:20260107T164422Z
LAST-MODIFIED:20260107T164430Z
UID:10001834-1779818400-1779822900@www.111project.org
SUMMARY:Creek County Community Gathering
DESCRIPTION:What is a Community Gathering? \n\n\n\nIn the simplest terms\, this is where you get to hear about what is happening in your community at a very local level and how you can be involved.  \n\n\n\nThese are regular meetings of church and agency leaders\, as well as community members\, who collaborate to support and advocate for children and families\, particularly through the CarePortal. \n\n\n\nThese gatherings provide a platform for sharing stories (both the good and the challenging)\, discussing local needs\, collaborating on resources\, developing strategies for family support\, and planning future actions for vulnerable children and families within each specific geographic community.
URL:https://www.111project.org/activities/creek-county-community-gathering-5/
LOCATION:801 E Dewey Ave. Sapulpa\, OK 74066\, 801 E Dewey Ave\, Oklahoma\, 74066
CATEGORIES:Community Gatherings
ATTACH;FMTTYPE=image/png:https://www.111project.org/wp-content/uploads/2026/01/Creek-1.png
END:VEVENT
BEGIN:VEVENT
DTSTART;TZID=America/Chicago:20260527T100000
DTEND;TZID=America/Chicago:20260527T113000
DTSTAMP:20260425T101026
CREATED:20260107T030813Z
LAST-MODIFIED:20260107T030816Z
UID:10001662-1779876000-1779881400@www.111project.org
SUMMARY:Canadian County Virtual Community Gathering
DESCRIPTION:Register Here!\n\n\n\n\n\n\n\n\n\nJoin us for a collaboration of church and agency leaders in Canadian County connected through CarePortal with the mission of serving kids and families in our community! Community Gatherings are table conversations where we discuss open opportunities to serve\, ideas for deeper engagement and helpful connections and resourcing among friends.
URL:https://www.111project.org/activities/canadian-county-virtual-community-gathering-2/2026-05-27/
LOCATION:Oklahoma
CATEGORIES:Community Gatherings
ATTACH;FMTTYPE=image/png:https://www.111project.org/wp-content/uploads/2026/01/Canadian.png
ORGANIZER;CN="111Project":MAILTO:info@111project.org
END:VEVENT
BEGIN:VEVENT
DTSTART;TZID=America/Chicago:20260527T120000
DTEND;TZID=America/Chicago:20260527T130000
DTSTAMP:20260425T101026
CREATED:20260225T160716Z
LAST-MODIFIED:20260225T160751Z
UID:10001537-1779883200-1779886800@www.111project.org
SUMMARY:Atoka & Coal Counties Community Gathering
DESCRIPTION:Register Here!\n\n\n\n\n\n\n\n\n\nJoin local church & community leaders with a heart for children & family welfare. We will pray\, pursue\, and work toward local solutions while making meaningful connections that last. Refreshments will be provided.
URL:https://www.111project.org/activities/atoka-coal-counties-community-gathering-7/2026-05-27/
LOCATION:Oklahoma
CATEGORIES:Community Gatherings
ATTACH;FMTTYPE=image/jpeg:https://www.111project.org/wp-content/uploads/2025/12/AtokaCoal-FEBRUARY.jpg
ORGANIZER;CN="111Project":MAILTO:info@111project.org
END:VEVENT
BEGIN:VEVENT
DTSTART;TZID=America/Chicago:20260528T100000
DTEND;TZID=America/Chicago:20260528T113000
DTSTAMP:20260425T101026
CREATED:20260212T012952Z
LAST-MODIFIED:20260212T012956Z
UID:10001915-1779962400-1779967800@www.111project.org
SUMMARY:Washington County Community Gathering
DESCRIPTION:Join local Church and Community Leaders with a heart for children and families! This will be a time of community collaboration\, as we work to come up with solutions and next steps! Invite someone you would like to see at the table! We hope to see you there! 
URL:https://www.111project.org/activities/washington-county-community-gathering-13/
LOCATION:The Refuge\, 1532 N Sunset Blvd\, Bartlesville\, Oklahoma\, United States
CATEGORIES:Community Gatherings
ATTACH;FMTTYPE=image/jpeg:https://www.111project.org/wp-content/uploads/2026/02/Washington.jpg
END:VEVENT
BEGIN:VEVENT
DTSTART;TZID=America/Chicago:20260528T120000
DTEND;TZID=America/Chicago:20260528T130000
DTSTAMP:20260425T101026
CREATED:20251231T175503Z
LAST-MODIFIED:20251231T175507Z
UID:10001548-1779969600-1779973200@www.111project.org
SUMMARY:Pontotoc County Community Gathering
DESCRIPTION:Register Here!\n\n\n\n\n\n\n\n\n\nHey\, all! Come join the OKDHS\, the Church\, and community members at our Community Gathering\, where we celebrate what we have done\, discuss what is being done\, and plan what can be done to end the child welfare crisis in Oklahoma.
URL:https://www.111project.org/activities/pontotoc-county-community-gathering-8/2026-05-28/
LOCATION:Oklahoma
CATEGORIES:Community Gatherings
ATTACH;FMTTYPE=image/png:https://www.111project.org/wp-content/uploads/2025/06/Pontotoc.png
ORGANIZER;CN="111Project":MAILTO:info@111project.org
END:VEVENT
BEGIN:VEVENT
DTSTART;TZID=America/Chicago:20260528T133000
DTEND;TZID=America/Chicago:20260528T150000
DTSTAMP:20260425T101026
CREATED:20260212T013211Z
LAST-MODIFIED:20260212T013217Z
UID:10001916-1779975000-1779980400@www.111project.org
SUMMARY:Osage Community Gathering
DESCRIPTION:Join local Church and Community Leaders with a heart for children and families! This will be a time of community collaboration\, as we work to come up with solutions and next steps! Invite someone you would like to see at the table! We hope to see you there! 
URL:https://www.111project.org/activities/osage-community-gathering-4/
LOCATION:Barnsdall Assembly of God\, 120 N. 3rd Street\, Barnsdall\, Oklahoma\, United States
CATEGORIES:Community Gatherings
ATTACH;FMTTYPE=image/jpeg:https://www.111project.org/wp-content/uploads/2026/02/Osage.jpg
END:VEVENT
BEGIN:VEVENT
DTSTART;TZID=America/Chicago:20260528T180000
DTEND;TZID=America/Chicago:20260528T193000
DTSTAMP:20260425T101026
CREATED:20260212T013452Z
LAST-MODIFIED:20260212T013457Z
UID:10001917-1779991200-1779996600@www.111project.org
SUMMARY:Pawnee County Community Gathering
DESCRIPTION:Join local Church and Community Leaders with a heart for children and families! This will be a time of community collaboration\, as we work to come up with solutions and next steps! Invite someone you would like to see at the table! We hope to see you there! 
URL:https://www.111project.org/activities/pawnee-county-community-gathering-14/
LOCATION:Church of the Nazarene Cleveland\, 104 E Wichita Ave\, Cleveland\, Oklahoma\, United States
CATEGORIES:Community Gatherings
ATTACH;FMTTYPE=image/jpeg:https://www.111project.org/wp-content/uploads/2026/02/Pawnee.jpg
END:VEVENT
BEGIN:VEVENT
DTSTART;TZID=America/Chicago:20260604T130000
DTEND;TZID=America/Chicago:20260604T140000
DTSTAMP:20260425T101026
CREATED:20251230T230312Z
LAST-MODIFIED:20251231T174812Z
UID:10001454-1780578000-1780581600@www.111project.org
SUMMARY:Pushmataha/ Choctaw County Community Gathering
DESCRIPTION:Register Here!\n\n\n\n\n\n\n\nHey\, all! Come join the OKDHS\, the Church\, and community members at our Community Gathering\, where we celebrate what we have done\, discuss what is being done\, and plan what can be done to end the child welfare crisis in Oklahoma.
URL:https://www.111project.org/activities/pushmataha-county-community-gathering-6/2026-06-04/
LOCATION:Oklahoma
CATEGORIES:Community Gatherings
ATTACH;FMTTYPE=image/png:https://www.111project.org/wp-content/uploads/2025/12/Mayes-FEBRUARY-7.png
ORGANIZER;CN="111Project":MAILTO:info@111project.org
END:VEVENT
BEGIN:VEVENT
DTSTART;TZID=America/Chicago:20260604T130000
DTEND;TZID=America/Chicago:20260604T143000
DTSTAMP:20260425T101026
CREATED:20260409T143939Z
LAST-MODIFIED:20260409T143943Z
UID:10002085-1780578000-1780583400@www.111project.org
SUMMARY:Tulsa County Community Gathering
DESCRIPTION:Join us for our June Tulsa Community Gathering. This is the best time to connect with other churches\, agencies and learn what is happening in Tulsa County.  \nWe cannot wait to see you!  \n\n\n\nRegister Here
URL:https://www.111project.org/activities/tulsa-county-community-gathering-3/
LOCATION:Oklahoma
CATEGORIES:Community Gatherings
ATTACH;FMTTYPE=image/png:https://www.111project.org/wp-content/uploads/2026/04/Tulsa-16.png
ORGANIZER;CN="111Project":MAILTO:info@111project.org
END:VEVENT
BEGIN:VEVENT
DTSTART;TZID=America/Chicago:20260609T130000
DTEND;TZID=America/Chicago:20260609T140000
DTSTAMP:20260425T101026
CREATED:20251231T173324Z
LAST-MODIFIED:20251231T173327Z
UID:10001527-1781010000-1781013600@www.111project.org
SUMMARY:Seminole & Hughes Counties Community Gathering
DESCRIPTION:Register Here!\n\n\n\n\n\n\n\n\n\nJoin local church & community leaders with a heart for children & family welfare. We will pray\, pursue\, and work toward local solutions while making meaningful connections that last. 
URL:https://www.111project.org/activities/seminole-hughes-counties-community-gathering-6/2026-06-09/
LOCATION:Oklahoma
CATEGORIES:Community Gatherings
ATTACH;FMTTYPE=image/png:https://www.111project.org/wp-content/uploads/2025/08/Seminole-1.png
ORGANIZER;CN="111Project":MAILTO:info@111project.org
END:VEVENT
BEGIN:VEVENT
DTSTART;TZID=America/Chicago:20260616T120000
DTEND;TZID=America/Chicago:20260616T130000
DTSTAMP:20260425T101026
CREATED:20251230T231923Z
LAST-MODIFIED:20251230T231926Z
UID:10001466-1781611200-1781614800@www.111project.org
SUMMARY:Pittsburg County Community Gathering
DESCRIPTION:Register Here!\n\n\n\n\n\n\n\nHey\, all! Come join the OKDHS\, the Church\, and community members at the Pittsburg County Community Gathering\, where we celebrate what we have done\, discuss what is being done\, and plan what can be done to end the child welfare crisis in Pittsburg County.
URL:https://www.111project.org/activities/pittsburg-county-community-gathering-21/2026-06-16/
LOCATION:Oklahoma
CATEGORIES:Community Gatherings
ATTACH;FMTTYPE=image/png:https://www.111project.org/wp-content/uploads/2025/08/Pittsburg-1.png
ORGANIZER;CN="111Project":MAILTO:info@111project.org
END:VEVENT
BEGIN:VEVENT
DTSTART;TZID=America/Chicago:20260618T133000
DTEND;TZID=America/Chicago:20260618T143000
DTSTAMP:20260425T101026
CREATED:20260407T215540Z
LAST-MODIFIED:20260407T215543Z
UID:10001987-1781789400-1781793000@www.111project.org
SUMMARY:Northeast OK County Community Gathering
DESCRIPTION:Location: Prospect Baptist Church \n\n\n\n2809 N Missouri Ave\, Oklahoma City\, OK 73111 \n\n\n\nJoin us for a regional collaboration of church and agency leaders connected through CarePortal with the mission of serving kids and families in our community! Community Gatherings are table conversations where we discuss open opportunities to serve\, ideas for deeper engagement\, and helpful connections and resourcing among friends. We would love to see you or a representative from your church there\, so please RSVP!
URL:https://www.111project.org/activities/northeast-ok-county-community-gathering-2/2026-06-18/
LOCATION:Oklahoma
CATEGORIES:Community Gatherings
END:VEVENT
BEGIN:VEVENT
DTSTART;TZID=America/Chicago:20260623T120000
DTEND;TZID=America/Chicago:20260623T130000
DTSTAMP:20260425T101026
CREATED:20250922T205903Z
LAST-MODIFIED:20251112T192330Z
UID:10001333-1782216000-1782219600@www.111project.org
SUMMARY:LeFlore Community Gathering
DESCRIPTION:Hey\, all! Come join the OKDHS\, the Church\, and community members at the LeFlore County Community Gathering\, where we celebrate what we have done\, discuss what is being done\, and plan what can be done to end the child welfare crisis in LeFlore County.
URL:https://www.111project.org/activities/leflore-community-gathering-15/2026-06-23/
LOCATION:Oklahoma
CATEGORIES:Community Gatherings
END:VEVENT
BEGIN:VEVENT
DTSTART;TZID=America/Chicago:20260624T120000
DTEND;TZID=America/Chicago:20260624T130000
DTSTAMP:20260425T101026
CREATED:20260225T160716Z
LAST-MODIFIED:20260225T160751Z
UID:10001538-1782302400-1782306000@www.111project.org
SUMMARY:Atoka & Coal Counties Community Gathering
DESCRIPTION:Register Here!\n\n\n\n\n\n\n\n\n\nJoin local church & community leaders with a heart for children & family welfare. We will pray\, pursue\, and work toward local solutions while making meaningful connections that last. Refreshments will be provided.
URL:https://www.111project.org/activities/atoka-coal-counties-community-gathering-7/2026-06-24/
LOCATION:Oklahoma
CATEGORIES:Community Gatherings
ATTACH;FMTTYPE=image/jpeg:https://www.111project.org/wp-content/uploads/2025/12/AtokaCoal-FEBRUARY.jpg
ORGANIZER;CN="111Project":MAILTO:info@111project.org
END:VEVENT
BEGIN:VEVENT
DTSTART;TZID=America/Chicago:20260625T100000
DTEND;TZID=America/Chicago:20260625T110000
DTSTAMP:20260425T101026
CREATED:20260407T222431Z
LAST-MODIFIED:20260407T230454Z
UID:10002049-1782381600-1782385200@www.111project.org
SUMMARY:Southeast OK County Community Gathering
DESCRIPTION:Location: Cornerstone Church  \n\n\n\n9900 SE 15th St\, Midwest City\, OK 73130 \n\n\n\nJoin us for a regional collaboration of church and agency leaders connected through CarePortal with the mission of serving kids and families in our community! Community Gatherings are table conversations where we discuss open opportunities to serve\, ideas for deeper engagement\, and helpful connections and resourcing among friends. We would love to see you or a representative from your church there\, so please RSVP!
URL:https://www.111project.org/activities/southeast-ok-county-community-gathering-2/2026-06-25/
LOCATION:Oklahoma
CATEGORIES:Community Gatherings
END:VEVENT
BEGIN:VEVENT
DTSTART;TZID=America/Chicago:20260625T120000
DTEND;TZID=America/Chicago:20260625T130000
DTSTAMP:20260425T101026
CREATED:20251231T175503Z
LAST-MODIFIED:20251231T175507Z
UID:10001549-1782388800-1782392400@www.111project.org
SUMMARY:Pontotoc County Community Gathering
DESCRIPTION:Register Here!\n\n\n\n\n\n\n\n\n\nHey\, all! Come join the OKDHS\, the Church\, and community members at our Community Gathering\, where we celebrate what we have done\, discuss what is being done\, and plan what can be done to end the child welfare crisis in Oklahoma.
URL:https://www.111project.org/activities/pontotoc-county-community-gathering-8/2026-06-25/
LOCATION:Oklahoma
CATEGORIES:Community Gatherings
ATTACH;FMTTYPE=image/png:https://www.111project.org/wp-content/uploads/2025/06/Pontotoc.png
ORGANIZER;CN="111Project":MAILTO:info@111project.org
END:VEVENT
BEGIN:VEVENT
DTSTART;TZID=America/Chicago:20260625T120000
DTEND;TZID=America/Chicago:20260625T130000
DTSTAMP:20260425T101026
CREATED:20260407T222206Z
LAST-MODIFIED:20260407T230359Z
UID:10002018-1782388800-1782392400@www.111project.org
SUMMARY:Southwest and Central OK County Community Gathering
DESCRIPTION:Where: Crossroads Church-South Entrance \n\n\n\n8901 S Shields Blvd\, Oklahoma City\, OK 73149 \n\n\n\nJoin us for a regional collaboration of church and agency leaders connected through CarePortal with the mission of serving kids and families in our community! Community Gatherings are table conversations where we discuss open opportunities to serve\, ideas for deeper engagement\, and helpful connections and resourcing among friends. We would love to see you or a representative from your church there\, so please RSVP!
URL:https://www.111project.org/activities/southwest-and-central-ok-county-community-gathering-2/2026-06-25/
LOCATION:Oklahoma
CATEGORIES:Community Gatherings
END:VEVENT
BEGIN:VEVENT
DTSTART;TZID=America/Chicago:20260702T090000
DTEND;TZID=America/Chicago:20260702T101500
DTSTAMP:20260425T101026
CREATED:20260106T212803Z
LAST-MODIFIED:20260106T212806Z
UID:10001575-1782982800-1782987300@www.111project.org
SUMMARY:Sequoyah County Community Gathering
DESCRIPTION:What is a Community Gathering? \n\n\n\nIn the simplest terms\, this is where you get to hear about what is happening in your community at a very local level and how you can be involved.  \n\n\n\nThese are regular meetings of church and agency leaders\, as well as community members\, who collaborate to support and advocate for children and families\, particularly through the CarePortal. \n\n\n\nThese gatherings provide a platform for sharing stories (both the good and the challenging)\, discussing local needs\, collaborating on resources\, developing strategies for family support\, and planning future actions for vulnerable children and families within each specific geographic community.
URL:https://www.111project.org/activities/sequoyah-county-community-gathering-6/
LOCATION:OKDHS OFFICE: 502 George Glenn Blvd\, Sallisaw\, OK 74955
CATEGORIES:Community Gatherings
ATTACH;FMTTYPE=image/png:https://www.111project.org/wp-content/uploads/2026/01/Sequoyah.png
END:VEVENT
BEGIN:VEVENT
DTSTART;TZID=America/Chicago:20260702T100000
DTEND;TZID=America/Chicago:20260702T113000
DTSTAMP:20260425T101026
CREATED:20260212T225340Z
LAST-MODIFIED:20260212T225344Z
UID:10001918-1782986400-1782991800@www.111project.org
SUMMARY:Mayes County Community Gathering
DESCRIPTION:Join local Church and Community Leaders with a heart for children and families! This will be a time of community collaboration\, as we work to come up with solutions and next steps! Invite someone you would like to see at the table! We hope to see you there! 
URL:https://www.111project.org/activities/mayes-county-community-gathering-5/
LOCATION:Heritage Cafe\, 1500 E. Graham Ave\, Pryor\, 74361\, United States
CATEGORIES:Community Gatherings
ATTACH;FMTTYPE=image/jpeg:https://www.111project.org/wp-content/uploads/2026/01/Mayes-1.jpg
END:VEVENT
BEGIN:VEVENT
DTSTART;TZID=America/Chicago:20260702T130000
DTEND;TZID=America/Chicago:20260702T140000
DTSTAMP:20260425T101026
CREATED:20251230T230312Z
LAST-MODIFIED:20251231T174812Z
UID:10001455-1782997200-1783000800@www.111project.org
SUMMARY:Pushmataha/ Choctaw County Community Gathering
DESCRIPTION:Register Here!\n\n\n\n\n\n\n\nHey\, all! Come join the OKDHS\, the Church\, and community members at our Community Gathering\, where we celebrate what we have done\, discuss what is being done\, and plan what can be done to end the child welfare crisis in Oklahoma.
URL:https://www.111project.org/activities/pushmataha-county-community-gathering-6/2026-07-02/
LOCATION:Oklahoma
CATEGORIES:Community Gatherings
ATTACH;FMTTYPE=image/png:https://www.111project.org/wp-content/uploads/2025/12/Mayes-FEBRUARY-7.png
ORGANIZER;CN="111Project":MAILTO:info@111project.org
END:VEVENT
BEGIN:VEVENT
DTSTART;TZID=America/Chicago:20260702T133000
DTEND;TZID=America/Chicago:20260702T150000
DTSTAMP:20260425T101026
CREATED:20260212T225453Z
LAST-MODIFIED:20260212T225457Z
UID:10001919-1782999000-1783004400@www.111project.org
SUMMARY:Delaware County Community Gathering
DESCRIPTION:Join local Church and Community Leaders with a heart for children and families! This will be a time of community collaboration\, as we work to come up with solutions and next steps! Invite someone you would like to see at the table! We hope to see you there! 
URL:https://www.111project.org/activities/delaware-county-community-gathering-4/
LOCATION:Abundant Hope\, 124 S Cherokee St\, Grove\, Oklahoma\, United States
CATEGORIES:Community Gatherings
ATTACH;FMTTYPE=image/jpeg:https://www.111project.org/wp-content/uploads/2026/02/Delaware.jpg
END:VEVENT
BEGIN:VEVENT
DTSTART;TZID=America/Chicago:20260702T140000
DTEND;TZID=America/Chicago:20260702T151500
DTSTAMP:20260425T101026
CREATED:20260106T213537Z
LAST-MODIFIED:20260106T213540Z
UID:10001583-1783000800-1783005300@www.111project.org
SUMMARY:Muskogee Community Gathering
DESCRIPTION:What is a Community Gathering? \n\n\n\nIn the simplest terms\, this is where you get to hear about what is happening in your community at a very local level and how you can be involved.  \n\n\n\nThese are regular meetings of church and agency leaders\, as well as community members\, who collaborate to support and advocate for children and families\, particularly through the CarePortal. \n\n\n\nThese gatherings provide a platform for sharing stories (both the good and the challenging)\, discussing local needs\, collaborating on resources\, developing strategies for family support\, and planning future actions for vulnerable children and families within each specific geographic community.
URL:https://www.111project.org/activities/muskogee-community-gathering-6/
LOCATION:Queen City Coffee: 109 N Main St. Muskogee\, OK 74401\, 109 N Main St.\, Muskogee\, Oklahoma\, 74401\, United States
CATEGORIES:Community Gatherings
ATTACH;FMTTYPE=image/png:https://www.111project.org/wp-content/uploads/2026/01/Muskogee.png
END:VEVENT
BEGIN:VEVENT
DTSTART;TZID=America/Chicago:20260702T180000
DTEND;TZID=America/Chicago:20260702T191500
DTSTAMP:20260425T101026
CREATED:20260106T215208Z
LAST-MODIFIED:20260107T182421Z
UID:10001594-1783015200-1783019700@www.111project.org
SUMMARY:Haskell County Community Gathering
DESCRIPTION:What is a Community Gathering? \n\n\n\nIn the simplest terms\, this is where you get to hear about what is happening in your community at a very local level and how you can be involved.  \n\n\n\nThese are regular meetings of church and agency leaders\, as well as community members\, who collaborate to support and advocate for children and families\, particularly through the CarePortal. \n\n\n\nThese gatherings provide a platform for sharing stories (both the good and the challenging)\, discussing local needs\, collaborating on resources\, developing strategies for family support\, and planning future actions for vulnerable children and families within each specific geographic community.
URL:https://www.111project.org/activities/haskell-county-community-gathering-6/
LOCATION:Taqueria El Amigo: 412 E Main St. Stigler\, OK 74462\, 412 E Main St.\, Stigler\, Oklahoma\, 74462\, United States
CATEGORIES:Community Gatherings
ATTACH;FMTTYPE=image/png:https://www.111project.org/wp-content/uploads/2026/01/Haskell.png
END:VEVENT
BEGIN:VEVENT
DTSTART;TZID=America/Chicago:20260702T180000
DTEND;TZID=America/Chicago:20260702T193000
DTSTAMP:20260425T101026
CREATED:20260212T225638Z
LAST-MODIFIED:20260212T225641Z
UID:10001920-1783015200-1783020600@www.111project.org
SUMMARY:Ottawa County Community Gathering
DESCRIPTION:Join local Church and Community Leaders with a heart for children and families! This will be a time of community collaboration\, as we work to come up with solutions and next steps! Invite someone you would like to see at the table! We hope to see you there!
URL:https://www.111project.org/activities/ottawa-county-community-gathering-5/
LOCATION:ReaLove INC\, 12 W CENTRAL AVE.\, Miami\, Oklahoma\, 74354\, United States
CATEGORIES:Community Gatherings
ATTACH;FMTTYPE=image/jpeg:https://www.111project.org/wp-content/uploads/2026/01/Ottawa-3.jpeg
END:VEVENT
END:VCALENDAR