BEGIN:VCALENDAR
VERSION:2.0
PRODID:-//111Project.org - ECPv6.15.18//NONSGML v1.0//EN
CALSCALE:GREGORIAN
METHOD:PUBLISH
X-WR-CALNAME:111Project.org
X-ORIGINAL-URL:https://www.111project.org
X-WR-CALDESC:Events for 111Project.org
REFRESH-INTERVAL;VALUE=DURATION:PT1H
X-Robots-Tag:noindex
X-PUBLISHED-TTL:PT1H
BEGIN:VTIMEZONE
TZID:America/Chicago
BEGIN:DAYLIGHT
TZOFFSETFROM:-0600
TZOFFSETTO:-0500
TZNAME:CDT
DTSTART:20240310T080000
END:DAYLIGHT
BEGIN:STANDARD
TZOFFSETFROM:-0500
TZOFFSETTO:-0600
TZNAME:CST
DTSTART:20241103T070000
END:STANDARD
BEGIN:DAYLIGHT
TZOFFSETFROM:-0600
TZOFFSETTO:-0500
TZNAME:CDT
DTSTART:20250309T080000
END:DAYLIGHT
BEGIN:STANDARD
TZOFFSETFROM:-0500
TZOFFSETTO:-0600
TZNAME:CST
DTSTART:20251102T070000
END:STANDARD
BEGIN:DAYLIGHT
TZOFFSETFROM:-0600
TZOFFSETTO:-0500
TZNAME:CDT
DTSTART:20260308T080000
END:DAYLIGHT
BEGIN:STANDARD
TZOFFSETFROM:-0500
TZOFFSETTO:-0600
TZNAME:CST
DTSTART:20261101T070000
END:STANDARD
END:VTIMEZONE
BEGIN:VEVENT
DTSTART;TZID=America/Chicago:20250625T100000
DTEND;TZID=America/Chicago:20250625T110000
DTSTAMP:20260425T052618
CREATED:20250122T224828Z
LAST-MODIFIED:20250404T052705Z
UID:10001093-1750845600-1750849200@www.111project.org
SUMMARY:Rogers County Community Gathering
DESCRIPTION:Register Here!\n\n\n\n\n\n\n\nJoin local church & community leaders with a heart for children & family welfare. We will pray\, pursue\, and work toward local solutions while making meaningful connections that last. Refreshments will be available for purchase.
URL:https://www.111project.org/activities/rogers-county-community-gathering-10/
CATEGORIES:Community Gatherings
ATTACH;FMTTYPE=image/png:https://www.111project.org/wp-content/uploads/2025/01/Rogers-JUNE-1.png
ORGANIZER;CN="111Project":MAILTO:info@111project.org
END:VEVENT
BEGIN:VEVENT
DTSTART;TZID=America/Chicago:20250625T120000
DTEND;TZID=America/Chicago:20250625T130000
DTSTAMP:20260425T052618
CREATED:20250606T212004Z
LAST-MODIFIED:20250606T212009Z
UID:10001236-1750852800-1750856400@www.111project.org
SUMMARY:Atoka & Coal Counties Community Gathering
DESCRIPTION:Register Here!\n\n\n\n\n\n\n\nJoin local church & community leaders with a heart for children & family welfare. We will pray\, pursue\, and work toward local solutions while making meaningful connections that last. Refreshments will be provided.
URL:https://www.111project.org/activities/atoka-coal-counties-community-gathering-2/
CATEGORIES:Community Gatherings
ATTACH;FMTTYPE=image/png:https://www.111project.org/wp-content/uploads/2025/06/Atoka.png
ORGANIZER;CN="111Project":MAILTO:info@111project.org
END:VEVENT
BEGIN:VEVENT
DTSTART;TZID=America/Chicago:20250626T120000
DTEND;TZID=America/Chicago:20250626T130000
DTSTAMP:20260425T052618
CREATED:20250606T211831Z
LAST-MODIFIED:20250606T211836Z
UID:10001237-1750939200-1750942800@www.111project.org
SUMMARY:Pontotoc County Community Gathering
DESCRIPTION:Register Here!\n\n\n\n\n\n\n\nHey\, all! Come join the OKDHS\, the Church\, and community members at our Community Gathering\, where we celebrate what we have done\, discuss what is being done\, and plan what can be done to end the child welfare crisis in Oklahoma.
URL:https://www.111project.org/activities/pontotoc-county-community-gathering-5/
CATEGORIES:Community Gatherings
ATTACH;FMTTYPE=image/png:https://www.111project.org/wp-content/uploads/2025/06/Pontotoc.png
ORGANIZER;CN="111Project":MAILTO:info@111project.org
END:VEVENT
BEGIN:VEVENT
DTSTART;TZID=America/Chicago:20250626T130000
DTEND;TZID=America/Chicago:20250626T143000
DTSTAMP:20260425T052618
CREATED:20250604T192855Z
LAST-MODIFIED:20250604T192859Z
UID:10001233-1750942800-1750948200@www.111project.org
SUMMARY:Pottawatomie County Community Gathering
DESCRIPTION:Register Here!\n\n\n\n\n\n\n\nJoin us as we collaborate together to see that EVERY child in Oklahoma has family! The Lord is using His Church to solve the Foster Care crisis; let’s do it together! Snacks will be provided.
URL:https://www.111project.org/activities/pottawatomie-county-community-gathering-22/
CATEGORIES:Community Gatherings
ATTACH;FMTTYPE=image/png:https://www.111project.org/wp-content/uploads/2025/06/Pottawatomie-June.png
ORGANIZER;CN="111Project":MAILTO:info@111project.org
END:VEVENT
BEGIN:VEVENT
DTSTART;TZID=America/Chicago:20250703T130000
DTEND;TZID=America/Chicago:20250703T140000
DTSTAMP:20260425T052618
CREATED:20250122T225945Z
LAST-MODIFIED:20250617T205259Z
UID:10001102-1751547600-1751551200@www.111project.org
SUMMARY:North Osage County Community Gathering
DESCRIPTION:Register Here!\n\n\n\n\n\n\n\nJoin local church & community leaders with a heart for children & family welfare. We will pray\, pursue\, and work toward local solutions while making meaningful connections that last. Refreshments will be available for purchase.
URL:https://www.111project.org/activities/north-osage-county-community-gathering-6/
CATEGORIES:Community Gatherings
ATTACH;FMTTYPE=image/png:https://www.111project.org/wp-content/uploads/2025/01/North-Osage-june-updated.png
ORGANIZER;CN="111Project":MAILTO:info@111project.org
END:VEVENT
BEGIN:VEVENT
DTSTART;TZID=America/Chicago:20250709T120000
DTEND;TZID=America/Chicago:20250709T133000
DTSTAMP:20260425T052618
CREATED:20250703T182023Z
LAST-MODIFIED:20250703T182026Z
UID:10001248-1752062400-1752067800@www.111project.org
SUMMARY:Sequoyah County Community Gathering
DESCRIPTION:Register Here!
URL:https://www.111project.org/activities/sequoyah-county-community-gathering-13/
CATEGORIES:Community Gatherings
END:VEVENT
BEGIN:VEVENT
DTSTART;TZID=America/Chicago:20250715T113000
DTEND;TZID=America/Chicago:20250715T130000
DTSTAMP:20260425T052618
CREATED:20250703T182503Z
LAST-MODIFIED:20250703T182506Z
UID:10001249-1752579000-1752584400@www.111project.org
SUMMARY:Okfuskee County Community Gathering
DESCRIPTION:Register Here!
URL:https://www.111project.org/activities/okfuskee-county-community-gathering-8/
CATEGORIES:Community Gatherings
END:VEVENT
BEGIN:VEVENT
DTSTART;TZID=America/Chicago:20250716T100000
DTEND;TZID=America/Chicago:20250716T110000
DTSTAMP:20260425T052618
CREATED:20250122T205942Z
LAST-MODIFIED:20250220T012426Z
UID:10001058-1752660000-1752663600@www.111project.org
SUMMARY:Pawnee County Community Gathering
DESCRIPTION:Register Here!\n\n\n\n\n\n\n\nJoin local church & community leaders with a heart for children & family welfare. We will pray\, pursue\, and work toward local solutions while making meaningful connections that last. Refreshments will be available for purchase.
URL:https://www.111project.org/activities/pawnee-county-community-gathering-8/
CATEGORIES:Community Gatherings
ATTACH;FMTTYPE=image/png:https://www.111project.org/wp-content/uploads/2025/01/Pawnee-JULY.png
ORGANIZER;CN="111Project":MAILTO:info@111project.org
END:VEVENT
BEGIN:VEVENT
DTSTART;TZID=America/Chicago:20250716T120000
DTEND;TZID=America/Chicago:20250716T123000
DTSTAMP:20260425T052618
CREATED:20250703T182847Z
LAST-MODIFIED:20250703T182850Z
UID:10001250-1752667200-1752669000@www.111project.org
SUMMARY:East Central Oklahoma Virtual Community Gathering
DESCRIPTION:Join Meeting Here!
URL:https://www.111project.org/activities/east-central-oklahoma-virtual-community-gathering-2/
CATEGORIES:Community Gatherings
END:VEVENT
BEGIN:VEVENT
DTSTART;TZID=America/Chicago:20250717T100000
DTEND;TZID=America/Chicago:20250717T110000
DTSTAMP:20260425T052618
CREATED:20250701T184815Z
LAST-MODIFIED:20250701T184818Z
UID:10001246-1752746400-1752750000@www.111project.org
SUMMARY:Northeast Oklahoma County Community Gathering
DESCRIPTION:Register Here
URL:https://www.111project.org/activities/northeast-oklahoma-county-community-gathering-11/
CATEGORIES:Community Gatherings
END:VEVENT
BEGIN:VEVENT
DTSTART;TZID=America/Chicago:20250717T100000
DTEND;TZID=America/Chicago:20250717T113000
DTSTAMP:20260425T052618
CREATED:20250708T205105Z
LAST-MODIFIED:20250708T205110Z
UID:10001253-1752746400-1752751800@www.111project.org
SUMMARY:Cleveland County Community Gathering
DESCRIPTION:Register Here!\n\n\n\n\n\n\n\nJoin us as we collaborate together to see that EVERY child in Oklahoma has family! The Lord is using His Church to solve the Foster Care crisis! Let’s do it together. Snacks will be provided.
URL:https://www.111project.org/activities/cleveland-county-community-gathering-26/
CATEGORIES:Community Gatherings
ATTACH;FMTTYPE=image/png:https://www.111project.org/wp-content/uploads/2025/07/Cleveland-July.png
ORGANIZER;CN="111Project":MAILTO:info@111project.org
END:VEVENT
BEGIN:VEVENT
DTSTART;TZID=America/Chicago:20250717T120000
DTEND;TZID=America/Chicago:20250717T130000
DTSTAMP:20260425T052618
CREATED:20250122T211217Z
LAST-MODIFIED:20250220T012453Z
UID:10001067-1752753600-1752757200@www.111project.org
SUMMARY:Ottawa County Community Gathering
DESCRIPTION:Register Here!\n\n\n\n\n\n\n\nJoin local church & community leaders with a heart for children & family welfare. We will pray\, pursue\, and work toward local solutions while making meaningful connections that last. Refreshments will be provided.
URL:https://www.111project.org/activities/ottawa-county-community-gathering-11/
CATEGORIES:Community Gatherings
ATTACH;FMTTYPE=image/png:https://www.111project.org/wp-content/uploads/2025/01/Ottawa-JULY.png
ORGANIZER;CN="111Project":MAILTO:info@111project.org
END:VEVENT
BEGIN:VEVENT
DTSTART;TZID=America/Chicago:20250717T130000
DTEND;TZID=America/Chicago:20250717T140000
DTSTAMP:20260425T052618
CREATED:20250701T184649Z
LAST-MODIFIED:20250701T184652Z
UID:10001245-1752757200-1752760800@www.111project.org
SUMMARY:Northwest Oklahoma County Community Gathering
DESCRIPTION:Register Here!
URL:https://www.111project.org/activities/northwest-oklahoma-county-community-gathering-13/
CATEGORIES:Community Gatherings
END:VEVENT
BEGIN:VEVENT
DTSTART;TZID=America/Chicago:20250722T120000
DTEND;TZID=America/Chicago:20250722T133000
DTSTAMP:20260425T052618
CREATED:20250626T195706Z
LAST-MODIFIED:20250626T195709Z
UID:10001244-1753185600-1753191000@www.111project.org
SUMMARY:Kay County Community Gathering
DESCRIPTION:Register Here!\n\n\n\n\n\n\n\nJoin us for our next Community Gathering with DHS\, local church leaders\, and other agency and community members with a heart for child and family welfare. We will discuss local resources and needs including CarePortal. Food will be provided. 
URL:https://www.111project.org/activities/kay-county-community-gathering-10/
CATEGORIES:Community Gatherings
ATTACH;FMTTYPE=image/png:https://www.111project.org/wp-content/uploads/2025/06/Kay-2.png
ORGANIZER;CN="111Project":MAILTO:info@111project.org
END:VEVENT
BEGIN:VEVENT
DTSTART;TZID=America/Chicago:20250722T120000
DTEND;TZID=America/Chicago:20250722T133000
DTSTAMP:20260425T052618
CREATED:20250703T183147Z
LAST-MODIFIED:20250703T183150Z
UID:10001251-1753185600-1753191000@www.111project.org
SUMMARY:Cherokee County Community Gathering
DESCRIPTION:Register Here!
URL:https://www.111project.org/activities/cherokee-county-community-gathering-13/
CATEGORIES:Community Gatherings
END:VEVENT
BEGIN:VEVENT
DTSTART;TZID=America/Chicago:20250723T100000
DTEND;TZID=America/Chicago:20250723T110000
DTSTAMP:20260425T052618
CREATED:20250122T193621Z
LAST-MODIFIED:20250220T012523Z
UID:10001030-1753264800-1753268400@www.111project.org
SUMMARY:Washington County Community Gathering
DESCRIPTION:Register Here!\n\n\n\n\n\n\n\nJoin local church & community leaders with a heart for children & family welfare. We will pray\, pursue\, and work toward local solutions while making meaningful connections that last. Refreshments will be provided.
URL:https://www.111project.org/activities/washington-county-community-gathering-6/
CATEGORIES:Community Gatherings
ATTACH;FMTTYPE=image/png:https://www.111project.org/wp-content/uploads/2025/01/Washington-JULY.png
ORGANIZER;CN="111Project":MAILTO:info@111project.org
END:VEVENT
BEGIN:VEVENT
DTSTART;TZID=America/Chicago:20250723T130000
DTEND;TZID=America/Chicago:20250723T140000
DTSTAMP:20260425T052618
CREATED:20250122T203245Z
LAST-MODIFIED:20250220T012548Z
UID:10001039-1753275600-1753279200@www.111project.org
SUMMARY:Nowata County Community Gathering
DESCRIPTION:Register Here!\n\n\n\n\n\n\n\nJoin local church & community leaders with a heart for children & family welfare. We will pray\, pursue\, and work toward local solutions while making meaningful connections that last. Refreshments will be available for purchase.
URL:https://www.111project.org/activities/nowata-county-community-gathering-6/
CATEGORIES:Community Gatherings
ATTACH;FMTTYPE=image/png:https://www.111project.org/wp-content/uploads/2025/01/Nowata-JULY.png
ORGANIZER;CN="111Project":MAILTO:info@111project.org
END:VEVENT
BEGIN:VEVENT
DTSTART;TZID=America/Chicago:20250724T063000
DTEND;TZID=America/Chicago:20250724T194500
DTSTAMP:20260425T052618
CREATED:20250703T183525Z
LAST-MODIFIED:20250703T183529Z
UID:10001252-1753338600-1753386300@www.111project.org
SUMMARY:Wagoner County Community Gathering
DESCRIPTION:Register Here!
URL:https://www.111project.org/activities/wagoner-county-community-gathering-16/
CATEGORIES:Community Gatherings
END:VEVENT
BEGIN:VEVENT
DTSTART;TZID=America/Chicago:20250724T100000
DTEND;TZID=America/Chicago:20250724T110000
DTSTAMP:20260425T052618
CREATED:20250122T204456Z
LAST-MODIFIED:20250220T012622Z
UID:10001048-1753351200-1753354800@www.111project.org
SUMMARY:Delaware County Community Gathering
DESCRIPTION:Register Here!\n\n\n\n\n\n\n\nJoin local church & community leaders with a heart for children & family welfare. We will pray\, pursue\, and work toward local solutions while making meaningful connections that last. Refreshments will be available.
URL:https://www.111project.org/activities/delaware-county-community-gathering-11/
CATEGORIES:Community Gatherings
ATTACH;FMTTYPE=image/png:https://www.111project.org/wp-content/uploads/2025/01/Delaware-JULY.png
ORGANIZER;CN="111Project":MAILTO:info@111project.org
END:VEVENT
BEGIN:VEVENT
DTSTART;TZID=America/Chicago:20250724T100000
DTEND;TZID=America/Chicago:20250724T110000
DTSTAMP:20260425T052618
CREATED:20250701T185001Z
LAST-MODIFIED:20250722T150634Z
UID:10001247-1753351200-1753354800@www.111project.org
SUMMARY:Southeast Oklahoma County Community Gathering
DESCRIPTION:  \n\n\n\n\nRegister Here!
URL:https://www.111project.org/activities/southeast-oklahoma-county-community-gathering-17/
CATEGORIES:Community Gatherings
END:VEVENT
BEGIN:VEVENT
DTSTART;TZID=America/Chicago:20250724T130000
DTEND;TZID=America/Chicago:20250724T143000
DTSTAMP:20260425T052618
CREATED:20250708T211146Z
LAST-MODIFIED:20250708T211150Z
UID:10001254-1753362000-1753367400@www.111project.org
SUMMARY:Pottawatomie County Community Gathering
DESCRIPTION:Register Here!\n\n\n\n\n\n\n\nJoin us as we collaborate together to see that EVERY child in Oklahoma has family! The Lord is using His Church to solve the Foster Care crisis; let’s do it together! Snacks will be provided.
URL:https://www.111project.org/activities/pottawatomie-county-community-gathering-23/
CATEGORIES:Community Gatherings
ATTACH;FMTTYPE=image/png:https://www.111project.org/wp-content/uploads/2025/07/Pottawatomie-July.png
ORGANIZER;CN="111Project":MAILTO:info@111project.org
END:VEVENT
BEGIN:VEVENT
DTSTART;TZID=America/Chicago:20250729T100000
DTEND;TZID=America/Chicago:20250729T110000
DTSTAMP:20260425T052618
CREATED:20250709T193557Z
LAST-MODIFIED:20250709T193600Z
UID:10001255-1753783200-1753786800@www.111project.org
SUMMARY:Edmond Community Gathering
DESCRIPTION:Register Here!\n\n\n\n\n\n\n\nJoin us for a collaboration of church and agency leaders in Canadian County connected through CarePortal with the mission of serving kids and families in our community! Community Gatherings are table conversations where we discuss open opportunities to serve\, ideas for deeper engagement and helpful connections and resourcing among friends.
URL:https://www.111project.org/activities/edmond-community-gathering/
CATEGORIES:Community Gatherings
ATTACH;FMTTYPE=image/png:https://www.111project.org/wp-content/uploads/2025/07/Edmond.png
ORGANIZER;CN="111Project":MAILTO:info@111project.org
END:VEVENT
BEGIN:VEVENT
DTSTART;TZID=America/Chicago:20250730T100000
DTEND;TZID=America/Chicago:20250730T110000
DTSTAMP:20260425T052618
CREATED:20250122T224938Z
LAST-MODIFIED:20250404T052737Z
UID:10001094-1753869600-1753873200@www.111project.org
SUMMARY:Rogers County Community Gathering
DESCRIPTION:Register Here!\n\n\n\n\n\n\n\nJoin local church & community leaders with a heart for children & family welfare. We will pray\, pursue\, and work toward local solutions while making meaningful connections that last. Refreshments will be available for purchase.
URL:https://www.111project.org/activities/rogers-county-community-gathering-11/
CATEGORIES:Community Gatherings
ATTACH;FMTTYPE=image/png:https://www.111project.org/wp-content/uploads/2025/01/Rogers-JULY-1.png
ORGANIZER;CN="111Project":MAILTO:info@111project.org
END:VEVENT
BEGIN:VEVENT
DTSTART;TZID=America/Chicago:20250731T130000
DTEND;TZID=America/Chicago:20250731T140000
DTSTAMP:20260425T052618
CREATED:20250122T230046Z
LAST-MODIFIED:20250220T013616Z
UID:10001103-1753966800-1753970400@www.111project.org
SUMMARY:North Osage County Community Gathering
DESCRIPTION:Register Here!\n\n\n\n\n\n\n\nJoin local church & community leaders with a heart for children & family welfare. We will pray\, pursue\, and work toward local solutions while making meaningful connections that last. Refreshments will be available for purchase.
URL:https://www.111project.org/activities/north-osage-county-community-gathering-7/
CATEGORIES:Community Gatherings
ATTACH;FMTTYPE=image/png:https://www.111project.org/wp-content/uploads/2025/01/North-Osage-JULY.png
ORGANIZER;CN="111Project":MAILTO:info@111project.org
END:VEVENT
BEGIN:VEVENT
DTSTART;TZID=America/Chicago:20250731T163000
DTEND;TZID=America/Chicago:20250731T173000
DTSTAMP:20260425T052618
CREATED:20250728T003917Z
LAST-MODIFIED:20250728T003921Z
UID:10001279-1753979400-1753983000@www.111project.org
SUMMARY:Grant County Community Gathering
DESCRIPTION:Register Here!\n\n\n\n\n\n\n\nJoin us for our next Community Gathering with DHS\, local church leaders\, and other agency and community members with a heart for child and family welfare. We will discuss local resources and needs including CarePortal. Dinner will be provided. 
URL:https://www.111project.org/activities/grant-county-community-gathering-11/
CATEGORIES:Community Gatherings
ATTACH;FMTTYPE=image/png:https://www.111project.org/wp-content/uploads/2025/07/Grant.png
ORGANIZER;CN="111Project":MAILTO:info@111project.org
END:VEVENT
BEGIN:VEVENT
DTSTART;TZID=America/Chicago:20250801T090000
DTEND;TZID=America/Chicago:20250801T101500
DTSTAMP:20260425T052618
CREATED:20250717T220037Z
LAST-MODIFIED:20250717T220040Z
UID:10001256-1754038800-1754043300@www.111project.org
SUMMARY:Creek County Community Gathering
DESCRIPTION:Register Here!\n\n\n\n\n\n\n\nJoin local church & community leaders with a heart for children & family welfare. We will pray\, pursue\, and work toward local solutions while making meaningful connections that last. Donuts & coffee will be provided.
URL:https://www.111project.org/activities/creek-county-community-gathering-15/
CATEGORIES:Community Gatherings
ATTACH;FMTTYPE=image/png:https://www.111project.org/wp-content/uploads/2025/07/Creek.png
ORGANIZER;CN="111Project":MAILTO:info@111project.org
END:VEVENT
BEGIN:VEVENT
DTSTART;TZID=America/Chicago:20250803T140000
DTEND;TZID=America/Chicago:20250803T144000
DTSTAMP:20260425T052618
CREATED:20250718T185604Z
LAST-MODIFIED:20250718T190236Z
UID:10001259-1754229600-1754232000@www.111project.org
SUMMARY:East Central Oklahoma Virtual Community Gathering
DESCRIPTION:Register Here!\n\n\n\n\n\n\n\nJoin us for our next Community Gathering with DHS\, local church leaders\, and other agency and community members with a heart for child and family welfare. We will discuss local resources and needs including CarePortal.
URL:https://www.111project.org/activities/east-central-oklahoma-virtual-community-gathering-3/
CATEGORIES:Community Gatherings
ATTACH;FMTTYPE=image/png:https://www.111project.org/wp-content/uploads/2025/07/East-Central-OK-Virtual.png
ORGANIZER;CN="111Project":MAILTO:info@111project.org
END:VEVENT
BEGIN:VEVENT
DTSTART;TZID=America/Chicago:20250805T100000
DTEND;TZID=America/Chicago:20250805T110000
DTSTAMP:20260425T052618
CREATED:20250725T164531Z
LAST-MODIFIED:20250725T165126Z
UID:10001277-1754388000-1754391600@www.111project.org
SUMMARY:Carter/Love Community Gathering August 2025
DESCRIPTION:Register Here!\n\n\n\n\n\n\n\n\n\nJoin us for our next Community Gathering with DHS\, local church leaders\, and other agency and community members with a heart for child and family welfare. We will discuss local resources and needs including CarePortal.
URL:https://www.111project.org/activities/carter-love-community-gathering-august-2025/
CATEGORIES:Community Gatherings
ATTACH;FMTTYPE=image/jpeg:https://www.111project.org/wp-content/uploads/2025/07/CarterLove-Community-Gathering-August-2025-4.jpg
ORGANIZER;CN="111Project":MAILTO:info@111project.org
END:VEVENT
BEGIN:VEVENT
DTSTART;TZID=America/Chicago:20250806T093000
DTEND;TZID=America/Chicago:20250806T104500
DTSTAMP:20260425T052618
CREATED:20250718T185306Z
LAST-MODIFIED:20250718T185309Z
UID:10001258-1754472600-1754477100@www.111project.org
SUMMARY:Adair County Community Gathering
DESCRIPTION:Register Here!\n\n\n\n\n\n\n\nJoin us for our next Community Gathering with DHS\, local church leaders\, and other agency and community members with a heart for child and family welfare. We will discuss local resources and needs including CarePortal. Coffee & donuts will be provided.
URL:https://www.111project.org/activities/adair-county-community-gathering-13/
CATEGORIES:Community Gatherings
ATTACH;FMTTYPE=image/png:https://www.111project.org/wp-content/uploads/2025/07/Adair.png
ORGANIZER;CN="111Project":MAILTO:info@111project.org
END:VEVENT
BEGIN:VEVENT
DTSTART;TZID=America/Chicago:20250806T100000
DTEND;TZID=America/Chicago:20250806T110000
DTSTAMP:20260425T052618
CREATED:20250122T223350Z
LAST-MODIFIED:20250220T013645Z
UID:10001085-1754474400-1754478000@www.111project.org
SUMMARY:Mayes County Community Gathering
DESCRIPTION:Register Here!\n\n\n\n\n\n\n\nJoin local church & community leaders with a heart for children & family welfare. We will pray\, pursue\, and work toward local solutions while making meaningful connections that last. Refreshments will be available for purchase.
URL:https://www.111project.org/activities/mayes-county-community-gathering-13/
CATEGORIES:Community Gatherings
ATTACH;FMTTYPE=image/png:https://www.111project.org/wp-content/uploads/2025/01/Mayes-AUGUST.png
ORGANIZER;CN="111Project":MAILTO:info@111project.org
END:VEVENT
END:VCALENDAR