BEGIN:VCALENDAR
VERSION:2.0
PRODID:-//111Project.org - ECPv6.15.18//NONSGML v1.0//EN
CALSCALE:GREGORIAN
METHOD:PUBLISH
X-WR-CALNAME:111Project.org
X-ORIGINAL-URL:https://www.111project.org
X-WR-CALDESC:Events for 111Project.org
REFRESH-INTERVAL;VALUE=DURATION:PT1H
X-Robots-Tag:noindex
X-PUBLISHED-TTL:PT1H
BEGIN:VTIMEZONE
TZID:America/Chicago
BEGIN:DAYLIGHT
TZOFFSETFROM:-0600
TZOFFSETTO:-0500
TZNAME:CDT
DTSTART:20240310T080000
END:DAYLIGHT
BEGIN:STANDARD
TZOFFSETFROM:-0500
TZOFFSETTO:-0600
TZNAME:CST
DTSTART:20241103T070000
END:STANDARD
BEGIN:DAYLIGHT
TZOFFSETFROM:-0600
TZOFFSETTO:-0500
TZNAME:CDT
DTSTART:20250309T080000
END:DAYLIGHT
BEGIN:STANDARD
TZOFFSETFROM:-0500
TZOFFSETTO:-0600
TZNAME:CST
DTSTART:20251102T070000
END:STANDARD
BEGIN:DAYLIGHT
TZOFFSETFROM:-0600
TZOFFSETTO:-0500
TZNAME:CDT
DTSTART:20260308T080000
END:DAYLIGHT
BEGIN:STANDARD
TZOFFSETFROM:-0500
TZOFFSETTO:-0600
TZNAME:CST
DTSTART:20261101T070000
END:STANDARD
BEGIN:DAYLIGHT
TZOFFSETFROM:-0600
TZOFFSETTO:-0500
TZNAME:CDT
DTSTART:20270314T080000
END:DAYLIGHT
BEGIN:STANDARD
TZOFFSETFROM:-0500
TZOFFSETTO:-0600
TZNAME:CST
DTSTART:20271107T070000
END:STANDARD
END:VTIMEZONE
BEGIN:VEVENT
DTSTART;TZID=America/Chicago:20260414T170000
DTEND;TZID=America/Chicago:20260414T180000
DTSTAMP:20260424T101242
CREATED:20260107T153719Z
LAST-MODIFIED:20260107T153723Z
UID:10001777-1776186000-1776189600@www.111project.org
SUMMARY:Ask Me Anything: Early Evening Edition
DESCRIPTION:Ask me anything \n\n\n\nHave questions about how you\, your church\, business\, civic group or friends can get engaged with helping children in your community and across the state? Need help navigating the CarePortal Platform? Are you looking for a local resource to help a family you know? This is a “come and go” online time\, so hop on anytime during this time and Ask Me!
URL:https://www.111project.org/activities/ask-me-anything-early-evening-edition-4/
CATEGORIES:Information Meetings
ATTACH;FMTTYPE=image/png:https://www.111project.org/wp-content/uploads/2026/01/AMA-Evening-Edition.png
END:VEVENT
BEGIN:VEVENT
DTSTART;TZID=America/Chicago:20260410T100000
DTEND;TZID=America/Chicago:20260410T110000
DTSTAMP:20260424T101242
CREATED:20260107T142847Z
LAST-MODIFIED:20260107T142910Z
UID:10001692-1775815200-1775818800@www.111project.org
SUMMARY:Ask Me Anything: Mid-Morning Edition
DESCRIPTION:Have questions about how you\, your church\, business\, civic group or friends can get engaged with helping children in your community and across the state? Need help navigating the CarePortal Platform? Are you looking for a local resource to help a family you know? This is a “come and go” online time\, so hop on anytime during this time and Ask Me!
URL:https://www.111project.org/activities/ask-me-anything-mid-morning-edition-4/
CATEGORIES:Information Meetings
ATTACH;FMTTYPE=image/png:https://www.111project.org/wp-content/uploads/2026/01/15.png
END:VEVENT
BEGIN:VEVENT
DTSTART;TZID=America/Chicago:20260324T170000
DTEND;TZID=America/Chicago:20260324T180000
DTSTAMP:20260424T101242
CREATED:20260107T153637Z
LAST-MODIFIED:20260107T153645Z
UID:10001776-1774371600-1774375200@www.111project.org
SUMMARY:Ask Me Anything: Early Evening Edition
DESCRIPTION:Ask me anything \n\n\n\nHave questions about how you\, your church\, business\, civic group or friends can get engaged with helping children in your community and across the state? Need help navigating the CarePortal Platform? Are you looking for a local resource to help a family you know? This is a “come and go” online time\, so hop on anytime during this time and Ask Me!
URL:https://www.111project.org/activities/ask-me-anything-early-evening-edition-3/
CATEGORIES:Information Meetings
ATTACH;FMTTYPE=image/png:https://www.111project.org/wp-content/uploads/2026/01/AMA-Evening-Edition.png
END:VEVENT
BEGIN:VEVENT
DTSTART;TZID=America/Chicago:20260324T100000
DTEND;TZID=America/Chicago:20260324T110000
DTSTAMP:20260424T101242
CREATED:20260303T023039Z
LAST-MODIFIED:20260303T023547Z
UID:10001975-1774346400-1774350000@www.111project.org
SUMMARY:OK County Deep Dive Session: Serving Foster Families in Your Church
DESCRIPTION:Join us for a 1-hour virtual session with more information on the Promise 686 program to support foster families in your church!
URL:https://www.111project.org/activities/ok-county-deep-dive-session-serving-foster-families-in-your-church/
CATEGORIES:Information Meetings
ATTACH;FMTTYPE=image/png:https://www.111project.org/wp-content/uploads/2026/02/OKC-DEEP-DIVE-SESSIONS-1.png
END:VEVENT
BEGIN:VEVENT
DTSTART;TZID=America/Chicago:20260312T120000
DTEND;TZID=America/Chicago:20260312T130000
DTSTAMP:20260424T101242
CREATED:20260203T020057Z
LAST-MODIFIED:20260303T020709Z
UID:10001873-1773316800-1773320400@www.111project.org
SUMMARY:OK County Deep Dive Session: Heritage Builders
DESCRIPTION:Join us for a 1-hour virtual session with more information on the Heritage Builders Program.  \n\n\n\nLife Skills EducationChurches host life skills classes that teach biblically grounded\, practical skills — such as money management\, job preparation\, healthy relationships\, and daily living — helping youth build confidence and readiness for independent life.
URL:https://www.111project.org/activities/ok-county-deep-dive-session-heritage-builders/
CATEGORIES:Information Meetings
ATTACH;FMTTYPE=image/png:https://www.111project.org/wp-content/uploads/2026/02/OKC-DEEP-DIVE-SESSIONS-1.png
END:VEVENT
BEGIN:VEVENT
DTSTART;TZID=America/Chicago:20260306T100000
DTEND;TZID=America/Chicago:20260306T110000
DTSTAMP:20260424T101242
CREATED:20260107T142817Z
LAST-MODIFIED:20260107T142845Z
UID:10001691-1772791200-1772794800@www.111project.org
SUMMARY:Ask Me Anything: Mid-Morning Edition
DESCRIPTION:Have questions about how you\, your church\, business\, civic group or friends can get engaged with helping children in your community and across the state? Need help navigating the CarePortal Platform? Are you looking for a local resource to help a family you know? This is a “come and go” online time\, so hop on anytime during this time and Ask Me!
URL:https://www.111project.org/activities/ask-me-anything-mid-morning-edition-3/
CATEGORIES:Information Meetings
ATTACH;FMTTYPE=image/png:https://www.111project.org/wp-content/uploads/2026/01/15.png
END:VEVENT
BEGIN:VEVENT
DTSTART;TZID=America/Chicago:20260217T170000
DTEND;TZID=America/Chicago:20260217T180000
DTSTAMP:20260424T101242
CREATED:20260107T153622Z
LAST-MODIFIED:20260107T153643Z
UID:10001775-1771347600-1771351200@www.111project.org
SUMMARY:Ask Me Anything: Early Evening Edition
DESCRIPTION:Ask me anything \n\n\n\nHave questions about how you\, your church\, business\, civic group or friends can get engaged with helping children in your community and across the state? Need help navigating the CarePortal Platform? Are you looking for a local resource to help a family you know? This is a “come and go” online time\, so hop on anytime during this time and Ask Me!
URL:https://www.111project.org/activities/ask-me-anything-early-evening-edition-2/
CATEGORIES:Information Meetings
ATTACH;FMTTYPE=image/png:https://www.111project.org/wp-content/uploads/2026/01/AMA-Evening-Edition.png
END:VEVENT
BEGIN:VEVENT
DTSTART;TZID=America/Chicago:20260211T120000
DTEND;TZID=America/Chicago:20260211T130000
DTSTAMP:20260424T101242
CREATED:20260202T170117Z
LAST-MODIFIED:20260203T020515Z
UID:10001872-1770811200-1770814800@www.111project.org
SUMMARY:Oklahoma County Deep Dive Session: CarePortal for Small Groups
DESCRIPTION:Join fellow church leaders and pastors for a focused\, one-hour session designed to help you mobilize small groups for meaningful\, gospel-centered impact.  \n\n\n\nWe’ll explore practical pathways for engagement\, leadership considerations\, communication tools\, and how to create a sustainable response model within your small group ministry. The session also includes time for discussion\, shared learning\, and prayer as we consider how the Church can faithfully care for vulnerable families together. \n\n\n\nWhether your church is new to CarePortal or ready to deepen involvement\, this gathering will give you tools for engaging small groups in local ministry to children and families.
URL:https://www.111project.org/activities/oklahoma-county-deep-dive-session-careportal-for-small-groups/
CATEGORIES:Information Meetings
END:VEVENT
BEGIN:VEVENT
DTSTART;TZID=America/Chicago:20260206T100000
DTEND;TZID=America/Chicago:20260206T110000
DTSTAMP:20260424T101242
CREATED:20260107T142708Z
LAST-MODIFIED:20260107T142748Z
UID:10001690-1770372000-1770375600@www.111project.org
SUMMARY:Ask Me Anything: Mid-Morning Edition
DESCRIPTION:Have questions about how you\, your church\, business\, civic group or friends can get engaged with helping children in your community and across the state? Need help navigating the CarePortal Platform? Are you looking for a local resource to help a family you know? This is a “come and go” online time\, so hop on anytime during this time and Ask Me!
URL:https://www.111project.org/activities/ask-me-anything-mid-morning-edition-2/
CATEGORIES:Information Meetings
ATTACH;FMTTYPE=image/png:https://www.111project.org/wp-content/uploads/2026/01/15.png
END:VEVENT
BEGIN:VEVENT
DTSTART;TZID=America/Chicago:20260120T170000
DTEND;TZID=America/Chicago:20260120T180000
DTSTAMP:20260424T101242
CREATED:20260106T203748Z
LAST-MODIFIED:20260106T203753Z
UID:10001565-1768928400-1768932000@www.111project.org
SUMMARY:Ask Me Anything: Early Evening Edition
DESCRIPTION:Ask me anything \n\n\n\nHave questions about how you\, your church\, business\, civic group or friends can get engaged with helping children in your community and across the state? Need help navigating the CarePortal Platform? Are you looking for a local resource to help a family you know? This is a “come and go” online time\, so hop on anytime during this time and Ask Me!
URL:https://www.111project.org/activities/ask-me-anything-early-evening-edition/
CATEGORIES:Information Meetings
ATTACH;FMTTYPE=image/png:https://www.111project.org/wp-content/uploads/2026/01/AMA-Evening-Edition.png
END:VEVENT
BEGIN:VEVENT
DTSTART;TZID=America/Chicago:20260116T090000
DTEND;TZID=America/Chicago:20260116T101500
DTSTAMP:20260424T101242
CREATED:20260106T205839Z
LAST-MODIFIED:20260106T205844Z
UID:10001567-1768554000-1768558500@www.111project.org
SUMMARY:111Project / CarePortal Virtual Info Meeting
DESCRIPTION:Join us for a virtual presentation as well as a short Q & A session on who 111Project is\, who we serve\, and how your church\, business or organization can join them in serving vulnerable children and families in your local community through CarePortal and other networking resources!
URL:https://www.111project.org/activities/111project-careportal-virtual-info-meeting/
CATEGORIES:Information Meetings
ATTACH;FMTTYPE=image/png:https://www.111project.org/wp-content/uploads/2026/01/Coweta-BA-Info-Gathering.png
END:VEVENT
BEGIN:VEVENT
DTSTART;TZID=America/Chicago:20260109T100000
DTEND;TZID=America/Chicago:20260109T110000
DTSTAMP:20260424T101242
CREATED:20260105T155524Z
LAST-MODIFIED:20260106T203909Z
UID:10001559-1767952800-1767956400@www.111project.org
SUMMARY:Ask Me Anything: Mid-Morning Edition
DESCRIPTION:Have questions about how you\, your church\, business\, civic group or friends can get engaged with helping children in your community and across the state? Need help navigating the CarePortal Platform? Are you looking for a local resource to help a family you know? This is a “come and go” online time\, so hop on anytime during this time and Ask Me!
URL:https://www.111project.org/activities/ask-me-anything-mid-morning-edition/
CATEGORIES:Information Meetings
ATTACH;FMTTYPE=image/png:https://www.111project.org/wp-content/uploads/2026/01/15.png
END:VEVENT
BEGIN:VEVENT
DTSTART;TZID=America/Chicago:20251120T120000
DTEND;TZID=America/Chicago:20251120T130000
DTSTAMP:20260424T101242
CREATED:20251017T010050Z
LAST-MODIFIED:20251112T162713Z
UID:10001422-1763640000-1763643600@www.111project.org
SUMMARY:Beckham County Church Meeting
DESCRIPTION:12 P.M. Info Meeting\n\n\n\n\n\n\n\nBeckham County CarePortal\nLaunch Year: November 2023Community Coordinator: Kara Click & Amanda ClickRegional Manager: Rita Blumer \nWe are so thankful for all of our CarePortal Churches supporting children and families in crisis across Beckham County.Together\, we’re making a real difference—connecting local needs with local churches who care. \nWe’re excited to celebrate the impact of Beckham County’s churches and families alongside all the Beckham County CarePortal Churches. Thank you for the opportunity to share information and join you and your church family in serving kids and families in need.
URL:https://www.111project.org/activities/beckham-county-church-meeting-2/
CATEGORIES:Information Meetings
ATTACH;FMTTYPE=image/png:https://www.111project.org/wp-content/uploads/2025/10/Sayre-Meeting.png
ORGANIZER;CN="111Project":MAILTO:info@111project.org
END:VEVENT
BEGIN:VEVENT
DTSTART;TZID=America/Chicago:20251116T103000
DTEND;TZID=America/Chicago:20251116T233000
DTSTAMP:20260424T101242
CREATED:20250926T040201Z
LAST-MODIFIED:20251113T011114Z
UID:10001393-1763289000-1763335800@www.111project.org
SUMMARY:Shattuck First Baptist Church
DESCRIPTION:Meeting\n\n\n\n\n\n\n\n\n\nDear Friends\, \nWe are looking forward to joining the morning service at Ebenezer Baptist Church in Shattuck\, OK (Ellis County)
URL:https://www.111project.org/activities/kingfisher-foster-care-forum/
CATEGORIES:Information Meetings
ATTACH;FMTTYPE=image/png:https://www.111project.org/wp-content/uploads/2025/09/Ellis-County-First-Baptist-Shattuck.png
ORGANIZER;CN="111Project":MAILTO:info@111project.org
END:VEVENT
BEGIN:VEVENT
DTSTART;TZID=America/Chicago:20251113T090000
DTEND;TZID=America/Chicago:20251113T100000
DTSTAMP:20260424T101242
CREATED:20251108T211903Z
LAST-MODIFIED:20251108T211907Z
UID:10001434-1763024400-1763028000@www.111project.org
SUMMARY:Sand Springs & Keystone Lake Area Information Meeting
DESCRIPTION:What is a Community Information Meeting? \n\n\n\nIn the simplest terms\, this is where you get to hear about what is happening in your community at a very local level and how you can be involved.  \n\n\n\nWe will be introducing and training churches and community members on how to sign up for our free resource – CarePortal in order to meet real time\, vetted needs for children and families in need in your community.  \n\n\n\nOur network of 850+ churches help to provide a platform for sharing stories (both the good and the challenging)\, discussing local needs\, collaborating on resources\, developing strategies for family support\, and planning future actions for vulnerable children and families within each specific geographic community.
URL:https://www.111project.org/activities/sand-springs-keystone-lake-area-information-meeting/
LOCATION:Church that Matters\, 3 W 41st St\, Sand Springs\, Oklahoma\, 74063
CATEGORIES:Information Meetings
ATTACH;FMTTYPE=image/png:https://www.111project.org/wp-content/uploads/2025/11/Sand-Springs-Info-Meeting.png
END:VEVENT
BEGIN:VEVENT
DTSTART;TZID=America/Chicago:20251109T090000
DTEND;TZID=America/Chicago:20251109T100000
DTSTAMP:20260424T101242
CREATED:20251016T170329Z
LAST-MODIFIED:20251106T152731Z
UID:10001420-1762678800-1762682400@www.111project.org
SUMMARY:Custer County Church Meeting
DESCRIPTION:9 A.M. Service\n\n\n\n\n\n\n\nCuster County CarePortal\nCommunity Coordinator: Dr. Kalie KerthRegional Manager: Rita Blumer \nWe are so thankful for all of our CarePortal Churches supporting children and families in crisis across Custer County.Together\, we’re making a real difference—connecting local needs with local churches who care. \nWe’re excited to celebrate the impact of Custer County’s churches and families alongside Weatherford Church of the Nazarene\, one of our CarePortal churches.Thank you for the opportunity to share information and join you and your church family in serving kids and families in need.
URL:https://www.111project.org/activities/beckham-county-church-meeting/
CATEGORIES:Information Meetings
ATTACH;FMTTYPE=image/png:https://www.111project.org/wp-content/uploads/2025/10/13.png
ORGANIZER;CN="111Project":MAILTO:info@111project.org
END:VEVENT
BEGIN:VEVENT
DTSTART;TZID=America/Chicago:20251019T093000
DTEND;TZID=America/Chicago:20251019T123000
DTSTAMP:20260424T101242
CREATED:20251016T163852Z
LAST-MODIFIED:20251016T163855Z
UID:10001418-1760866200-1760877000@www.111project.org
SUMMARY:Custer County Church Meeting
DESCRIPTION:9:30 & 10:30 Service\n\n\n\n\n\n\n\nCuster County CarePortal\nLaunch Year: 2022Community Coordinator: Kalie KerthRegional Manager: Rita Blumer \nWe are so thankful for all of our CarePortal Churches supporting children and families in crisis across Custer County.Together\, we’re making a real difference—connecting local needs with local churches who care. \nWe’re excited to celebrate the impact of Custer County’s churches and families alongside Pine Acres Church.Thank you for the opportunity to share information and join you and your church family in serving kids and families in need.
URL:https://www.111project.org/activities/custer-county-church-meeting/
CATEGORIES:Information Meetings
ATTACH;FMTTYPE=image/png:https://www.111project.org/wp-content/uploads/2025/10/10.png
ORGANIZER;CN="111Project":MAILTO:info@111project.org
END:VEVENT
BEGIN:VEVENT
DTSTART;TZID=America/Chicago:20250716T130000
DTEND;TZID=America/Chicago:20250716T140000
DTSTAMP:20260424T101242
CREATED:20250618T210903Z
LAST-MODIFIED:20250618T210907Z
UID:10001242-1752670800-1752674400@www.111project.org
SUMMARY:Oklahoma County Agency Tour
DESCRIPTION:Register Here!
URL:https://www.111project.org/activities/oklahoma-county-agency-tour-4/
CATEGORIES:Information Meetings
ATTACH;FMTTYPE=image/png:https://www.111project.org/wp-content/uploads/2025/06/OK-Agency-Tour-4.png
ORGANIZER;CN="111Project":MAILTO:info@111project.org
END:VEVENT
BEGIN:VEVENT
DTSTART;TZID=America/Chicago:20250702T130000
DTEND;TZID=America/Chicago:20250702T140000
DTSTAMP:20260424T101242
CREATED:20250618T210733Z
LAST-MODIFIED:20250618T210738Z
UID:10001241-1751461200-1751464800@www.111project.org
SUMMARY:Oklahoma County Agency Tour
DESCRIPTION:Register Here!
URL:https://www.111project.org/activities/oklahoma-county-agency-tour-3/
CATEGORIES:Information Meetings
ATTACH;FMTTYPE=image/png:https://www.111project.org/wp-content/uploads/2025/06/OK-Agency-Tour-3.png
ORGANIZER;CN="111Project":MAILTO:info@111project.org
END:VEVENT
BEGIN:VEVENT
DTSTART;TZID=America/Chicago:20250625T130000
DTEND;TZID=America/Chicago:20250625T150000
DTSTAMP:20260424T101242
CREATED:20250618T210549Z
LAST-MODIFIED:20250618T210554Z
UID:10001240-1750856400-1750863600@www.111project.org
SUMMARY:Oklahoma County Agency Tour
DESCRIPTION:Register Here!
URL:https://www.111project.org/activities/oklahoma-county-agency-tour-2/
CATEGORIES:Information Meetings
ATTACH;FMTTYPE=image/png:https://www.111project.org/wp-content/uploads/2025/06/OK-Agency-Tour-2.png
ORGANIZER;CN="111Project":MAILTO:info@111project.org
END:VEVENT
BEGIN:VEVENT
DTSTART;TZID=America/Chicago:20250625T100000
DTEND;TZID=America/Chicago:20250625T110000
DTSTAMP:20260424T101242
CREATED:20250618T210332Z
LAST-MODIFIED:20250618T210336Z
UID:10001239-1750845600-1750849200@www.111project.org
SUMMARY:Oklahoma County Agency Tour
DESCRIPTION:Register Here!
URL:https://www.111project.org/activities/oklahoma-county-agency-tour/
CATEGORIES:Information Meetings
ATTACH;FMTTYPE=image/png:https://www.111project.org/wp-content/uploads/2025/06/OK-Agency-Tour-1.png
ORGANIZER;CN="111Project":MAILTO:info@111project.org
END:VEVENT
BEGIN:VEVENT
DTSTART;TZID=America/Chicago:20250618T100000
DTEND;TZID=America/Chicago:20250618T110000
DTSTAMP:20260424T101242
CREATED:20250617T184321Z
LAST-MODIFIED:20250617T184326Z
UID:10001238-1750240800-1750244400@www.111project.org
SUMMARY:Sand Springs Area Information Meeting
DESCRIPTION:Register Here!\n\n\n\n\n\n\n\nJoin us for a CarePortal information meeting with DHS\, local church leaders\, and other agency and community members with a heart for child and family welfare. We will discuss local resources and needs including CarePortal.
URL:https://www.111project.org/activities/sand-springs-area-information-meeting/
LOCATION:Lake Church of Texoma\, 255 Knobb Rd.\, Kingston\, 73439\, United States
CATEGORIES:Information Meetings
ATTACH;FMTTYPE=image/png:https://www.111project.org/wp-content/uploads/2025/06/Meeting.png
ORGANIZER;CN="111Project":MAILTO:info@111project.org
END:VEVENT
BEGIN:VEVENT
DTSTART;TZID=America/Chicago:20250508T130000
DTEND;TZID=America/Chicago:20250508T140000
DTSTAMP:20260424T101242
CREATED:20250314T213453Z
LAST-MODIFIED:20250314T214009Z
UID:10001194-1746709200-1746712800@www.111project.org
SUMMARY:Marshall County Information Meeting
DESCRIPTION:Register Here!\n\n\n\n\n\n\n\nJoin us for a CarePortal information meeting with DHS\, local church leaders\, and other agency and community members with a heart for child and family welfare. We will discuss local resources and needs including CarePortal.
URL:https://www.111project.org/activities/marshall-county-information-meeting-2/
LOCATION:Lake Church of Texoma\, 255 Knobb Rd.\, Kingston\, 73439\, United States
CATEGORIES:Information Meetings
ATTACH;FMTTYPE=image/png:https://www.111project.org/wp-content/uploads/2025/03/Bradys-Info-Meeting.png
ORGANIZER;CN="111Project":MAILTO:info@111project.org
END:VEVENT
END:VCALENDAR