BEGIN:VCALENDAR
VERSION:2.0
PRODID:-//111Project.org - ECPv6.15.18//NONSGML v1.0//EN
CALSCALE:GREGORIAN
METHOD:PUBLISH
X-ORIGINAL-URL:https://www.111project.org
X-WR-CALDESC:Events for 111Project.org
REFRESH-INTERVAL;VALUE=DURATION:PT1H
X-Robots-Tag:noindex
X-PUBLISHED-TTL:PT1H
BEGIN:VTIMEZONE
TZID:America/Chicago
BEGIN:DAYLIGHT
TZOFFSETFROM:-0600
TZOFFSETTO:-0500
TZNAME:CDT
DTSTART:20250309T080000
END:DAYLIGHT
BEGIN:STANDARD
TZOFFSETFROM:-0500
TZOFFSETTO:-0600
TZNAME:CST
DTSTART:20251102T070000
END:STANDARD
BEGIN:DAYLIGHT
TZOFFSETFROM:-0600
TZOFFSETTO:-0500
TZNAME:CDT
DTSTART:20260308T080000
END:DAYLIGHT
BEGIN:STANDARD
TZOFFSETFROM:-0500
TZOFFSETTO:-0600
TZNAME:CST
DTSTART:20261101T070000
END:STANDARD
BEGIN:DAYLIGHT
TZOFFSETFROM:-0600
TZOFFSETTO:-0500
TZNAME:CDT
DTSTART:20270314T080000
END:DAYLIGHT
BEGIN:STANDARD
TZOFFSETFROM:-0500
TZOFFSETTO:-0600
TZNAME:CST
DTSTART:20271107T070000
END:STANDARD
END:VTIMEZONE
BEGIN:VEVENT
DTSTART;TZID=America/Chicago:20260501T100000
DTEND;TZID=America/Chicago:20260501T110000
DTSTAMP:20260424T084312
CREATED:20260107T142902Z
LAST-MODIFIED:20260107T142919Z
UID:10001693-1777629600-1777633200@www.111project.org
SUMMARY:Ask Me Anything: Mid-Morning Edition
DESCRIPTION:Have questions about how you\, your church\, business\, civic group or friends can get engaged with helping children in your community and across the state? Need help navigating the CarePortal Platform? Are you looking for a local resource to help a family you know? This is a “come and go” online time\, so hop on anytime during this time and Ask Me!
URL:https://www.111project.org/activities/ask-me-anything-mid-morning-edition-5/
CATEGORIES:Information Meetings
ATTACH;FMTTYPE=image/png:https://www.111project.org/wp-content/uploads/2026/01/15.png
END:VEVENT
BEGIN:VEVENT
DTSTART;TZID=America/Chicago:20260519T170000
DTEND;TZID=America/Chicago:20260519T180000
DTSTAMP:20260424T084312
CREATED:20260107T153734Z
LAST-MODIFIED:20260107T153739Z
UID:10001778-1779210000-1779213600@www.111project.org
SUMMARY:Ask Me Anything: Early Evening Edition
DESCRIPTION:Ask me anything \n\n\n\nHave questions about how you\, your church\, business\, civic group or friends can get engaged with helping children in your community and across the state? Need help navigating the CarePortal Platform? Are you looking for a local resource to help a family you know? This is a “come and go” online time\, so hop on anytime during this time and Ask Me!
URL:https://www.111project.org/activities/ask-me-anything-early-evening-edition-5/
CATEGORIES:Information Meetings
ATTACH;FMTTYPE=image/png:https://www.111project.org/wp-content/uploads/2026/01/AMA-Evening-Edition.png
END:VEVENT
BEGIN:VEVENT
DTSTART;TZID=America/Chicago:20260531T100000
DTEND;TZID=America/Chicago:20260531T120000
DTSTAMP:20260424T084312
CREATED:20260414T003156Z
LAST-MODIFIED:20260414T004841Z
UID:10002088-1780221600-1780228800@www.111project.org
SUMMARY:Custer County Church Meeting
DESCRIPTION:10 A.M. Service\n\n\n\n\n\n\n\nCuster County CarePortal\nCommunity Coordinator: Dr. Kalie KerthRegional Manager: Rita Blumer \nI can’t believe it’s been almost a year since we hosted the last Foster Care Forum at Liberty Church International! We’ve been invited back for a second forum on Sunday\, May 31st\, at Liberty Church\, 2740 South Frontage Road\, Weatherford\, OK —just follow the flags with flames! Since last time\, so many wonderful things have happened. We now have three panelists confirmed for this event: Denise Gerhold (Oklahoma Human Services)\, LJ Williams (Safe Families)\, and Shannon Davis (Circle of Care). We can’t wait to come together again to support children and families in crisis!
URL:https://www.111project.org/activities/custer-county-church-meeting-2/
CATEGORIES:Information Meetings
ORGANIZER;CN="111Project":MAILTO:info@111project.org
END:VEVENT
BEGIN:VEVENT
DTSTART;TZID=America/Chicago:20260605T100000
DTEND;TZID=America/Chicago:20260605T110000
DTSTAMP:20260424T084312
CREATED:20260107T142915Z
LAST-MODIFIED:20260107T142923Z
UID:10001694-1780653600-1780657200@www.111project.org
SUMMARY:Ask Me Anything: Mid-Morning Edition
DESCRIPTION:Have questions about how you\, your church\, business\, civic group or friends can get engaged with helping children in your community and across the state? Need help navigating the CarePortal Platform? Are you looking for a local resource to help a family you know? This is a “come and go” online time\, so hop on anytime during this time and Ask Me!
URL:https://www.111project.org/activities/ask-me-anything-mid-morning-edition-6/
CATEGORIES:Information Meetings
ATTACH;FMTTYPE=image/png:https://www.111project.org/wp-content/uploads/2026/01/15.png
END:VEVENT
BEGIN:VEVENT
DTSTART;TZID=America/Chicago:20260616T170000
DTEND;TZID=America/Chicago:20260616T180000
DTSTAMP:20260424T084312
CREATED:20260107T153749Z
LAST-MODIFIED:20260107T153751Z
UID:10001779-1781629200-1781632800@www.111project.org
SUMMARY:Ask Me Anything: Early Evening Edition
DESCRIPTION:Ask me anything \n\n\n\nHave questions about how you\, your church\, business\, civic group or friends can get engaged with helping children in your community and across the state? Need help navigating the CarePortal Platform? Are you looking for a local resource to help a family you know? This is a “come and go” online time\, so hop on anytime during this time and Ask Me!
URL:https://www.111project.org/activities/ask-me-anything-early-evening-edition-6/
CATEGORIES:Information Meetings
ATTACH;FMTTYPE=image/png:https://www.111project.org/wp-content/uploads/2026/01/AMA-Evening-Edition.png
END:VEVENT
BEGIN:VEVENT
DTSTART;TZID=America/Chicago:20260703T100000
DTEND;TZID=America/Chicago:20260703T110000
DTSTAMP:20260424T084312
CREATED:20260107T142930Z
LAST-MODIFIED:20260107T142937Z
UID:10001698-1783072800-1783076400@www.111project.org
SUMMARY:Ask Me Anything: Mid-Morning Edition
DESCRIPTION:Have questions about how you\, your church\, business\, civic group or friends can get engaged with helping children in your community and across the state? Need help navigating the CarePortal Platform? Are you looking for a local resource to help a family you know? This is a “come and go” online time\, so hop on anytime during this time and Ask Me!
URL:https://www.111project.org/activities/ask-me-anything-mid-morning-edition-7/
CATEGORIES:Information Meetings
ATTACH;FMTTYPE=image/png:https://www.111project.org/wp-content/uploads/2026/01/15.png
END:VEVENT
BEGIN:VEVENT
DTSTART;TZID=America/Chicago:20260721T170000
DTEND;TZID=America/Chicago:20260721T180000
DTSTAMP:20260424T084312
CREATED:20260107T153803Z
LAST-MODIFIED:20260107T153805Z
UID:10001780-1784653200-1784656800@www.111project.org
SUMMARY:Ask Me Anything: Early Evening Edition
DESCRIPTION:Ask me anything \n\n\n\nHave questions about how you\, your church\, business\, civic group or friends can get engaged with helping children in your community and across the state? Need help navigating the CarePortal Platform? Are you looking for a local resource to help a family you know? This is a “come and go” online time\, so hop on anytime during this time and Ask Me!
URL:https://www.111project.org/activities/ask-me-anything-early-evening-edition-7/
CATEGORIES:Information Meetings
ATTACH;FMTTYPE=image/png:https://www.111project.org/wp-content/uploads/2026/01/AMA-Evening-Edition.png
END:VEVENT
BEGIN:VEVENT
DTSTART;TZID=America/Chicago:20260807T100000
DTEND;TZID=America/Chicago:20260807T110000
DTSTAMP:20260424T084312
CREATED:20260107T143008Z
LAST-MODIFIED:20260107T143012Z
UID:10001697-1786096800-1786100400@www.111project.org
SUMMARY:Ask Me Anything: Mid-Morning Edition
DESCRIPTION:Have questions about how you\, your church\, business\, civic group or friends can get engaged with helping children in your community and across the state? Need help navigating the CarePortal Platform? Are you looking for a local resource to help a family you know? This is a “come and go” online time\, so hop on anytime during this time and Ask Me!
URL:https://www.111project.org/activities/ask-me-anything-mid-morning-edition-8/
CATEGORIES:Information Meetings
ATTACH;FMTTYPE=image/png:https://www.111project.org/wp-content/uploads/2026/01/15.png
END:VEVENT
BEGIN:VEVENT
DTSTART;TZID=America/Chicago:20260818T170000
DTEND;TZID=America/Chicago:20260818T180000
DTSTAMP:20260424T084312
CREATED:20260107T153817Z
LAST-MODIFIED:20260107T153820Z
UID:10001781-1787072400-1787076000@www.111project.org
SUMMARY:Ask Me Anything: Early Evening Edition
DESCRIPTION:Ask me anything \n\n\n\nHave questions about how you\, your church\, business\, civic group or friends can get engaged with helping children in your community and across the state? Need help navigating the CarePortal Platform? Are you looking for a local resource to help a family you know? This is a “come and go” online time\, so hop on anytime during this time and Ask Me!
URL:https://www.111project.org/activities/ask-me-anything-early-evening-edition-8/
CATEGORIES:Information Meetings
ATTACH;FMTTYPE=image/png:https://www.111project.org/wp-content/uploads/2026/01/AMA-Evening-Edition.png
END:VEVENT
BEGIN:VEVENT
DTSTART;TZID=America/Chicago:20260904T100000
DTEND;TZID=America/Chicago:20260904T110000
DTSTAMP:20260424T084312
CREATED:20260107T143029Z
LAST-MODIFIED:20260107T143033Z
UID:10001695-1788516000-1788519600@www.111project.org
SUMMARY:Ask Me Anything: Mid-Morning Edition
DESCRIPTION:Have questions about how you\, your church\, business\, civic group or friends can get engaged with helping children in your community and across the state? Need help navigating the CarePortal Platform? Are you looking for a local resource to help a family you know? This is a “come and go” online time\, so hop on anytime during this time and Ask Me!
URL:https://www.111project.org/activities/ask-me-anything-mid-morning-edition-9/
CATEGORIES:Information Meetings
ATTACH;FMTTYPE=image/png:https://www.111project.org/wp-content/uploads/2026/01/15.png
END:VEVENT
BEGIN:VEVENT
DTSTART;TZID=America/Chicago:20260915T170000
DTEND;TZID=America/Chicago:20260915T180000
DTSTAMP:20260424T084312
CREATED:20260107T153829Z
LAST-MODIFIED:20260107T153832Z
UID:10001782-1789491600-1789495200@www.111project.org
SUMMARY:Ask Me Anything: Early Evening Edition
DESCRIPTION:Ask me anything \n\n\n\nHave questions about how you\, your church\, business\, civic group or friends can get engaged with helping children in your community and across the state? Need help navigating the CarePortal Platform? Are you looking for a local resource to help a family you know? This is a “come and go” online time\, so hop on anytime during this time and Ask Me!
URL:https://www.111project.org/activities/ask-me-anything-early-evening-edition-9/
CATEGORIES:Information Meetings
ATTACH;FMTTYPE=image/png:https://www.111project.org/wp-content/uploads/2026/01/AMA-Evening-Edition.png
END:VEVENT
BEGIN:VEVENT
DTSTART;TZID=America/Chicago:20261002T100000
DTEND;TZID=America/Chicago:20261002T110000
DTSTAMP:20260424T084312
CREATED:20260107T143113Z
LAST-MODIFIED:20260107T143117Z
UID:10001696-1790935200-1790938800@www.111project.org
SUMMARY:Ask Me Anything: Mid-Morning Edition
DESCRIPTION:Have questions about how you\, your church\, business\, civic group or friends can get engaged with helping children in your community and across the state? Need help navigating the CarePortal Platform? Are you looking for a local resource to help a family you know? This is a “come and go” online time\, so hop on anytime during this time and Ask Me!
URL:https://www.111project.org/activities/ask-me-anything-mid-morning-edition-10/
CATEGORIES:Information Meetings
ATTACH;FMTTYPE=image/png:https://www.111project.org/wp-content/uploads/2026/01/15.png
END:VEVENT
BEGIN:VEVENT
DTSTART;TZID=America/Chicago:20261020T170000
DTEND;TZID=America/Chicago:20261020T180000
DTSTAMP:20260424T084312
CREATED:20260107T153846Z
LAST-MODIFIED:20260107T153848Z
UID:10001783-1792515600-1792519200@www.111project.org
SUMMARY:Ask Me Anything: Early Evening Edition
DESCRIPTION:Ask me anything \n\n\n\nHave questions about how you\, your church\, business\, civic group or friends can get engaged with helping children in your community and across the state? Need help navigating the CarePortal Platform? Are you looking for a local resource to help a family you know? This is a “come and go” online time\, so hop on anytime during this time and Ask Me!
URL:https://www.111project.org/activities/ask-me-anything-early-evening-edition-10/
CATEGORIES:Information Meetings
ATTACH;FMTTYPE=image/png:https://www.111project.org/wp-content/uploads/2026/01/AMA-Evening-Edition.png
END:VEVENT
BEGIN:VEVENT
DTSTART;TZID=America/Chicago:20261106T100000
DTEND;TZID=America/Chicago:20261106T110000
DTSTAMP:20260424T084312
CREATED:20260107T143139Z
LAST-MODIFIED:20260107T143144Z
UID:10001699-1793959200-1793962800@www.111project.org
SUMMARY:Ask Me Anything: Mid-Morning Edition
DESCRIPTION:Have questions about how you\, your church\, business\, civic group or friends can get engaged with helping children in your community and across the state? Need help navigating the CarePortal Platform? Are you looking for a local resource to help a family you know? This is a “come and go” online time\, so hop on anytime during this time and Ask Me!
URL:https://www.111project.org/activities/ask-me-anything-mid-morning-edition-11/
CATEGORIES:Information Meetings
ATTACH;FMTTYPE=image/png:https://www.111project.org/wp-content/uploads/2026/01/15.png
END:VEVENT
BEGIN:VEVENT
DTSTART;TZID=America/Chicago:20261117T170000
DTEND;TZID=America/Chicago:20261117T180000
DTSTAMP:20260424T084312
CREATED:20260107T153903Z
LAST-MODIFIED:20260107T153906Z
UID:10001784-1794934800-1794938400@www.111project.org
SUMMARY:Ask Me Anything: Early Evening Edition
DESCRIPTION:Ask me anything \n\n\n\nHave questions about how you\, your church\, business\, civic group or friends can get engaged with helping children in your community and across the state? Need help navigating the CarePortal Platform? Are you looking for a local resource to help a family you know? This is a “come and go” online time\, so hop on anytime during this time and Ask Me!
URL:https://www.111project.org/activities/ask-me-anything-early-evening-edition-11/
CATEGORIES:Information Meetings
ATTACH;FMTTYPE=image/png:https://www.111project.org/wp-content/uploads/2026/01/AMA-Evening-Edition.png
END:VEVENT
BEGIN:VEVENT
DTSTART;TZID=America/Chicago:20261204T100000
DTEND;TZID=America/Chicago:20261204T110000
DTSTAMP:20260424T084312
CREATED:20260107T143157Z
LAST-MODIFIED:20260107T143201Z
UID:10001700-1796378400-1796382000@www.111project.org
SUMMARY:Ask Me Anything: Mid-Morning Edition
DESCRIPTION:Have questions about how you\, your church\, business\, civic group or friends can get engaged with helping children in your community and across the state? Need help navigating the CarePortal Platform? Are you looking for a local resource to help a family you know? This is a “come and go” online time\, so hop on anytime during this time and Ask Me!
URL:https://www.111project.org/activities/ask-me-anything-mid-morning-edition-12/
CATEGORIES:Information Meetings
ATTACH;FMTTYPE=image/png:https://www.111project.org/wp-content/uploads/2026/01/15.png
END:VEVENT
BEGIN:VEVENT
DTSTART;TZID=America/Chicago:20261215T170000
DTEND;TZID=America/Chicago:20261215T180000
DTSTAMP:20260424T084312
CREATED:20260107T153916Z
LAST-MODIFIED:20260227T210413Z
UID:10001785-1797354000-1797357600@www.111project.org
SUMMARY:Ask Me Anything: Early Evening Edition
DESCRIPTION:Ask me anything \n\n\n\nHave questions about how you\, your church\, business\, civic group or friends can get engaged with helping children in your community and across the state? Need help navigating the CarePortal Platform? Are you looking for a local resource to help a family you know? This is a “come and go” online time\, so hop on anytime during this time and Ask Me!
URL:https://www.111project.org/activities/ask-me-anything-early-evening-edition-12/
CATEGORIES:Information Meetings
ATTACH;FMTTYPE=image/png:https://www.111project.org/wp-content/uploads/2026/01/AMA-Evening-Edition.png
END:VEVENT
END:VCALENDAR