BEGIN:VCALENDAR
VERSION:2.0
PRODID:-//111Project.org - ECPv6.15.18//NONSGML v1.0//EN
CALSCALE:GREGORIAN
METHOD:PUBLISH
X-ORIGINAL-URL:https://www.111project.org
X-WR-CALDESC:Events for 111Project.org
REFRESH-INTERVAL;VALUE=DURATION:PT1H
X-Robots-Tag:noindex
X-PUBLISHED-TTL:PT1H
BEGIN:VTIMEZONE
TZID:America/Chicago
BEGIN:DAYLIGHT
TZOFFSETFROM:-0600
TZOFFSETTO:-0500
TZNAME:CDT
DTSTART:20280312T080000
END:DAYLIGHT
BEGIN:STANDARD
TZOFFSETFROM:-0500
TZOFFSETTO:-0600
TZNAME:CST
DTSTART:20281105T070000
END:STANDARD
BEGIN:DAYLIGHT
TZOFFSETFROM:-0600
TZOFFSETTO:-0500
TZNAME:CDT
DTSTART:20290311T080000
END:DAYLIGHT
BEGIN:STANDARD
TZOFFSETFROM:-0500
TZOFFSETTO:-0600
TZNAME:CST
DTSTART:20291104T070000
END:STANDARD
BEGIN:DAYLIGHT
TZOFFSETFROM:-0600
TZOFFSETTO:-0500
TZNAME:CDT
DTSTART:20300310T080000
END:DAYLIGHT
BEGIN:STANDARD
TZOFFSETFROM:-0500
TZOFFSETTO:-0600
TZNAME:CST
DTSTART:20301103T070000
END:STANDARD
END:VTIMEZONE
BEGIN:VEVENT
DTSTART;TZID=America/Chicago:20290417T120000
DTEND;TZID=America/Chicago:20290417T130000
DTSTAMP:20260425T102029
CREATED:20251230T231923Z
LAST-MODIFIED:20251230T231926Z
UID:10001500-1871121600-1871125200@www.111project.org
SUMMARY:Pittsburg County Community Gathering
DESCRIPTION:Register Here!\n\n\n\n\n\n\n\nHey\, all! Come join the OKDHS\, the Church\, and community members at the Pittsburg County Community Gathering\, where we celebrate what we have done\, discuss what is being done\, and plan what can be done to end the child welfare crisis in Pittsburg County.
URL:https://www.111project.org/activities/pittsburg-county-community-gathering-21/2029-04-17/
CATEGORIES:Community Gatherings
ATTACH;FMTTYPE=image/png:https://www.111project.org/wp-content/uploads/2025/08/Pittsburg-1.png
ORGANIZER;CN="111Project":MAILTO:info@111project.org
END:VEVENT
BEGIN:VEVENT
DTSTART;TZID=America/Chicago:20290419T133000
DTEND;TZID=America/Chicago:20290419T143000
DTSTAMP:20260425T102029
CREATED:20260407T215540Z
LAST-MODIFIED:20260407T215543Z
UID:10002004-1871299800-1871303400@www.111project.org
SUMMARY:Northeast OK County Community Gathering
DESCRIPTION:Location: Prospect Baptist Church \n\n\n\n2809 N Missouri Ave\, Oklahoma City\, OK 73111 \n\n\n\nJoin us for a regional collaboration of church and agency leaders connected through CarePortal with the mission of serving kids and families in our community! Community Gatherings are table conversations where we discuss open opportunities to serve\, ideas for deeper engagement\, and helpful connections and resourcing among friends. We would love to see you or a representative from your church there\, so please RSVP!
URL:https://www.111project.org/activities/northeast-ok-county-community-gathering-2/2029-04-19/
CATEGORIES:Community Gatherings
END:VEVENT
BEGIN:VEVENT
DTSTART;TZID=America/Chicago:20290424T120000
DTEND;TZID=America/Chicago:20290424T130000
DTSTAMP:20260425T102029
CREATED:20250922T205903Z
LAST-MODIFIED:20251112T192330Z
UID:10001367-1871726400-1871730000@www.111project.org
SUMMARY:LeFlore Community Gathering
DESCRIPTION:Hey\, all! Come join the OKDHS\, the Church\, and community members at the LeFlore County Community Gathering\, where we celebrate what we have done\, discuss what is being done\, and plan what can be done to end the child welfare crisis in LeFlore County.
URL:https://www.111project.org/activities/leflore-community-gathering-15/2029-04-24/
CATEGORIES:Community Gatherings
END:VEVENT
BEGIN:VEVENT
DTSTART;TZID=America/Chicago:20290426T100000
DTEND;TZID=America/Chicago:20290426T110000
DTSTAMP:20260425T102029
CREATED:20260407T222431Z
LAST-MODIFIED:20260407T230454Z
UID:10002066-1871892000-1871895600@www.111project.org
SUMMARY:Southeast OK County Community Gathering
DESCRIPTION:Location: Cornerstone Church  \n\n\n\n9900 SE 15th St\, Midwest City\, OK 73130 \n\n\n\nJoin us for a regional collaboration of church and agency leaders connected through CarePortal with the mission of serving kids and families in our community! Community Gatherings are table conversations where we discuss open opportunities to serve\, ideas for deeper engagement\, and helpful connections and resourcing among friends. We would love to see you or a representative from your church there\, so please RSVP!
URL:https://www.111project.org/activities/southeast-ok-county-community-gathering-2/2029-04-26/
CATEGORIES:Community Gatherings
END:VEVENT
BEGIN:VEVENT
DTSTART;TZID=America/Chicago:20290426T120000
DTEND;TZID=America/Chicago:20290426T130000
DTSTAMP:20260425T102029
CREATED:20260407T222206Z
LAST-MODIFIED:20260407T230359Z
UID:10002035-1871899200-1871902800@www.111project.org
SUMMARY:Southwest and Central OK County Community Gathering
DESCRIPTION:Where: Crossroads Church-South Entrance \n\n\n\n8901 S Shields Blvd\, Oklahoma City\, OK 73149 \n\n\n\nJoin us for a regional collaboration of church and agency leaders connected through CarePortal with the mission of serving kids and families in our community! Community Gatherings are table conversations where we discuss open opportunities to serve\, ideas for deeper engagement\, and helpful connections and resourcing among friends. We would love to see you or a representative from your church there\, so please RSVP!
URL:https://www.111project.org/activities/southwest-and-central-ok-county-community-gathering-2/2029-04-26/
CATEGORIES:Community Gatherings
END:VEVENT
BEGIN:VEVENT
DTSTART;TZID=America/Chicago:20290515T120000
DTEND;TZID=America/Chicago:20290515T130000
DTSTAMP:20260425T102029
CREATED:20251230T231923Z
LAST-MODIFIED:20251230T231926Z
UID:10001501-1873540800-1873544400@www.111project.org
SUMMARY:Pittsburg County Community Gathering
DESCRIPTION:Register Here!\n\n\n\n\n\n\n\nHey\, all! Come join the OKDHS\, the Church\, and community members at the Pittsburg County Community Gathering\, where we celebrate what we have done\, discuss what is being done\, and plan what can be done to end the child welfare crisis in Pittsburg County.
URL:https://www.111project.org/activities/pittsburg-county-community-gathering-21/2029-05-15/
CATEGORIES:Community Gatherings
ATTACH;FMTTYPE=image/png:https://www.111project.org/wp-content/uploads/2025/08/Pittsburg-1.png
ORGANIZER;CN="111Project":MAILTO:info@111project.org
END:VEVENT
BEGIN:VEVENT
DTSTART;TZID=America/Chicago:20290522T120000
DTEND;TZID=America/Chicago:20290522T130000
DTSTAMP:20260425T102029
CREATED:20250922T205903Z
LAST-MODIFIED:20251112T192330Z
UID:10001368-1874145600-1874149200@www.111project.org
SUMMARY:LeFlore Community Gathering
DESCRIPTION:Hey\, all! Come join the OKDHS\, the Church\, and community members at the LeFlore County Community Gathering\, where we celebrate what we have done\, discuss what is being done\, and plan what can be done to end the child welfare crisis in LeFlore County.
URL:https://www.111project.org/activities/leflore-community-gathering-15/2029-05-22/
CATEGORIES:Community Gatherings
END:VEVENT
BEGIN:VEVENT
DTSTART;TZID=America/Chicago:20290523T100000
DTEND;TZID=America/Chicago:20290523T113000
DTSTAMP:20260425T102029
CREATED:20260107T030813Z
LAST-MODIFIED:20260107T030816Z
UID:10001680-1874224800-1874230200@www.111project.org
SUMMARY:Canadian County Virtual Community Gathering
DESCRIPTION:Register Here!\n\n\n\n\n\n\n\n\n\nJoin us for a collaboration of church and agency leaders in Canadian County connected through CarePortal with the mission of serving kids and families in our community! Community Gatherings are table conversations where we discuss open opportunities to serve\, ideas for deeper engagement and helpful connections and resourcing among friends.
URL:https://www.111project.org/activities/canadian-county-virtual-community-gathering-2/2029-05-23/
CATEGORIES:Community Gatherings
ATTACH;FMTTYPE=image/png:https://www.111project.org/wp-content/uploads/2026/01/Canadian.png
ORGANIZER;CN="111Project":MAILTO:info@111project.org
END:VEVENT
BEGIN:VEVENT
DTSTART;TZID=America/Chicago:20290528T120000
DTEND;TZID=America/Chicago:20290528T133000
DTSTAMP:20260425T102029
CREATED:20260107T025239Z
LAST-MODIFIED:20260107T030245Z
UID:10001620-1874664000-1874669400@www.111project.org
SUMMARY:Oklahoma County Together Virtual Community Gathering
DESCRIPTION:Register Here!\n\n\n\n\n\n\n\n\n\nJoin us for a collaboration of church and agency leaders in Oklahoma County connected through CarePortal with the mission of serving kids and families in our community! Community Gatherings are table conversations where we discuss open opportunities to serve\, ideas for deeper engagement and helpful connections and resourcing among friends.
URL:https://www.111project.org/activities/oklahoma-county-together-virtual-community-gathering/2029-05-28/
CATEGORIES:Community Gatherings
ATTACH;FMTTYPE=image/png:https://www.111project.org/wp-content/uploads/2026/01/Oklahoma.png
ORGANIZER;CN="111Project":MAILTO:info@111project.org
END:VEVENT
BEGIN:VEVENT
DTSTART;TZID=America/Chicago:20290619T120000
DTEND;TZID=America/Chicago:20290619T130000
DTSTAMP:20260425T102029
CREATED:20251230T231923Z
LAST-MODIFIED:20251230T231926Z
UID:10001502-1876564800-1876568400@www.111project.org
SUMMARY:Pittsburg County Community Gathering
DESCRIPTION:Register Here!\n\n\n\n\n\n\n\nHey\, all! Come join the OKDHS\, the Church\, and community members at the Pittsburg County Community Gathering\, where we celebrate what we have done\, discuss what is being done\, and plan what can be done to end the child welfare crisis in Pittsburg County.
URL:https://www.111project.org/activities/pittsburg-county-community-gathering-21/2029-06-19/
CATEGORIES:Community Gatherings
ATTACH;FMTTYPE=image/png:https://www.111project.org/wp-content/uploads/2025/08/Pittsburg-1.png
ORGANIZER;CN="111Project":MAILTO:info@111project.org
END:VEVENT
BEGIN:VEVENT
DTSTART;TZID=America/Chicago:20290621T133000
DTEND;TZID=America/Chicago:20290621T143000
DTSTAMP:20260425T102029
CREATED:20260407T215540Z
LAST-MODIFIED:20260407T215543Z
UID:10002005-1876743000-1876746600@www.111project.org
SUMMARY:Northeast OK County Community Gathering
DESCRIPTION:Location: Prospect Baptist Church \n\n\n\n2809 N Missouri Ave\, Oklahoma City\, OK 73111 \n\n\n\nJoin us for a regional collaboration of church and agency leaders connected through CarePortal with the mission of serving kids and families in our community! Community Gatherings are table conversations where we discuss open opportunities to serve\, ideas for deeper engagement\, and helpful connections and resourcing among friends. We would love to see you or a representative from your church there\, so please RSVP!
URL:https://www.111project.org/activities/northeast-ok-county-community-gathering-2/2029-06-21/
CATEGORIES:Community Gatherings
END:VEVENT
BEGIN:VEVENT
DTSTART;TZID=America/Chicago:20290626T120000
DTEND;TZID=America/Chicago:20290626T130000
DTSTAMP:20260425T102029
CREATED:20250922T205903Z
LAST-MODIFIED:20251112T192330Z
UID:10001369-1877169600-1877173200@www.111project.org
SUMMARY:LeFlore Community Gathering
DESCRIPTION:Hey\, all! Come join the OKDHS\, the Church\, and community members at the LeFlore County Community Gathering\, where we celebrate what we have done\, discuss what is being done\, and plan what can be done to end the child welfare crisis in LeFlore County.
URL:https://www.111project.org/activities/leflore-community-gathering-15/2029-06-26/
CATEGORIES:Community Gatherings
END:VEVENT
BEGIN:VEVENT
DTSTART;TZID=America/Chicago:20290628T100000
DTEND;TZID=America/Chicago:20290628T110000
DTSTAMP:20260425T102029
CREATED:20260407T222431Z
LAST-MODIFIED:20260407T230454Z
UID:10002067-1877335200-1877338800@www.111project.org
SUMMARY:Southeast OK County Community Gathering
DESCRIPTION:Location: Cornerstone Church  \n\n\n\n9900 SE 15th St\, Midwest City\, OK 73130 \n\n\n\nJoin us for a regional collaboration of church and agency leaders connected through CarePortal with the mission of serving kids and families in our community! Community Gatherings are table conversations where we discuss open opportunities to serve\, ideas for deeper engagement\, and helpful connections and resourcing among friends. We would love to see you or a representative from your church there\, so please RSVP!
URL:https://www.111project.org/activities/southeast-ok-county-community-gathering-2/2029-06-28/
CATEGORIES:Community Gatherings
END:VEVENT
BEGIN:VEVENT
DTSTART;TZID=America/Chicago:20290628T120000
DTEND;TZID=America/Chicago:20290628T130000
DTSTAMP:20260425T102029
CREATED:20260407T222206Z
LAST-MODIFIED:20260407T230359Z
UID:10002036-1877342400-1877346000@www.111project.org
SUMMARY:Southwest and Central OK County Community Gathering
DESCRIPTION:Where: Crossroads Church-South Entrance \n\n\n\n8901 S Shields Blvd\, Oklahoma City\, OK 73149 \n\n\n\nJoin us for a regional collaboration of church and agency leaders connected through CarePortal with the mission of serving kids and families in our community! Community Gatherings are table conversations where we discuss open opportunities to serve\, ideas for deeper engagement\, and helpful connections and resourcing among friends. We would love to see you or a representative from your church there\, so please RSVP!
URL:https://www.111project.org/activities/southwest-and-central-ok-county-community-gathering-2/2029-06-28/
CATEGORIES:Community Gatherings
END:VEVENT
BEGIN:VEVENT
DTSTART;TZID=America/Chicago:20290717T120000
DTEND;TZID=America/Chicago:20290717T130000
DTSTAMP:20260425T102029
CREATED:20251230T231923Z
LAST-MODIFIED:20251230T231926Z
UID:10001503-1878984000-1878987600@www.111project.org
SUMMARY:Pittsburg County Community Gathering
DESCRIPTION:Register Here!\n\n\n\n\n\n\n\nHey\, all! Come join the OKDHS\, the Church\, and community members at the Pittsburg County Community Gathering\, where we celebrate what we have done\, discuss what is being done\, and plan what can be done to end the child welfare crisis in Pittsburg County.
URL:https://www.111project.org/activities/pittsburg-county-community-gathering-21/2029-07-17/
CATEGORIES:Community Gatherings
ATTACH;FMTTYPE=image/png:https://www.111project.org/wp-content/uploads/2025/08/Pittsburg-1.png
ORGANIZER;CN="111Project":MAILTO:info@111project.org
END:VEVENT
BEGIN:VEVENT
DTSTART;TZID=America/Chicago:20290723T120000
DTEND;TZID=America/Chicago:20290723T133000
DTSTAMP:20260425T102029
CREATED:20260107T025239Z
LAST-MODIFIED:20260107T030245Z
UID:10001621-1879502400-1879507800@www.111project.org
SUMMARY:Oklahoma County Together Virtual Community Gathering
DESCRIPTION:Register Here!\n\n\n\n\n\n\n\n\n\nJoin us for a collaboration of church and agency leaders in Oklahoma County connected through CarePortal with the mission of serving kids and families in our community! Community Gatherings are table conversations where we discuss open opportunities to serve\, ideas for deeper engagement and helpful connections and resourcing among friends.
URL:https://www.111project.org/activities/oklahoma-county-together-virtual-community-gathering/2029-07-23/
CATEGORIES:Community Gatherings
ATTACH;FMTTYPE=image/png:https://www.111project.org/wp-content/uploads/2026/01/Oklahoma.png
ORGANIZER;CN="111Project":MAILTO:info@111project.org
END:VEVENT
BEGIN:VEVENT
DTSTART;TZID=America/Chicago:20290724T120000
DTEND;TZID=America/Chicago:20290724T130000
DTSTAMP:20260425T102029
CREATED:20250922T205903Z
LAST-MODIFIED:20251112T192330Z
UID:10001370-1879588800-1879592400@www.111project.org
SUMMARY:LeFlore Community Gathering
DESCRIPTION:Hey\, all! Come join the OKDHS\, the Church\, and community members at the LeFlore County Community Gathering\, where we celebrate what we have done\, discuss what is being done\, and plan what can be done to end the child welfare crisis in LeFlore County.
URL:https://www.111project.org/activities/leflore-community-gathering-15/2029-07-24/
CATEGORIES:Community Gatherings
END:VEVENT
BEGIN:VEVENT
DTSTART;TZID=America/Chicago:20290725T100000
DTEND;TZID=America/Chicago:20290725T113000
DTSTAMP:20260425T102029
CREATED:20260107T030813Z
LAST-MODIFIED:20260107T030816Z
UID:10001681-1879668000-1879673400@www.111project.org
SUMMARY:Canadian County Virtual Community Gathering
DESCRIPTION:Register Here!\n\n\n\n\n\n\n\n\n\nJoin us for a collaboration of church and agency leaders in Canadian County connected through CarePortal with the mission of serving kids and families in our community! Community Gatherings are table conversations where we discuss open opportunities to serve\, ideas for deeper engagement and helpful connections and resourcing among friends.
URL:https://www.111project.org/activities/canadian-county-virtual-community-gathering-2/2029-07-25/
CATEGORIES:Community Gatherings
ATTACH;FMTTYPE=image/png:https://www.111project.org/wp-content/uploads/2026/01/Canadian.png
ORGANIZER;CN="111Project":MAILTO:info@111project.org
END:VEVENT
BEGIN:VEVENT
DTSTART;TZID=America/Chicago:20290816T133000
DTEND;TZID=America/Chicago:20290816T143000
DTSTAMP:20260425T102029
CREATED:20260407T215540Z
LAST-MODIFIED:20260407T215543Z
UID:10002006-1881581400-1881585000@www.111project.org
SUMMARY:Northeast OK County Community Gathering
DESCRIPTION:Location: Prospect Baptist Church \n\n\n\n2809 N Missouri Ave\, Oklahoma City\, OK 73111 \n\n\n\nJoin us for a regional collaboration of church and agency leaders connected through CarePortal with the mission of serving kids and families in our community! Community Gatherings are table conversations where we discuss open opportunities to serve\, ideas for deeper engagement\, and helpful connections and resourcing among friends. We would love to see you or a representative from your church there\, so please RSVP!
URL:https://www.111project.org/activities/northeast-ok-county-community-gathering-2/2029-08-16/
CATEGORIES:Community Gatherings
END:VEVENT
BEGIN:VEVENT
DTSTART;TZID=America/Chicago:20290821T120000
DTEND;TZID=America/Chicago:20290821T130000
DTSTAMP:20260425T102029
CREATED:20251230T231923Z
LAST-MODIFIED:20251230T231926Z
UID:10001504-1882008000-1882011600@www.111project.org
SUMMARY:Pittsburg County Community Gathering
DESCRIPTION:Register Here!\n\n\n\n\n\n\n\nHey\, all! Come join the OKDHS\, the Church\, and community members at the Pittsburg County Community Gathering\, where we celebrate what we have done\, discuss what is being done\, and plan what can be done to end the child welfare crisis in Pittsburg County.
URL:https://www.111project.org/activities/pittsburg-county-community-gathering-21/2029-08-21/
CATEGORIES:Community Gatherings
ATTACH;FMTTYPE=image/png:https://www.111project.org/wp-content/uploads/2025/08/Pittsburg-1.png
ORGANIZER;CN="111Project":MAILTO:info@111project.org
END:VEVENT
BEGIN:VEVENT
DTSTART;TZID=America/Chicago:20290823T100000
DTEND;TZID=America/Chicago:20290823T110000
DTSTAMP:20260425T102029
CREATED:20260407T222431Z
LAST-MODIFIED:20260407T230454Z
UID:10002068-1882173600-1882177200@www.111project.org
SUMMARY:Southeast OK County Community Gathering
DESCRIPTION:Location: Cornerstone Church  \n\n\n\n9900 SE 15th St\, Midwest City\, OK 73130 \n\n\n\nJoin us for a regional collaboration of church and agency leaders connected through CarePortal with the mission of serving kids and families in our community! Community Gatherings are table conversations where we discuss open opportunities to serve\, ideas for deeper engagement\, and helpful connections and resourcing among friends. We would love to see you or a representative from your church there\, so please RSVP!
URL:https://www.111project.org/activities/southeast-ok-county-community-gathering-2/2029-08-23/
CATEGORIES:Community Gatherings
END:VEVENT
BEGIN:VEVENT
DTSTART;TZID=America/Chicago:20290823T120000
DTEND;TZID=America/Chicago:20290823T130000
DTSTAMP:20260425T102029
CREATED:20260407T222206Z
LAST-MODIFIED:20260407T230359Z
UID:10002037-1882180800-1882184400@www.111project.org
SUMMARY:Southwest and Central OK County Community Gathering
DESCRIPTION:Where: Crossroads Church-South Entrance \n\n\n\n8901 S Shields Blvd\, Oklahoma City\, OK 73149 \n\n\n\nJoin us for a regional collaboration of church and agency leaders connected through CarePortal with the mission of serving kids and families in our community! Community Gatherings are table conversations where we discuss open opportunities to serve\, ideas for deeper engagement\, and helpful connections and resourcing among friends. We would love to see you or a representative from your church there\, so please RSVP!
URL:https://www.111project.org/activities/southwest-and-central-ok-county-community-gathering-2/2029-08-23/
CATEGORIES:Community Gatherings
END:VEVENT
BEGIN:VEVENT
DTSTART;TZID=America/Chicago:20290828T120000
DTEND;TZID=America/Chicago:20290828T130000
DTSTAMP:20260425T102029
CREATED:20250922T205903Z
LAST-MODIFIED:20251112T192330Z
UID:10001371-1882612800-1882616400@www.111project.org
SUMMARY:LeFlore Community Gathering
DESCRIPTION:Hey\, all! Come join the OKDHS\, the Church\, and community members at the LeFlore County Community Gathering\, where we celebrate what we have done\, discuss what is being done\, and plan what can be done to end the child welfare crisis in LeFlore County.
URL:https://www.111project.org/activities/leflore-community-gathering-15/2029-08-28/
CATEGORIES:Community Gatherings
END:VEVENT
BEGIN:VEVENT
DTSTART;TZID=America/Chicago:20290918T120000
DTEND;TZID=America/Chicago:20290918T130000
DTSTAMP:20260425T102029
CREATED:20251230T231923Z
LAST-MODIFIED:20251230T231926Z
UID:10001505-1884427200-1884430800@www.111project.org
SUMMARY:Pittsburg County Community Gathering
DESCRIPTION:Register Here!\n\n\n\n\n\n\n\nHey\, all! Come join the OKDHS\, the Church\, and community members at the Pittsburg County Community Gathering\, where we celebrate what we have done\, discuss what is being done\, and plan what can be done to end the child welfare crisis in Pittsburg County.
URL:https://www.111project.org/activities/pittsburg-county-community-gathering-21/2029-09-18/
CATEGORIES:Community Gatherings
ATTACH;FMTTYPE=image/png:https://www.111project.org/wp-content/uploads/2025/08/Pittsburg-1.png
ORGANIZER;CN="111Project":MAILTO:info@111project.org
END:VEVENT
BEGIN:VEVENT
DTSTART;TZID=America/Chicago:20290924T120000
DTEND;TZID=America/Chicago:20290924T133000
DTSTAMP:20260425T102029
CREATED:20260107T025239Z
LAST-MODIFIED:20260107T030245Z
UID:10001622-1884945600-1884951000@www.111project.org
SUMMARY:Oklahoma County Together Virtual Community Gathering
DESCRIPTION:Register Here!\n\n\n\n\n\n\n\n\n\nJoin us for a collaboration of church and agency leaders in Oklahoma County connected through CarePortal with the mission of serving kids and families in our community! Community Gatherings are table conversations where we discuss open opportunities to serve\, ideas for deeper engagement and helpful connections and resourcing among friends.
URL:https://www.111project.org/activities/oklahoma-county-together-virtual-community-gathering/2029-09-24/
CATEGORIES:Community Gatherings
ATTACH;FMTTYPE=image/png:https://www.111project.org/wp-content/uploads/2026/01/Oklahoma.png
ORGANIZER;CN="111Project":MAILTO:info@111project.org
END:VEVENT
BEGIN:VEVENT
DTSTART;TZID=America/Chicago:20290925T120000
DTEND;TZID=America/Chicago:20290925T130000
DTSTAMP:20260425T102029
CREATED:20250922T205903Z
LAST-MODIFIED:20251112T192330Z
UID:10001372-1885032000-1885035600@www.111project.org
SUMMARY:LeFlore Community Gathering
DESCRIPTION:Hey\, all! Come join the OKDHS\, the Church\, and community members at the LeFlore County Community Gathering\, where we celebrate what we have done\, discuss what is being done\, and plan what can be done to end the child welfare crisis in LeFlore County.
URL:https://www.111project.org/activities/leflore-community-gathering-15/2029-09-25/
CATEGORIES:Community Gatherings
END:VEVENT
BEGIN:VEVENT
DTSTART;TZID=America/Chicago:20290926T100000
DTEND;TZID=America/Chicago:20290926T113000
DTSTAMP:20260425T102029
CREATED:20260107T030813Z
LAST-MODIFIED:20260107T030816Z
UID:10001682-1885111200-1885116600@www.111project.org
SUMMARY:Canadian County Virtual Community Gathering
DESCRIPTION:Register Here!\n\n\n\n\n\n\n\n\n\nJoin us for a collaboration of church and agency leaders in Canadian County connected through CarePortal with the mission of serving kids and families in our community! Community Gatherings are table conversations where we discuss open opportunities to serve\, ideas for deeper engagement and helpful connections and resourcing among friends.
URL:https://www.111project.org/activities/canadian-county-virtual-community-gathering-2/2029-09-26/
CATEGORIES:Community Gatherings
ATTACH;FMTTYPE=image/png:https://www.111project.org/wp-content/uploads/2026/01/Canadian.png
ORGANIZER;CN="111Project":MAILTO:info@111project.org
END:VEVENT
BEGIN:VEVENT
DTSTART;TZID=America/Chicago:20291016T120000
DTEND;TZID=America/Chicago:20291016T130000
DTSTAMP:20260425T102029
CREATED:20251230T231923Z
LAST-MODIFIED:20251230T231926Z
UID:10001506-1886846400-1886850000@www.111project.org
SUMMARY:Pittsburg County Community Gathering
DESCRIPTION:Register Here!\n\n\n\n\n\n\n\nHey\, all! Come join the OKDHS\, the Church\, and community members at the Pittsburg County Community Gathering\, where we celebrate what we have done\, discuss what is being done\, and plan what can be done to end the child welfare crisis in Pittsburg County.
URL:https://www.111project.org/activities/pittsburg-county-community-gathering-21/2029-10-16/
CATEGORIES:Community Gatherings
ATTACH;FMTTYPE=image/png:https://www.111project.org/wp-content/uploads/2025/08/Pittsburg-1.png
ORGANIZER;CN="111Project":MAILTO:info@111project.org
END:VEVENT
BEGIN:VEVENT
DTSTART;TZID=America/Chicago:20291018T133000
DTEND;TZID=America/Chicago:20291018T143000
DTSTAMP:20260425T102029
CREATED:20260407T215540Z
LAST-MODIFIED:20260407T215543Z
UID:10002007-1887024600-1887028200@www.111project.org
SUMMARY:Northeast OK County Community Gathering
DESCRIPTION:Location: Prospect Baptist Church \n\n\n\n2809 N Missouri Ave\, Oklahoma City\, OK 73111 \n\n\n\nJoin us for a regional collaboration of church and agency leaders connected through CarePortal with the mission of serving kids and families in our community! Community Gatherings are table conversations where we discuss open opportunities to serve\, ideas for deeper engagement\, and helpful connections and resourcing among friends. We would love to see you or a representative from your church there\, so please RSVP!
URL:https://www.111project.org/activities/northeast-ok-county-community-gathering-2/2029-10-18/
CATEGORIES:Community Gatherings
END:VEVENT
BEGIN:VEVENT
DTSTART;TZID=America/Chicago:20291023T120000
DTEND;TZID=America/Chicago:20291023T130000
DTSTAMP:20260425T102029
CREATED:20250922T205903Z
LAST-MODIFIED:20251112T192330Z
UID:10001373-1887451200-1887454800@www.111project.org
SUMMARY:LeFlore Community Gathering
DESCRIPTION:Hey\, all! Come join the OKDHS\, the Church\, and community members at the LeFlore County Community Gathering\, where we celebrate what we have done\, discuss what is being done\, and plan what can be done to end the child welfare crisis in LeFlore County.
URL:https://www.111project.org/activities/leflore-community-gathering-15/2029-10-23/
CATEGORIES:Community Gatherings
END:VEVENT
END:VCALENDAR