BEGIN:VCALENDAR
VERSION:2.0
PRODID:-//111Project.org - ECPv6.15.18//NONSGML v1.0//EN
CALSCALE:GREGORIAN
METHOD:PUBLISH
X-WR-CALNAME:111Project.org
X-ORIGINAL-URL:https://www.111project.org
X-WR-CALDESC:Events for 111Project.org
REFRESH-INTERVAL;VALUE=DURATION:PT1H
X-Robots-Tag:noindex
X-PUBLISHED-TTL:PT1H
BEGIN:VTIMEZONE
TZID:America/Chicago
BEGIN:DAYLIGHT
TZOFFSETFROM:-0600
TZOFFSETTO:-0500
TZNAME:CDT
DTSTART:20250309T080000
END:DAYLIGHT
BEGIN:STANDARD
TZOFFSETFROM:-0500
TZOFFSETTO:-0600
TZNAME:CST
DTSTART:20251102T070000
END:STANDARD
BEGIN:DAYLIGHT
TZOFFSETFROM:-0600
TZOFFSETTO:-0500
TZNAME:CDT
DTSTART:20260308T080000
END:DAYLIGHT
BEGIN:STANDARD
TZOFFSETFROM:-0500
TZOFFSETTO:-0600
TZNAME:CST
DTSTART:20261101T070000
END:STANDARD
BEGIN:DAYLIGHT
TZOFFSETFROM:-0600
TZOFFSETTO:-0500
TZNAME:CDT
DTSTART:20270314T080000
END:DAYLIGHT
BEGIN:STANDARD
TZOFFSETFROM:-0500
TZOFFSETTO:-0600
TZNAME:CST
DTSTART:20271107T070000
END:STANDARD
END:VTIMEZONE
BEGIN:VEVENT
DTSTART;TZID=America/Chicago:20260507T130000
DTEND;TZID=America/Chicago:20260507T140000
DTSTAMP:20260425T080908
CREATED:20251230T230312Z
LAST-MODIFIED:20251231T174812Z
UID:10001453-1778158800-1778162400@www.111project.org
SUMMARY:Pushmataha/ Choctaw County Community Gathering
DESCRIPTION:Register Here!\n\n\n\n\n\n\n\nHey\, all! Come join the OKDHS\, the Church\, and community members at our Community Gathering\, where we celebrate what we have done\, discuss what is being done\, and plan what can be done to end the child welfare crisis in Oklahoma.
URL:https://www.111project.org/activities/pushmataha-county-community-gathering-6/2026-05-07/
CATEGORIES:Community Gatherings
ATTACH;FMTTYPE=image/png:https://www.111project.org/wp-content/uploads/2025/12/Mayes-FEBRUARY-7.png
ORGANIZER;CN="111Project":MAILTO:info@111project.org
END:VEVENT
BEGIN:VEVENT
DTSTART;TZID=America/Chicago:20260507T120000
DTEND;TZID=America/Chicago:20260507T130000
DTSTAMP:20260425T080908
CREATED:20260402T161844Z
LAST-MODIFIED:20260402T161849Z
UID:10001982-1778155200-1778158800@www.111project.org
SUMMARY:Garfield County Community Gathering
DESCRIPTION:Register Here!\n\n\n\n\n\n\n\nJoin us for our next Community Gathering with DHS\, local church leaders\, and other agency and community members with a heart for child and family welfare. We will discuss local resources and needs including CarePortal. Lunch will be provided. 
URL:https://www.111project.org/activities/garfield-county-community-gathering-3/
CATEGORIES:Community Gatherings
ATTACH;FMTTYPE=image/png:https://www.111project.org/wp-content/uploads/2026/01/Garfield-3-26.png
ORGANIZER;CN="111Project":MAILTO:info@111project.org
END:VEVENT
BEGIN:VEVENT
DTSTART;TZID=America/Chicago:20260507T090000
DTEND;TZID=America/Chicago:20260507T101500
DTSTAMP:20260425T080908
CREATED:20260106T212718Z
LAST-MODIFIED:20260106T212721Z
UID:10001574-1778144400-1778148900@www.111project.org
SUMMARY:Sequoyah County Community Gathering
DESCRIPTION:What is a Community Gathering? \n\n\n\nIn the simplest terms\, this is where you get to hear about what is happening in your community at a very local level and how you can be involved.  \n\n\n\nThese are regular meetings of church and agency leaders\, as well as community members\, who collaborate to support and advocate for children and families\, particularly through the CarePortal. \n\n\n\nThese gatherings provide a platform for sharing stories (both the good and the challenging)\, discussing local needs\, collaborating on resources\, developing strategies for family support\, and planning future actions for vulnerable children and families within each specific geographic community.
URL:https://www.111project.org/activities/sequoyah-county-community-gathering-5/
LOCATION:OKDHS OFFICE: 502 George Glenn Blvd\, Sallisaw\, OK 74955
CATEGORIES:Community Gatherings
ATTACH;FMTTYPE=image/png:https://www.111project.org/wp-content/uploads/2026/01/Sequoyah.png
END:VEVENT
BEGIN:VEVENT
DTSTART;TZID=America/Chicago:20260506T123000
DTEND;TZID=America/Chicago:20260506T131500
DTSTAMP:20260425T080908
CREATED:20260408T035129Z
LAST-MODIFIED:20260408T035133Z
UID:10002078-1778070600-1778073300@www.111project.org
SUMMARY:Blaine County Community Gathering
DESCRIPTION:Register Here!\n\n\n\n\n\n\n\nJoin us for our next Community Gathering with DHS\, local church leaders\, and other agency and community members with a heart for child and family welfare. We will discuss local resources and needs\, including CarePortal. Lunch will be provided.
URL:https://www.111project.org/activities/blaine-county-community-gathering/
CATEGORIES:Community Gatherings
ORGANIZER;CN="111Project":MAILTO:info@111project.org
END:VEVENT
BEGIN:VEVENT
DTSTART;TZID=America/Chicago:20260505T113000
DTEND;TZID=America/Chicago:20260505T123000
DTSTAMP:20260425T080908
CREATED:20260408T040504Z
LAST-MODIFIED:20260408T040705Z
UID:10002079-1777980600-1777984200@www.111project.org
SUMMARY:Beckham County Community Gathering
DESCRIPTION:Register Here!\n\n\n\n\n\n\n\nJoin us for our next Community Gathering with DHS\, local church leaders\, and other agency and community members with a heart for child and family welfare. We will discuss local resources and needs with CarePortal. Lunch will be provided. Please register so the host church will be prepared. 
URL:https://www.111project.org/activities/beckham-county-community-gathering-2/
CATEGORIES:Community Gatherings
ORGANIZER;CN="111Project":MAILTO:info@111project.org
END:VEVENT
BEGIN:VEVENT
DTSTART;TZID=America/Chicago:20260501T100000
DTEND;TZID=America/Chicago:20260501T110000
DTSTAMP:20260425T080908
CREATED:20260107T142902Z
LAST-MODIFIED:20260107T142919Z
UID:10001693-1777629600-1777633200@www.111project.org
SUMMARY:Ask Me Anything: Mid-Morning Edition
DESCRIPTION:Have questions about how you\, your church\, business\, civic group or friends can get engaged with helping children in your community and across the state? Need help navigating the CarePortal Platform? Are you looking for a local resource to help a family you know? This is a “come and go” online time\, so hop on anytime during this time and Ask Me!
URL:https://www.111project.org/activities/ask-me-anything-mid-morning-edition-5/
CATEGORIES:Information Meetings
ATTACH;FMTTYPE=image/png:https://www.111project.org/wp-content/uploads/2026/01/15.png
END:VEVENT
BEGIN:VEVENT
DTSTART;TZID=America/Chicago:20260430T133000
DTEND;TZID=America/Chicago:20260430T150000
DTSTAMP:20260425T080908
CREATED:20260212T010720Z
LAST-MODIFIED:20260212T010725Z
UID:10001905-1777555800-1777561200@www.111project.org
SUMMARY:Osage Community Gathering
DESCRIPTION:Join local Church and Community Leaders with a heart for children and families! This will be a time of community collaboration\, as we work to come up with solutions and next steps! Invite someone you would like to see at the table! We hope to see you there! 
URL:https://www.111project.org/activities/osage-community-gathering-3/
LOCATION:City Church Pawhuska\, 1225 Virginia Short Street\, Pawhuska\, Oklahoma\, United States
CATEGORIES:Community Gatherings
ATTACH;FMTTYPE=image/jpeg:https://www.111project.org/wp-content/uploads/2026/02/Osage.jpg
END:VEVENT
BEGIN:VEVENT
DTSTART;TZID=America/Chicago:20260430T100000
DTEND;TZID=America/Chicago:20260430T113000
DTSTAMP:20260425T080908
CREATED:20260212T010127Z
LAST-MODIFIED:20260212T010133Z
UID:10001903-1777543200-1777548600@www.111project.org
SUMMARY:Washington County Community Gathering
DESCRIPTION:Join local Church and Community Leaders with a heart for children and families! This will be a time of community collaboration\, as we work to come up with solutions and next steps! Invite someone you would like to see at the table! We hope to see you there! 
URL:https://www.111project.org/activities/washington-county-community-gathering-12/
LOCATION:Bartlesville First Church of The Nazarene\, 3650 SE Adams Blvd\, Bartlesville\, Oklahoma\, United States
CATEGORIES:Community Gatherings
ATTACH;FMTTYPE=image/jpeg:https://www.111project.org/wp-content/uploads/2026/02/Washington.jpg
END:VEVENT
BEGIN:VEVENT
DTSTART;TZID=America/Chicago:20260428T180000
DTEND;TZID=America/Chicago:20260428T193000
DTSTAMP:20260425T080908
CREATED:20260212T011247Z
LAST-MODIFIED:20260424T154459Z
UID:10001907-1777399200-1777404600@www.111project.org
SUMMARY:Pawnee County Community Gathering
DESCRIPTION:Join local Church and Community Leaders with a heart for children and families! This will be a time of community collaboration\, as we work to come up with solutions and next steps! Invite someone you would like to see at the table! We hope to see you there! 
URL:https://www.111project.org/activities/pawnee-county-community-gathering-11/
LOCATION:First Christian Church Cleveland\, 100 S. Division St.\, Cleveland\, Oklahoma\, United States
CATEGORIES:Community Gatherings
ATTACH;FMTTYPE=image/jpeg:https://www.111project.org/wp-content/uploads/2026/02/Pawnee.jpg
END:VEVENT
BEGIN:VEVENT
DTSTART;TZID=America/Chicago:20260428T180000
DTEND;TZID=America/Chicago:20260428T191500
DTSTAMP:20260425T080908
CREATED:20260107T164356Z
LAST-MODIFIED:20260107T164401Z
UID:10001833-1777399200-1777403700@www.111project.org
SUMMARY:Creek County Community Gathering
DESCRIPTION:What is a Community Gathering? \n\n\n\nIn the simplest terms\, this is where you get to hear about what is happening in your community at a very local level and how you can be involved.  \n\n\n\nThese are regular meetings of church and agency leaders\, as well as community members\, who collaborate to support and advocate for children and families\, particularly through the CarePortal. \n\n\n\nThese gatherings provide a platform for sharing stories (both the good and the challenging)\, discussing local needs\, collaborating on resources\, developing strategies for family support\, and planning future actions for vulnerable children and families within each specific geographic community.
URL:https://www.111project.org/activities/creek-county-community-gathering-4/
LOCATION:801 E Dewey Ave. Sapulpa\, OK 74066\, 801 E Dewey Ave\, Oklahoma\, 74066
CATEGORIES:Community Gatherings
ATTACH;FMTTYPE=image/png:https://www.111project.org/wp-content/uploads/2026/01/Creek-1.png
END:VEVENT
BEGIN:VEVENT
DTSTART;TZID=America/Chicago:20260428T140000
DTEND;TZID=America/Chicago:20260428T150000
DTSTAMP:20260425T080908
CREATED:20260408T194352Z
LAST-MODIFIED:20260408T195059Z
UID:10002083-1777384800-1777388400@www.111project.org
SUMMARY:CityServe + CarePortal Info Meeting
DESCRIPTION:Join us for an informational meeting to learn how CityServe and CarePortal partner with local churches and agencies to meet real\, practical needs of vulnerable children and families—right here in our community. \n\n\n\nRegistrations are required for this event due to limited seating.  \n\n\n\n\nRegister Here
URL:https://www.111project.org/activities/cityserve-careportal-info-meeting/
ATTACH;FMTTYPE=image/png:https://www.111project.org/wp-content/uploads/2026/04/Copy-of-Info-Meeting-Template.png
END:VEVENT
BEGIN:VEVENT
DTSTART;TZID=America/Chicago:20260428T120000
DTEND;TZID=America/Chicago:20260428T131500
DTSTAMP:20260425T080908
CREATED:20260107T163536Z
LAST-MODIFIED:20260107T163656Z
UID:10001824-1777377600-1777382100@www.111project.org
SUMMARY:Okmulgee County Community Gathering
DESCRIPTION:What is a Community Gathering? \n\n\n\nIn the simplest terms\, this is where you get to hear about what is happening in your community at a very local level and how you can be involved.  \n\n\n\nThese are regular meetings of church and agency leaders\, as well as community members\, who collaborate to support and advocate for children and families\, particularly through the CarePortal. \n\n\n\nThese gatherings provide a platform for sharing stories (both the good and the challenging)\, discussing local needs\, collaborating on resources\, developing strategies for family support\, and planning future actions for vulnerable children and families within each specific geographic community.
URL:https://www.111project.org/activities/okmulgee-county-community-gathering-4/
LOCATION:3499 N. Wood Dr. Okmulgee\, OK 74447\, 3499 N Wood Dr\, Okmulgee\, Oklahoma\, 74447
CATEGORIES:Community Gatherings
ATTACH;FMTTYPE=image/png:https://www.111project.org/wp-content/uploads/2026/01/Okmulgee-1.png
END:VEVENT
BEGIN:VEVENT
DTSTART;TZID=America/Chicago:20260428T120000
DTEND;TZID=America/Chicago:20260428T130000
DTSTAMP:20260425T080908
CREATED:20260415T170642Z
LAST-MODIFIED:20260415T171059Z
UID:10002090-1777377600-1777381200@www.111project.org
SUMMARY:Kay County Community Gathering
DESCRIPTION:Register Here!\n\n\n\nJoin us for our next Community Gathering with DHS\, local church leaders\, and other agency and community members with a heart for child and family welfare. We will discuss local resources and needs including CarePortal. Food will be provided. 
URL:https://www.111project.org/activities/kay-county-community-gathering-4/
LOCATION:Immanuel Baptist Church\, 1600 S 13th St\, Blackwell\, Oklahoma\, 74631
CATEGORIES:Community Gatherings
ORGANIZER;CN="111Project":MAILTO:info@111project.org
END:VEVENT
BEGIN:VEVENT
DTSTART;TZID=America/Chicago:20260428T120000
DTEND;TZID=America/Chicago:20260428T130000
DTSTAMP:20260425T080908
CREATED:20250922T205903Z
LAST-MODIFIED:20251112T192330Z
UID:10001331-1777377600-1777381200@www.111project.org
SUMMARY:LeFlore Community Gathering
DESCRIPTION:Hey\, all! Come join the OKDHS\, the Church\, and community members at the LeFlore County Community Gathering\, where we celebrate what we have done\, discuss what is being done\, and plan what can be done to end the child welfare crisis in LeFlore County.
URL:https://www.111project.org/activities/leflore-community-gathering-15/2026-04-28/
CATEGORIES:Community Gatherings
END:VEVENT
BEGIN:VEVENT
DTSTART;TZID=America/Chicago:20260428T100000
DTEND;TZID=America/Chicago:20260428T110000
DTSTAMP:20260425T080908
CREATED:20260417T215314Z
LAST-MODIFIED:20260424T154835Z
UID:10002091-1777370400-1777374000@www.111project.org
SUMMARY:Foyil Public School's Launch Party
DESCRIPTION:Join local church\, community\, & School leaders with a heart for children & families. We will  Celebrate the Schools efforts\, learn how they Care for their students\, take Action steps to partner with the school through utilizing CarePortal\, and Advocate for our Children and families in vulnerable situations while making meaningful connections to educate\, equip\, & empower our Community so every child has family.
URL:https://34lzh.share.hsforms.com/2U8K2IWJsRHSf1MfGOgTOTA
LOCATION:Foyil Public School\, 17002 East 4th Street\, Claremore\, Claremore\, Oklahoma\, 74031\, United States
CATEGORIES:Community Gatherings
ATTACH;FMTTYPE=image/jpeg:https://www.111project.org/wp-content/uploads/2026/04/Foyil-Public-Schools-Launch-Party.jpg
END:VEVENT
BEGIN:VEVENT
DTSTART;TZID=America/Chicago:20260428T090000
DTEND;TZID=America/Chicago:20260428T101500
DTSTAMP:20260425T080908
CREATED:20260107T163121Z
LAST-MODIFIED:20260107T163159Z
UID:10001815-1777366800-1777371300@www.111project.org
SUMMARY:Lincoln County Community Gathering
DESCRIPTION:What is a Community Gathering? \n\n\n\nIn the simplest terms\, this is where you get to hear about what is happening in your community at a very local level and how you can be involved.  \n\n\n\nThese are regular meetings of church and agency leaders\, as well as community members\, who collaborate to support and advocate for children and families\, particularly through the CarePortal. \n\n\n\nThese gatherings provide a platform for sharing stories (both the good and the challenging)\, discussing local needs\, collaborating on resources\, developing strategies for family support\, and planning future actions for vulnerable children and families within each specific geographic community.
URL:https://www.111project.org/activities/lincoln-county-community-gathering-4/
LOCATION:2020 E 1st Street\, Chandler\, OK 74834\, 2020 E 1st St.\, Chandler\, Oklahoma\, 74834
CATEGORIES:Community Gatherings
ATTACH;FMTTYPE=image/png:https://www.111project.org/wp-content/uploads/2026/01/Lincoln-1.png
END:VEVENT
BEGIN:VEVENT
DTSTART;TZID=America/Chicago:20260423T130000
DTEND;TZID=America/Chicago:20260423T143000
DTSTAMP:20260425T080908
CREATED:20260402T163729Z
LAST-MODIFIED:20260402T163733Z
UID:10001983-1776949200-1776954600@www.111project.org
SUMMARY:Pottawatomie County Community Gathering
DESCRIPTION:Register Here!\n\n\n\n\n\n\n\nJoin us as we collaborate together to see that EVERY child in Oklahoma has family! The Lord is using His Church to solve the Foster Care crisis; let’s do it together! Snacks will be provided.
URL:https://www.111project.org/activities/pottawatomie-county-community-gathering-4/
CATEGORIES:Community Gatherings
ATTACH;FMTTYPE=image/png:https://www.111project.org/wp-content/uploads/2026/04/Pottawatomie-Apr-2026.png
ORGANIZER;CN="111Project":MAILTO:info@111project.org
END:VEVENT
BEGIN:VEVENT
DTSTART;TZID=America/Chicago:20260423T120000
DTEND;TZID=America/Chicago:20260423T130000
DTSTAMP:20260425T080908
CREATED:20260407T222206Z
LAST-MODIFIED:20260407T230359Z
UID:10002017-1776945600-1776949200@www.111project.org
SUMMARY:Southwest and Central OK County Community Gathering
DESCRIPTION:Where: Crossroads Church-South Entrance \n\n\n\n8901 S Shields Blvd\, Oklahoma City\, OK 73149 \n\n\n\nJoin us for a regional collaboration of church and agency leaders connected through CarePortal with the mission of serving kids and families in our community! Community Gatherings are table conversations where we discuss open opportunities to serve\, ideas for deeper engagement\, and helpful connections and resourcing among friends. We would love to see you or a representative from your church there\, so please RSVP!
URL:https://www.111project.org/activities/southwest-and-central-ok-county-community-gathering-2/2026-04-23/
CATEGORIES:Community Gatherings
END:VEVENT
BEGIN:VEVENT
DTSTART;TZID=America/Chicago:20260423T120000
DTEND;TZID=America/Chicago:20260423T130000
DTSTAMP:20260425T080908
CREATED:20251231T175503Z
LAST-MODIFIED:20251231T175507Z
UID:10001547-1776945600-1776949200@www.111project.org
SUMMARY:Pontotoc County Community Gathering
DESCRIPTION:Register Here!\n\n\n\n\n\n\n\n\n\nHey\, all! Come join the OKDHS\, the Church\, and community members at our Community Gathering\, where we celebrate what we have done\, discuss what is being done\, and plan what can be done to end the child welfare crisis in Oklahoma.
URL:https://www.111project.org/activities/pontotoc-county-community-gathering-8/2026-04-23/
CATEGORIES:Community Gatherings
ATTACH;FMTTYPE=image/png:https://www.111project.org/wp-content/uploads/2025/06/Pontotoc.png
ORGANIZER;CN="111Project":MAILTO:info@111project.org
END:VEVENT
BEGIN:VEVENT
DTSTART;TZID=America/Chicago:20260423T100000
DTEND;TZID=America/Chicago:20260423T110000
DTSTAMP:20260425T080908
CREATED:20260407T222431Z
LAST-MODIFIED:20260407T230454Z
UID:10002048-1776938400-1776942000@www.111project.org
SUMMARY:Southeast OK County Community Gathering
DESCRIPTION:Location: Cornerstone Church  \n\n\n\n9900 SE 15th St\, Midwest City\, OK 73130 \n\n\n\nJoin us for a regional collaboration of church and agency leaders connected through CarePortal with the mission of serving kids and families in our community! Community Gatherings are table conversations where we discuss open opportunities to serve\, ideas for deeper engagement\, and helpful connections and resourcing among friends. We would love to see you or a representative from your church there\, so please RSVP!
URL:https://www.111project.org/activities/southeast-ok-county-community-gathering-2/2026-04-23/
CATEGORIES:Community Gatherings
END:VEVENT
BEGIN:VEVENT
DTSTART;TZID=America/Chicago:20260422T120000
DTEND;TZID=America/Chicago:20260422T130000
DTSTAMP:20260425T080908
CREATED:20260225T160716Z
LAST-MODIFIED:20260225T160751Z
UID:10001536-1776859200-1776862800@www.111project.org
SUMMARY:Atoka & Coal Counties Community Gathering
DESCRIPTION:Register Here!\n\n\n\n\n\n\n\n\n\nJoin local church & community leaders with a heart for children & family welfare. We will pray\, pursue\, and work toward local solutions while making meaningful connections that last. Refreshments will be provided.
URL:https://www.111project.org/activities/atoka-coal-counties-community-gathering-7/2026-04-22/
CATEGORIES:Community Gatherings
ATTACH;FMTTYPE=image/jpeg:https://www.111project.org/wp-content/uploads/2025/12/AtokaCoal-FEBRUARY.jpg
ORGANIZER;CN="111Project":MAILTO:info@111project.org
END:VEVENT
BEGIN:VEVENT
DTSTART;TZID=America/Chicago:20260421T120000
DTEND;TZID=America/Chicago:20260421T130000
DTSTAMP:20260425T080908
CREATED:20251230T231923Z
LAST-MODIFIED:20251230T231926Z
UID:10001464-1776772800-1776776400@www.111project.org
SUMMARY:Pittsburg County Community Gathering
DESCRIPTION:Register Here!\n\n\n\n\n\n\n\nHey\, all! Come join the OKDHS\, the Church\, and community members at the Pittsburg County Community Gathering\, where we celebrate what we have done\, discuss what is being done\, and plan what can be done to end the child welfare crisis in Pittsburg County.
URL:https://www.111project.org/activities/pittsburg-county-community-gathering-21/2026-04-21/
CATEGORIES:Community Gatherings
ATTACH;FMTTYPE=image/png:https://www.111project.org/wp-content/uploads/2025/08/Pittsburg-1.png
ORGANIZER;CN="111Project":MAILTO:info@111project.org
END:VEVENT
BEGIN:VEVENT
DTSTART;TZID=America/Chicago:20260416T180000
DTEND;TZID=America/Chicago:20260416T193000
DTSTAMP:20260425T080908
CREATED:20260212T012537Z
LAST-MODIFIED:20260212T012541Z
UID:10001913-1776362400-1776367800@www.111project.org
SUMMARY:Craig County Community Gathering
DESCRIPTION:Join local Church and Community Leaders with a heart for children and families! This will be a time of community collaboration\, as we work to come up with solutions and next steps! Invite someone you would like to see at the table! We hope to see you there! 
URL:https://www.111project.org/activities/craig-county-community-gathering-3/
LOCATION:Location Pending
CATEGORIES:Community Gatherings
ATTACH;FMTTYPE=image/jpeg:https://www.111project.org/wp-content/uploads/2026/02/Craig-1.jpg
END:VEVENT
BEGIN:VEVENT
DTSTART;TZID=America/Chicago:20260416T133000
DTEND;TZID=America/Chicago:20260416T150000
DTSTAMP:20260425T080908
CREATED:20260205T171030Z
LAST-MODIFIED:20260205T171033Z
UID:10001894-1776346200-1776351600@www.111project.org
SUMMARY:Nowata County Community Gathering
DESCRIPTION:Join local Church and Community Leaders with a heart for children and families! This will be a time of community collaboration\, as we work to come up with solutions and next steps! Invite someone you would like to see at the table! We hope to see you there! 
URL:https://www.111project.org/activities/nowata-county-community-gathering-11/
LOCATION:Wise Beans Coffee Shop\, 102 E Cherokee Ave\, Nowata\, Oklahoma\, United States
CATEGORIES:Community Gatherings
ATTACH;FMTTYPE=image/jpeg:https://www.111project.org/wp-content/uploads/2026/02/Nowata-2.jpg
END:VEVENT
BEGIN:VEVENT
DTSTART;TZID=America/Chicago:20260416T133000
DTEND;TZID=America/Chicago:20260416T143000
DTSTAMP:20260425T080908
CREATED:20260407T215540Z
LAST-MODIFIED:20260407T215543Z
UID:10001986-1776346200-1776349800@www.111project.org
SUMMARY:Northeast OK County Community Gathering
DESCRIPTION:Location: Prospect Baptist Church \n\n\n\n2809 N Missouri Ave\, Oklahoma City\, OK 73111 \n\n\n\nJoin us for a regional collaboration of church and agency leaders connected through CarePortal with the mission of serving kids and families in our community! Community Gatherings are table conversations where we discuss open opportunities to serve\, ideas for deeper engagement\, and helpful connections and resourcing among friends. We would love to see you or a representative from your church there\, so please RSVP!
URL:https://www.111project.org/activities/northeast-ok-county-community-gathering-2/2026-04-16/
CATEGORIES:Community Gatherings
END:VEVENT
BEGIN:VEVENT
DTSTART;TZID=America/Chicago:20260416T100000
DTEND;TZID=America/Chicago:20260416T120000
DTSTAMP:20260425T080908
CREATED:20260305T171457Z
LAST-MODIFIED:20260309T164354Z
UID:10001976-1776333600-1776340800@www.111project.org
SUMMARY:Tulsa County Community Gathering
DESCRIPTION:Join us at Happy Hands Education Center for April’s Community Gathering. We will hear the mission behind Happy Hands and how they support families in their school. \nWe cannot wait to see you!  \n\n\n\nRegister Here
URL:https://www.111project.org/activities/tulsa-county-community-gathering/
LOCATION:Happy Hands Educational Center\, 8801 South Garnett Road\, Broken Arrow\, Oklahoma\, 74012\, United States
CATEGORIES:Community Gatherings
ATTACH;FMTTYPE=image/png:https://www.111project.org/wp-content/uploads/2026/03/Tulsa-8.png
ORGANIZER;CN="111Project":MAILTO:info@111project.org
END:VEVENT
BEGIN:VEVENT
DTSTART;TZID=America/Chicago:20260416T100000
DTEND;TZID=America/Chicago:20260416T113000
DTSTAMP:20260425T080908
CREATED:20260205T165201Z
LAST-MODIFIED:20260205T165205Z
UID:10001892-1776333600-1776339000@www.111project.org
SUMMARY:Rogers County Community Gathering
DESCRIPTION:Join local Church and Community Leaders with a heart for children and families! This will be a time of community collaboration\, as we work to come up with solutions and next steps! Invite someone you would like to see at the table! We hope to see you there! 
URL:https://www.111project.org/activities/rogers-county-community-gathering-3/
LOCATION:She Brews Claremore\, 1301 Old Country Club rd\, Claremore\, Oklahoma\, United States
CATEGORIES:Community Gatherings
ATTACH;FMTTYPE=image/jpeg:https://www.111project.org/wp-content/uploads/2026/02/Rogers-2.jpg
END:VEVENT
BEGIN:VEVENT
DTSTART;TZID=America/Chicago:20260416T100000
DTEND;TZID=America/Chicago:20260416T113000
DTSTAMP:20260425T080908
CREATED:20260127T014216Z
LAST-MODIFIED:20260127T014220Z
UID:10001858-1776333600-1776339000@www.111project.org
SUMMARY:Cleveland County Community Gathering
DESCRIPTION:Register Here!\n\n\n\n\n\n\n\nJoin us as we collaborate together to see that EVERY child in Oklahoma has family! The Lord is using His Church to solve the Foster Care crisis! Let’s do it together. Snacks will be provided.
URL:https://www.111project.org/activities/cleveland-county-community-gathering-4/
CATEGORIES:Community Gatherings
ATTACH;FMTTYPE=image/png:https://www.111project.org/wp-content/uploads/2026/01/Cleveland-April-2026-Gathering.png
ORGANIZER;CN="111Project":MAILTO:info@111project.org
END:VEVENT
BEGIN:VEVENT
DTSTART;TZID=America/Chicago:20260416T100000
DTEND;TZID=America/Chicago:20260416T110000
DTSTAMP:20260425T080908
CREATED:20260407T215014Z
LAST-MODIFIED:20260407T221303Z
UID:10001984-1776333600-1776337200@www.111project.org
SUMMARY:Northwest OKC Community Gathering
DESCRIPTION:Location: The Prov Coffee and Bakery5814 NW 63rd St.Oklahoma City\, OK \n\n\n\nJoin us for a regional collaboration of church and agency leaders connected through CarePortal with the mission of serving kids and families in our community! Community Gatherings are table conversations where we discuss open opportunities to serve\, ideas for deeper engagement\, and helpful connections and resourcing among friends. We would love to see you or a representative from your church there\, so please RSVP!
URL:https://www.111project.org/activities/northwest-okc-community-gathering/
CATEGORIES:Community Gatherings
END:VEVENT
BEGIN:VEVENT
DTSTART;TZID=America/Chicago:20260415T114500
DTEND;TZID=America/Chicago:20260415T130000
DTSTAMP:20260425T080908
CREATED:20260413T221747Z
LAST-MODIFIED:20260413T221751Z
UID:10002087-1776253500-1776258000@www.111project.org
SUMMARY:Okfuskee County Community Gathering
DESCRIPTION:What is a Community Gathering? \n\n\n\nIn the simplest terms\, this is where you get to hear about what is happening in your community at a very local level and how you can be involved.  \n\n\n\nThese are regular meetings of church and agency leaders\, as well as community members\, who collaborate to support and advocate for children and families\, particularly through the CarePortal. \n\n\n\nThese gatherings provide a platform for sharing stories (both the good and the challenging)\, discussing local needs\, collaborating on resources\, developing strategies for family support\, and planning future actions for vulnerable children and families within each specific geographic community.
URL:https://www.111project.org/activities/okfuskee-county-community-gathering-3/
CATEGORIES:Community Gatherings
END:VEVENT
END:VCALENDAR