BEGIN:VCALENDAR
VERSION:2.0
PRODID:-//111Project.org - ECPv6.15.18//NONSGML v1.0//EN
CALSCALE:GREGORIAN
METHOD:PUBLISH
X-WR-CALNAME:111Project.org
X-ORIGINAL-URL:https://www.111project.org
X-WR-CALDESC:Events for 111Project.org
REFRESH-INTERVAL;VALUE=DURATION:PT1H
X-Robots-Tag:noindex
X-PUBLISHED-TTL:PT1H
BEGIN:VTIMEZONE
TZID:America/Chicago
BEGIN:DAYLIGHT
TZOFFSETFROM:-0600
TZOFFSETTO:-0500
TZNAME:CDT
DTSTART:20260308T080000
END:DAYLIGHT
BEGIN:STANDARD
TZOFFSETFROM:-0500
TZOFFSETTO:-0600
TZNAME:CST
DTSTART:20261101T070000
END:STANDARD
BEGIN:DAYLIGHT
TZOFFSETFROM:-0600
TZOFFSETTO:-0500
TZNAME:CDT
DTSTART:20270314T080000
END:DAYLIGHT
BEGIN:STANDARD
TZOFFSETFROM:-0500
TZOFFSETTO:-0600
TZNAME:CST
DTSTART:20271107T070000
END:STANDARD
BEGIN:DAYLIGHT
TZOFFSETFROM:-0600
TZOFFSETTO:-0500
TZNAME:CDT
DTSTART:20280312T080000
END:DAYLIGHT
BEGIN:STANDARD
TZOFFSETFROM:-0500
TZOFFSETTO:-0600
TZNAME:CST
DTSTART:20281105T070000
END:STANDARD
END:VTIMEZONE
BEGIN:VEVENT
DTSTART;TZID=America/Chicago:20270119T120000
DTEND;TZID=America/Chicago:20270119T130000
DTSTAMP:20260425T090820
CREATED:20251230T231923Z
LAST-MODIFIED:20251230T231926Z
UID:10001473-1800360000-1800363600@www.111project.org
SUMMARY:Pittsburg County Community Gathering
DESCRIPTION:Register Here!\n\n\n\n\n\n\n\nHey\, all! Come join the OKDHS\, the Church\, and community members at the Pittsburg County Community Gathering\, where we celebrate what we have done\, discuss what is being done\, and plan what can be done to end the child welfare crisis in Pittsburg County.
URL:https://www.111project.org/activities/pittsburg-county-community-gathering-21/2027-01-19/
LOCATION:Oklahoma
CATEGORIES:Community Gatherings
ATTACH;FMTTYPE=image/png:https://www.111project.org/wp-content/uploads/2025/08/Pittsburg-1.png
ORGANIZER;CN="111Project":MAILTO:info@111project.org
END:VEVENT
BEGIN:VEVENT
DTSTART;TZID=America/Chicago:20270125T120000
DTEND;TZID=America/Chicago:20270125T133000
DTSTAMP:20260425T090820
CREATED:20260107T025239Z
LAST-MODIFIED:20260107T030245Z
UID:10001606-1800878400-1800883800@www.111project.org
SUMMARY:Oklahoma County Together Virtual Community Gathering
DESCRIPTION:Register Here!\n\n\n\n\n\n\n\n\n\nJoin us for a collaboration of church and agency leaders in Oklahoma County connected through CarePortal with the mission of serving kids and families in our community! Community Gatherings are table conversations where we discuss open opportunities to serve\, ideas for deeper engagement and helpful connections and resourcing among friends.
URL:https://www.111project.org/activities/oklahoma-county-together-virtual-community-gathering/2027-01-25/
LOCATION:Oklahoma
CATEGORIES:Community Gatherings
ATTACH;FMTTYPE=image/png:https://www.111project.org/wp-content/uploads/2026/01/Oklahoma.png
ORGANIZER;CN="111Project":MAILTO:info@111project.org
END:VEVENT
BEGIN:VEVENT
DTSTART;TZID=America/Chicago:20270126T120000
DTEND;TZID=America/Chicago:20270126T130000
DTSTAMP:20260425T090820
CREATED:20250922T205903Z
LAST-MODIFIED:20251112T192330Z
UID:10001340-1800964800-1800968400@www.111project.org
SUMMARY:LeFlore Community Gathering
DESCRIPTION:Hey\, all! Come join the OKDHS\, the Church\, and community members at the LeFlore County Community Gathering\, where we celebrate what we have done\, discuss what is being done\, and plan what can be done to end the child welfare crisis in LeFlore County.
URL:https://www.111project.org/activities/leflore-community-gathering-15/2027-01-26/
LOCATION:Oklahoma
CATEGORIES:Community Gatherings
END:VEVENT
BEGIN:VEVENT
DTSTART;TZID=America/Chicago:20270127T100000
DTEND;TZID=America/Chicago:20270127T113000
DTSTAMP:20260425T090820
CREATED:20260107T030813Z
LAST-MODIFIED:20260107T030816Z
UID:10001666-1801044000-1801049400@www.111project.org
SUMMARY:Canadian County Virtual Community Gathering
DESCRIPTION:Register Here!\n\n\n\n\n\n\n\n\n\nJoin us for a collaboration of church and agency leaders in Canadian County connected through CarePortal with the mission of serving kids and families in our community! Community Gatherings are table conversations where we discuss open opportunities to serve\, ideas for deeper engagement and helpful connections and resourcing among friends.
URL:https://www.111project.org/activities/canadian-county-virtual-community-gathering-2/2027-01-27/
LOCATION:Oklahoma
CATEGORIES:Community Gatherings
ATTACH;FMTTYPE=image/png:https://www.111project.org/wp-content/uploads/2026/01/Canadian.png
ORGANIZER;CN="111Project":MAILTO:info@111project.org
END:VEVENT
BEGIN:VEVENT
DTSTART;TZID=America/Chicago:20270216T120000
DTEND;TZID=America/Chicago:20270216T130000
DTSTAMP:20260425T090820
CREATED:20251230T231923Z
LAST-MODIFIED:20251230T231926Z
UID:10001474-1802779200-1802782800@www.111project.org
SUMMARY:Pittsburg County Community Gathering
DESCRIPTION:Register Here!\n\n\n\n\n\n\n\nHey\, all! Come join the OKDHS\, the Church\, and community members at the Pittsburg County Community Gathering\, where we celebrate what we have done\, discuss what is being done\, and plan what can be done to end the child welfare crisis in Pittsburg County.
URL:https://www.111project.org/activities/pittsburg-county-community-gathering-21/2027-02-16/
LOCATION:Oklahoma
CATEGORIES:Community Gatherings
ATTACH;FMTTYPE=image/png:https://www.111project.org/wp-content/uploads/2025/08/Pittsburg-1.png
ORGANIZER;CN="111Project":MAILTO:info@111project.org
END:VEVENT
BEGIN:VEVENT
DTSTART;TZID=America/Chicago:20270218T133000
DTEND;TZID=America/Chicago:20270218T143000
DTSTAMP:20260425T090820
CREATED:20260407T215540Z
LAST-MODIFIED:20260407T215543Z
UID:10001991-1802957400-1802961000@www.111project.org
SUMMARY:Northeast OK County Community Gathering
DESCRIPTION:Location: Prospect Baptist Church \n\n\n\n2809 N Missouri Ave\, Oklahoma City\, OK 73111 \n\n\n\nJoin us for a regional collaboration of church and agency leaders connected through CarePortal with the mission of serving kids and families in our community! Community Gatherings are table conversations where we discuss open opportunities to serve\, ideas for deeper engagement\, and helpful connections and resourcing among friends. We would love to see you or a representative from your church there\, so please RSVP!
URL:https://www.111project.org/activities/northeast-ok-county-community-gathering-2/2027-02-18/
LOCATION:Oklahoma
CATEGORIES:Community Gatherings
END:VEVENT
BEGIN:VEVENT
DTSTART;TZID=America/Chicago:20270223T120000
DTEND;TZID=America/Chicago:20270223T130000
DTSTAMP:20260425T090820
CREATED:20250922T205903Z
LAST-MODIFIED:20251112T192330Z
UID:10001341-1803384000-1803387600@www.111project.org
SUMMARY:LeFlore Community Gathering
DESCRIPTION:Hey\, all! Come join the OKDHS\, the Church\, and community members at the LeFlore County Community Gathering\, where we celebrate what we have done\, discuss what is being done\, and plan what can be done to end the child welfare crisis in LeFlore County.
URL:https://www.111project.org/activities/leflore-community-gathering-15/2027-02-23/
LOCATION:Oklahoma
CATEGORIES:Community Gatherings
END:VEVENT
BEGIN:VEVENT
DTSTART;TZID=America/Chicago:20270225T100000
DTEND;TZID=America/Chicago:20270225T110000
DTSTAMP:20260425T090820
CREATED:20260407T222431Z
LAST-MODIFIED:20260407T230454Z
UID:10002053-1803549600-1803553200@www.111project.org
SUMMARY:Southeast OK County Community Gathering
DESCRIPTION:Location: Cornerstone Church  \n\n\n\n9900 SE 15th St\, Midwest City\, OK 73130 \n\n\n\nJoin us for a regional collaboration of church and agency leaders connected through CarePortal with the mission of serving kids and families in our community! Community Gatherings are table conversations where we discuss open opportunities to serve\, ideas for deeper engagement\, and helpful connections and resourcing among friends. We would love to see you or a representative from your church there\, so please RSVP!
URL:https://www.111project.org/activities/southeast-ok-county-community-gathering-2/2027-02-25/
LOCATION:Oklahoma
CATEGORIES:Community Gatherings
END:VEVENT
BEGIN:VEVENT
DTSTART;TZID=America/Chicago:20270225T120000
DTEND;TZID=America/Chicago:20270225T130000
DTSTAMP:20260425T090820
CREATED:20260407T222206Z
LAST-MODIFIED:20260407T230359Z
UID:10002022-1803556800-1803560400@www.111project.org
SUMMARY:Southwest and Central OK County Community Gathering
DESCRIPTION:Where: Crossroads Church-South Entrance \n\n\n\n8901 S Shields Blvd\, Oklahoma City\, OK 73149 \n\n\n\nJoin us for a regional collaboration of church and agency leaders connected through CarePortal with the mission of serving kids and families in our community! Community Gatherings are table conversations where we discuss open opportunities to serve\, ideas for deeper engagement\, and helpful connections and resourcing among friends. We would love to see you or a representative from your church there\, so please RSVP!
URL:https://www.111project.org/activities/southwest-and-central-ok-county-community-gathering-2/2027-02-25/
LOCATION:Oklahoma
CATEGORIES:Community Gatherings
END:VEVENT
BEGIN:VEVENT
DTSTART;TZID=America/Chicago:20270316T120000
DTEND;TZID=America/Chicago:20270316T130000
DTSTAMP:20260425T090820
CREATED:20251230T231923Z
LAST-MODIFIED:20251230T231926Z
UID:10001475-1805198400-1805202000@www.111project.org
SUMMARY:Pittsburg County Community Gathering
DESCRIPTION:Register Here!\n\n\n\n\n\n\n\nHey\, all! Come join the OKDHS\, the Church\, and community members at the Pittsburg County Community Gathering\, where we celebrate what we have done\, discuss what is being done\, and plan what can be done to end the child welfare crisis in Pittsburg County.
URL:https://www.111project.org/activities/pittsburg-county-community-gathering-21/2027-03-16/
LOCATION:Oklahoma
CATEGORIES:Community Gatherings
ATTACH;FMTTYPE=image/png:https://www.111project.org/wp-content/uploads/2025/08/Pittsburg-1.png
ORGANIZER;CN="111Project":MAILTO:info@111project.org
END:VEVENT
BEGIN:VEVENT
DTSTART;TZID=America/Chicago:20270322T120000
DTEND;TZID=America/Chicago:20270322T133000
DTSTAMP:20260425T090820
CREATED:20260107T025239Z
LAST-MODIFIED:20260107T030245Z
UID:10001607-1805716800-1805722200@www.111project.org
SUMMARY:Oklahoma County Together Virtual Community Gathering
DESCRIPTION:Register Here!\n\n\n\n\n\n\n\n\n\nJoin us for a collaboration of church and agency leaders in Oklahoma County connected through CarePortal with the mission of serving kids and families in our community! Community Gatherings are table conversations where we discuss open opportunities to serve\, ideas for deeper engagement and helpful connections and resourcing among friends.
URL:https://www.111project.org/activities/oklahoma-county-together-virtual-community-gathering/2027-03-22/
LOCATION:Oklahoma
CATEGORIES:Community Gatherings
ATTACH;FMTTYPE=image/png:https://www.111project.org/wp-content/uploads/2026/01/Oklahoma.png
ORGANIZER;CN="111Project":MAILTO:info@111project.org
END:VEVENT
BEGIN:VEVENT
DTSTART;TZID=America/Chicago:20270323T120000
DTEND;TZID=America/Chicago:20270323T130000
DTSTAMP:20260425T090820
CREATED:20250922T205903Z
LAST-MODIFIED:20251112T192330Z
UID:10001342-1805803200-1805806800@www.111project.org
SUMMARY:LeFlore Community Gathering
DESCRIPTION:Hey\, all! Come join the OKDHS\, the Church\, and community members at the LeFlore County Community Gathering\, where we celebrate what we have done\, discuss what is being done\, and plan what can be done to end the child welfare crisis in LeFlore County.
URL:https://www.111project.org/activities/leflore-community-gathering-15/2027-03-23/
LOCATION:Oklahoma
CATEGORIES:Community Gatherings
END:VEVENT
BEGIN:VEVENT
DTSTART;TZID=America/Chicago:20270324T100000
DTEND;TZID=America/Chicago:20270324T113000
DTSTAMP:20260425T090820
CREATED:20260107T030813Z
LAST-MODIFIED:20260107T030816Z
UID:10001667-1805882400-1805887800@www.111project.org
SUMMARY:Canadian County Virtual Community Gathering
DESCRIPTION:Register Here!\n\n\n\n\n\n\n\n\n\nJoin us for a collaboration of church and agency leaders in Canadian County connected through CarePortal with the mission of serving kids and families in our community! Community Gatherings are table conversations where we discuss open opportunities to serve\, ideas for deeper engagement and helpful connections and resourcing among friends.
URL:https://www.111project.org/activities/canadian-county-virtual-community-gathering-2/2027-03-24/
LOCATION:Oklahoma
CATEGORIES:Community Gatherings
ATTACH;FMTTYPE=image/png:https://www.111project.org/wp-content/uploads/2026/01/Canadian.png
ORGANIZER;CN="111Project":MAILTO:info@111project.org
END:VEVENT
BEGIN:VEVENT
DTSTART;TZID=America/Chicago:20270415T133000
DTEND;TZID=America/Chicago:20270415T143000
DTSTAMP:20260425T090820
CREATED:20260407T215540Z
LAST-MODIFIED:20260407T215543Z
UID:10001992-1807795800-1807799400@www.111project.org
SUMMARY:Northeast OK County Community Gathering
DESCRIPTION:Location: Prospect Baptist Church \n\n\n\n2809 N Missouri Ave\, Oklahoma City\, OK 73111 \n\n\n\nJoin us for a regional collaboration of church and agency leaders connected through CarePortal with the mission of serving kids and families in our community! Community Gatherings are table conversations where we discuss open opportunities to serve\, ideas for deeper engagement\, and helpful connections and resourcing among friends. We would love to see you or a representative from your church there\, so please RSVP!
URL:https://www.111project.org/activities/northeast-ok-county-community-gathering-2/2027-04-15/
LOCATION:Oklahoma
CATEGORIES:Community Gatherings
END:VEVENT
BEGIN:VEVENT
DTSTART;TZID=America/Chicago:20270420T120000
DTEND;TZID=America/Chicago:20270420T130000
DTSTAMP:20260425T090820
CREATED:20251230T231923Z
LAST-MODIFIED:20251230T231926Z
UID:10001476-1808222400-1808226000@www.111project.org
SUMMARY:Pittsburg County Community Gathering
DESCRIPTION:Register Here!\n\n\n\n\n\n\n\nHey\, all! Come join the OKDHS\, the Church\, and community members at the Pittsburg County Community Gathering\, where we celebrate what we have done\, discuss what is being done\, and plan what can be done to end the child welfare crisis in Pittsburg County.
URL:https://www.111project.org/activities/pittsburg-county-community-gathering-21/2027-04-20/
LOCATION:Oklahoma
CATEGORIES:Community Gatherings
ATTACH;FMTTYPE=image/png:https://www.111project.org/wp-content/uploads/2025/08/Pittsburg-1.png
ORGANIZER;CN="111Project":MAILTO:info@111project.org
END:VEVENT
BEGIN:VEVENT
DTSTART;TZID=America/Chicago:20270422T100000
DTEND;TZID=America/Chicago:20270422T110000
DTSTAMP:20260425T090820
CREATED:20260407T222431Z
LAST-MODIFIED:20260407T230454Z
UID:10002054-1808388000-1808391600@www.111project.org
SUMMARY:Southeast OK County Community Gathering
DESCRIPTION:Location: Cornerstone Church  \n\n\n\n9900 SE 15th St\, Midwest City\, OK 73130 \n\n\n\nJoin us for a regional collaboration of church and agency leaders connected through CarePortal with the mission of serving kids and families in our community! Community Gatherings are table conversations where we discuss open opportunities to serve\, ideas for deeper engagement\, and helpful connections and resourcing among friends. We would love to see you or a representative from your church there\, so please RSVP!
URL:https://www.111project.org/activities/southeast-ok-county-community-gathering-2/2027-04-22/
LOCATION:Oklahoma
CATEGORIES:Community Gatherings
END:VEVENT
BEGIN:VEVENT
DTSTART;TZID=America/Chicago:20270422T120000
DTEND;TZID=America/Chicago:20270422T130000
DTSTAMP:20260425T090820
CREATED:20260407T222206Z
LAST-MODIFIED:20260407T230359Z
UID:10002023-1808395200-1808398800@www.111project.org
SUMMARY:Southwest and Central OK County Community Gathering
DESCRIPTION:Where: Crossroads Church-South Entrance \n\n\n\n8901 S Shields Blvd\, Oklahoma City\, OK 73149 \n\n\n\nJoin us for a regional collaboration of church and agency leaders connected through CarePortal with the mission of serving kids and families in our community! Community Gatherings are table conversations where we discuss open opportunities to serve\, ideas for deeper engagement\, and helpful connections and resourcing among friends. We would love to see you or a representative from your church there\, so please RSVP!
URL:https://www.111project.org/activities/southwest-and-central-ok-county-community-gathering-2/2027-04-22/
LOCATION:Oklahoma
CATEGORIES:Community Gatherings
END:VEVENT
BEGIN:VEVENT
DTSTART;TZID=America/Chicago:20270427T120000
DTEND;TZID=America/Chicago:20270427T130000
DTSTAMP:20260425T090820
CREATED:20250922T205903Z
LAST-MODIFIED:20251112T192330Z
UID:10001343-1808827200-1808830800@www.111project.org
SUMMARY:LeFlore Community Gathering
DESCRIPTION:Hey\, all! Come join the OKDHS\, the Church\, and community members at the LeFlore County Community Gathering\, where we celebrate what we have done\, discuss what is being done\, and plan what can be done to end the child welfare crisis in LeFlore County.
URL:https://www.111project.org/activities/leflore-community-gathering-15/2027-04-27/
LOCATION:Oklahoma
CATEGORIES:Community Gatherings
END:VEVENT
BEGIN:VEVENT
DTSTART;TZID=America/Chicago:20270518T120000
DTEND;TZID=America/Chicago:20270518T130000
DTSTAMP:20260425T090820
CREATED:20251230T231923Z
LAST-MODIFIED:20251230T231926Z
UID:10001477-1810641600-1810645200@www.111project.org
SUMMARY:Pittsburg County Community Gathering
DESCRIPTION:Register Here!\n\n\n\n\n\n\n\nHey\, all! Come join the OKDHS\, the Church\, and community members at the Pittsburg County Community Gathering\, where we celebrate what we have done\, discuss what is being done\, and plan what can be done to end the child welfare crisis in Pittsburg County.
URL:https://www.111project.org/activities/pittsburg-county-community-gathering-21/2027-05-18/
LOCATION:Oklahoma
CATEGORIES:Community Gatherings
ATTACH;FMTTYPE=image/png:https://www.111project.org/wp-content/uploads/2025/08/Pittsburg-1.png
ORGANIZER;CN="111Project":MAILTO:info@111project.org
END:VEVENT
BEGIN:VEVENT
DTSTART;TZID=America/Chicago:20270524T120000
DTEND;TZID=America/Chicago:20270524T133000
DTSTAMP:20260425T090821
CREATED:20260107T025239Z
LAST-MODIFIED:20260107T030245Z
UID:10001608-1811160000-1811165400@www.111project.org
SUMMARY:Oklahoma County Together Virtual Community Gathering
DESCRIPTION:Register Here!\n\n\n\n\n\n\n\n\n\nJoin us for a collaboration of church and agency leaders in Oklahoma County connected through CarePortal with the mission of serving kids and families in our community! Community Gatherings are table conversations where we discuss open opportunities to serve\, ideas for deeper engagement and helpful connections and resourcing among friends.
URL:https://www.111project.org/activities/oklahoma-county-together-virtual-community-gathering/2027-05-24/
LOCATION:Oklahoma
CATEGORIES:Community Gatherings
ATTACH;FMTTYPE=image/png:https://www.111project.org/wp-content/uploads/2026/01/Oklahoma.png
ORGANIZER;CN="111Project":MAILTO:info@111project.org
END:VEVENT
BEGIN:VEVENT
DTSTART;TZID=America/Chicago:20270525T120000
DTEND;TZID=America/Chicago:20270525T130000
DTSTAMP:20260425T090821
CREATED:20250922T205903Z
LAST-MODIFIED:20251112T192330Z
UID:10001344-1811246400-1811250000@www.111project.org
SUMMARY:LeFlore Community Gathering
DESCRIPTION:Hey\, all! Come join the OKDHS\, the Church\, and community members at the LeFlore County Community Gathering\, where we celebrate what we have done\, discuss what is being done\, and plan what can be done to end the child welfare crisis in LeFlore County.
URL:https://www.111project.org/activities/leflore-community-gathering-15/2027-05-25/
LOCATION:Oklahoma
CATEGORIES:Community Gatherings
END:VEVENT
BEGIN:VEVENT
DTSTART;TZID=America/Chicago:20270526T100000
DTEND;TZID=America/Chicago:20270526T113000
DTSTAMP:20260425T090821
CREATED:20260107T030813Z
LAST-MODIFIED:20260107T030816Z
UID:10001668-1811325600-1811331000@www.111project.org
SUMMARY:Canadian County Virtual Community Gathering
DESCRIPTION:Register Here!\n\n\n\n\n\n\n\n\n\nJoin us for a collaboration of church and agency leaders in Canadian County connected through CarePortal with the mission of serving kids and families in our community! Community Gatherings are table conversations where we discuss open opportunities to serve\, ideas for deeper engagement and helpful connections and resourcing among friends.
URL:https://www.111project.org/activities/canadian-county-virtual-community-gathering-2/2027-05-26/
LOCATION:Oklahoma
CATEGORIES:Community Gatherings
ATTACH;FMTTYPE=image/png:https://www.111project.org/wp-content/uploads/2026/01/Canadian.png
ORGANIZER;CN="111Project":MAILTO:info@111project.org
END:VEVENT
BEGIN:VEVENT
DTSTART;TZID=America/Chicago:20270615T120000
DTEND;TZID=America/Chicago:20270615T130000
DTSTAMP:20260425T090821
CREATED:20251230T231923Z
LAST-MODIFIED:20251230T231926Z
UID:10001478-1813060800-1813064400@www.111project.org
SUMMARY:Pittsburg County Community Gathering
DESCRIPTION:Register Here!\n\n\n\n\n\n\n\nHey\, all! Come join the OKDHS\, the Church\, and community members at the Pittsburg County Community Gathering\, where we celebrate what we have done\, discuss what is being done\, and plan what can be done to end the child welfare crisis in Pittsburg County.
URL:https://www.111project.org/activities/pittsburg-county-community-gathering-21/2027-06-15/
LOCATION:Oklahoma
CATEGORIES:Community Gatherings
ATTACH;FMTTYPE=image/png:https://www.111project.org/wp-content/uploads/2025/08/Pittsburg-1.png
ORGANIZER;CN="111Project":MAILTO:info@111project.org
END:VEVENT
BEGIN:VEVENT
DTSTART;TZID=America/Chicago:20270617T133000
DTEND;TZID=America/Chicago:20270617T143000
DTSTAMP:20260425T090821
CREATED:20260407T215540Z
LAST-MODIFIED:20260407T215543Z
UID:10001993-1813239000-1813242600@www.111project.org
SUMMARY:Northeast OK County Community Gathering
DESCRIPTION:Location: Prospect Baptist Church \n\n\n\n2809 N Missouri Ave\, Oklahoma City\, OK 73111 \n\n\n\nJoin us for a regional collaboration of church and agency leaders connected through CarePortal with the mission of serving kids and families in our community! Community Gatherings are table conversations where we discuss open opportunities to serve\, ideas for deeper engagement\, and helpful connections and resourcing among friends. We would love to see you or a representative from your church there\, so please RSVP!
URL:https://www.111project.org/activities/northeast-ok-county-community-gathering-2/2027-06-17/
LOCATION:Oklahoma
CATEGORIES:Community Gatherings
END:VEVENT
BEGIN:VEVENT
DTSTART;TZID=America/Chicago:20270622T120000
DTEND;TZID=America/Chicago:20270622T130000
DTSTAMP:20260425T090821
CREATED:20250922T205903Z
LAST-MODIFIED:20251112T192330Z
UID:10001345-1813665600-1813669200@www.111project.org
SUMMARY:LeFlore Community Gathering
DESCRIPTION:Hey\, all! Come join the OKDHS\, the Church\, and community members at the LeFlore County Community Gathering\, where we celebrate what we have done\, discuss what is being done\, and plan what can be done to end the child welfare crisis in LeFlore County.
URL:https://www.111project.org/activities/leflore-community-gathering-15/2027-06-22/
LOCATION:Oklahoma
CATEGORIES:Community Gatherings
END:VEVENT
BEGIN:VEVENT
DTSTART;TZID=America/Chicago:20270624T100000
DTEND;TZID=America/Chicago:20270624T110000
DTSTAMP:20260425T090821
CREATED:20260407T222431Z
LAST-MODIFIED:20260407T230454Z
UID:10002055-1813831200-1813834800@www.111project.org
SUMMARY:Southeast OK County Community Gathering
DESCRIPTION:Location: Cornerstone Church  \n\n\n\n9900 SE 15th St\, Midwest City\, OK 73130 \n\n\n\nJoin us for a regional collaboration of church and agency leaders connected through CarePortal with the mission of serving kids and families in our community! Community Gatherings are table conversations where we discuss open opportunities to serve\, ideas for deeper engagement\, and helpful connections and resourcing among friends. We would love to see you or a representative from your church there\, so please RSVP!
URL:https://www.111project.org/activities/southeast-ok-county-community-gathering-2/2027-06-24/
LOCATION:Oklahoma
CATEGORIES:Community Gatherings
END:VEVENT
BEGIN:VEVENT
DTSTART;TZID=America/Chicago:20270624T120000
DTEND;TZID=America/Chicago:20270624T130000
DTSTAMP:20260425T090821
CREATED:20260407T222206Z
LAST-MODIFIED:20260407T230359Z
UID:10002024-1813838400-1813842000@www.111project.org
SUMMARY:Southwest and Central OK County Community Gathering
DESCRIPTION:Where: Crossroads Church-South Entrance \n\n\n\n8901 S Shields Blvd\, Oklahoma City\, OK 73149 \n\n\n\nJoin us for a regional collaboration of church and agency leaders connected through CarePortal with the mission of serving kids and families in our community! Community Gatherings are table conversations where we discuss open opportunities to serve\, ideas for deeper engagement\, and helpful connections and resourcing among friends. We would love to see you or a representative from your church there\, so please RSVP!
URL:https://www.111project.org/activities/southwest-and-central-ok-county-community-gathering-2/2027-06-24/
LOCATION:Oklahoma
CATEGORIES:Community Gatherings
END:VEVENT
BEGIN:VEVENT
DTSTART;TZID=America/Chicago:20270720T120000
DTEND;TZID=America/Chicago:20270720T130000
DTSTAMP:20260425T090821
CREATED:20251230T231923Z
LAST-MODIFIED:20251230T231926Z
UID:10001479-1816084800-1816088400@www.111project.org
SUMMARY:Pittsburg County Community Gathering
DESCRIPTION:Register Here!\n\n\n\n\n\n\n\nHey\, all! Come join the OKDHS\, the Church\, and community members at the Pittsburg County Community Gathering\, where we celebrate what we have done\, discuss what is being done\, and plan what can be done to end the child welfare crisis in Pittsburg County.
URL:https://www.111project.org/activities/pittsburg-county-community-gathering-21/2027-07-20/
LOCATION:Oklahoma
CATEGORIES:Community Gatherings
ATTACH;FMTTYPE=image/png:https://www.111project.org/wp-content/uploads/2025/08/Pittsburg-1.png
ORGANIZER;CN="111Project":MAILTO:info@111project.org
END:VEVENT
BEGIN:VEVENT
DTSTART;TZID=America/Chicago:20270726T120000
DTEND;TZID=America/Chicago:20270726T133000
DTSTAMP:20260425T090821
CREATED:20260107T025239Z
LAST-MODIFIED:20260107T030245Z
UID:10001609-1816603200-1816608600@www.111project.org
SUMMARY:Oklahoma County Together Virtual Community Gathering
DESCRIPTION:Register Here!\n\n\n\n\n\n\n\n\n\nJoin us for a collaboration of church and agency leaders in Oklahoma County connected through CarePortal with the mission of serving kids and families in our community! Community Gatherings are table conversations where we discuss open opportunities to serve\, ideas for deeper engagement and helpful connections and resourcing among friends.
URL:https://www.111project.org/activities/oklahoma-county-together-virtual-community-gathering/2027-07-26/
LOCATION:Oklahoma
CATEGORIES:Community Gatherings
ATTACH;FMTTYPE=image/png:https://www.111project.org/wp-content/uploads/2026/01/Oklahoma.png
ORGANIZER;CN="111Project":MAILTO:info@111project.org
END:VEVENT
BEGIN:VEVENT
DTSTART;TZID=America/Chicago:20270727T120000
DTEND;TZID=America/Chicago:20270727T130000
DTSTAMP:20260425T090821
CREATED:20250922T205903Z
LAST-MODIFIED:20251112T192330Z
UID:10001346-1816689600-1816693200@www.111project.org
SUMMARY:LeFlore Community Gathering
DESCRIPTION:Hey\, all! Come join the OKDHS\, the Church\, and community members at the LeFlore County Community Gathering\, where we celebrate what we have done\, discuss what is being done\, and plan what can be done to end the child welfare crisis in LeFlore County.
URL:https://www.111project.org/activities/leflore-community-gathering-15/2027-07-27/
LOCATION:Oklahoma
CATEGORIES:Community Gatherings
END:VEVENT
END:VCALENDAR