BEGIN:VCALENDAR
VERSION:2.0
PRODID:-//111Project.org - ECPv6.15.18//NONSGML v1.0//EN
CALSCALE:GREGORIAN
METHOD:PUBLISH
X-ORIGINAL-URL:https://www.111project.org
X-WR-CALDESC:Events for 111Project.org
REFRESH-INTERVAL;VALUE=DURATION:PT1H
X-Robots-Tag:noindex
X-PUBLISHED-TTL:PT1H
BEGIN:VTIMEZONE
TZID:America/Chicago
BEGIN:DAYLIGHT
TZOFFSETFROM:-0600
TZOFFSETTO:-0500
TZNAME:CDT
DTSTART:20250309T080000
END:DAYLIGHT
BEGIN:STANDARD
TZOFFSETFROM:-0500
TZOFFSETTO:-0600
TZNAME:CST
DTSTART:20251102T070000
END:STANDARD
BEGIN:DAYLIGHT
TZOFFSETFROM:-0600
TZOFFSETTO:-0500
TZNAME:CDT
DTSTART:20260308T080000
END:DAYLIGHT
BEGIN:STANDARD
TZOFFSETFROM:-0500
TZOFFSETTO:-0600
TZNAME:CST
DTSTART:20261101T070000
END:STANDARD
BEGIN:DAYLIGHT
TZOFFSETFROM:-0600
TZOFFSETTO:-0500
TZNAME:CDT
DTSTART:20270314T080000
END:DAYLIGHT
BEGIN:STANDARD
TZOFFSETFROM:-0500
TZOFFSETTO:-0600
TZNAME:CST
DTSTART:20271107T070000
END:STANDARD
END:VTIMEZONE
BEGIN:VEVENT
DTSTART;TZID=America/Chicago:20260219T133000
DTEND;TZID=America/Chicago:20260219T143000
DTSTAMP:20260424T102022
CREATED:20260203T030734Z
LAST-MODIFIED:20260203T030803Z
UID:10001874-1771507800-1771511400@www.111project.org
SUMMARY:Northeast OK County Community Gathering
DESCRIPTION:Join us for a regional collaboration of church and agency leaders connected through CarePortal with the mission of serving kids and families in our community! Community Gatherings are table conversations where we discuss open opportunities to serve\, ideas for deeper engagement\, and helpful connections and resourcing among friends. We would love to see you or a representative from your church there\, so please RSVP!
URL:https://www.111project.org/activities/northeast-ok-county-community-gathering/
CATEGORIES:Community Gatherings
ATTACH;FMTTYPE=image/png:https://www.111project.org/wp-content/uploads/2026/02/NE-Oklahoma.png
END:VEVENT
BEGIN:VEVENT
DTSTART;TZID=America/Chicago:20260219T133000
DTEND;TZID=America/Chicago:20260219T150000
DTSTAMP:20260424T102022
CREATED:20260205T162038Z
LAST-MODIFIED:20260205T162041Z
UID:10001888-1771507800-1771513200@www.111project.org
SUMMARY:Osage Community Gathering
DESCRIPTION:Join local Church and Community Leaders with a heart for children and families! This will be a time of community collaboration\, as we work to come up with solutions and next steps! Invite someone you would like to see at the table! We hope to see you there! 
URL:https://www.111project.org/activities/osage-community-gathering/
LOCATION:The Mercantile\, 532 Kikekah Ave\, Pawhuska\, Oklahoma\, United States
CATEGORIES:Community Gatherings
ATTACH;FMTTYPE=image/jpeg:https://www.111project.org/wp-content/uploads/2026/02/Osage.jpg
END:VEVENT
BEGIN:VEVENT
DTSTART;TZID=America/Chicago:20260224T090000
DTEND;TZID=America/Chicago:20260224T101500
DTSTAMP:20260424T102022
CREATED:20260107T163052Z
LAST-MODIFIED:20260107T163137Z
UID:10001813-1771923600-1771928100@www.111project.org
SUMMARY:Lincoln County Community Gathering
DESCRIPTION:What is a Community Gathering? \n\n\n\nIn the simplest terms\, this is where you get to hear about what is happening in your community at a very local level and how you can be involved.  \n\n\n\nThese are regular meetings of church and agency leaders\, as well as community members\, who collaborate to support and advocate for children and families\, particularly through the CarePortal. \n\n\n\nThese gatherings provide a platform for sharing stories (both the good and the challenging)\, discussing local needs\, collaborating on resources\, developing strategies for family support\, and planning future actions for vulnerable children and families within each specific geographic community.
URL:https://www.111project.org/activities/lincoln-county-community-gathering-2/
LOCATION:2020 E 1st Street\, Chandler\, OK 74834\, 2020 E 1st St.\, Chandler\, Oklahoma\, 74834
CATEGORIES:Community Gatherings
ATTACH;FMTTYPE=image/png:https://www.111project.org/wp-content/uploads/2026/01/Lincoln-1.png
END:VEVENT
BEGIN:VEVENT
DTSTART;TZID=America/Chicago:20260224T100000
DTEND;TZID=America/Chicago:20260224T110000
DTSTAMP:20260424T102022
CREATED:20260203T033049Z
LAST-MODIFIED:20260224T154808Z
UID:10001878-1771927200-1771930800@www.111project.org
SUMMARY:Cancelled: Edmond Community Gathering
DESCRIPTION:Join us for a regional collaboration of church and agency leaders connected through CarePortal with the mission of serving kids and families in our community! Community Gatherings are table conversations where we discuss open opportunities to serve\, ideas for deeper engagement\, and helpful connections and resourcing among friends. We would love to see you or a representative from your church there\, so please RSVP!
URL:https://www.111project.org/activities/edmond-community-gathering-2/
CATEGORIES:Community Gatherings
ATTACH;FMTTYPE=image/png:https://www.111project.org/wp-content/uploads/2026/02/Edmond.png
END:VEVENT
BEGIN:VEVENT
DTSTART;TZID=America/Chicago:20260224T113000
DTEND;TZID=America/Chicago:20260224T123000
DTSTAMP:20260424T102022
CREATED:20260206T190839Z
LAST-MODIFIED:20260206T190844Z
UID:10001899-1771932600-1771936200@www.111project.org
SUMMARY:Custer County Community Gathering
DESCRIPTION:Register Here!\n\n\n\n\n\n\n\nJoin us for our next Community Gathering with DHS\, local church leaders\, and other agency and community members with a heart for child and family welfare. We will discuss local resources and needs\, including CarePortal. Lunch will be provided. 
URL:https://www.111project.org/activities/custer-county-community-gathering/
CATEGORIES:Community Gatherings
ATTACH;FMTTYPE=image/png:https://www.111project.org/wp-content/uploads/2026/02/Custer-Feb.-24-2026.png
ORGANIZER;CN="111Project":MAILTO:info@111project.org
END:VEVENT
BEGIN:VEVENT
DTSTART;TZID=America/Chicago:20260224T120000
DTEND;TZID=America/Chicago:20260224T130000
DTSTAMP:20260424T102022
CREATED:20250922T205903Z
LAST-MODIFIED:20251112T192330Z
UID:10001329-1771934400-1771938000@www.111project.org
SUMMARY:LeFlore Community Gathering
DESCRIPTION:Hey\, all! Come join the OKDHS\, the Church\, and community members at the LeFlore County Community Gathering\, where we celebrate what we have done\, discuss what is being done\, and plan what can be done to end the child welfare crisis in LeFlore County.
URL:https://www.111project.org/activities/leflore-community-gathering-15/2026-02-24/
CATEGORIES:Community Gatherings
END:VEVENT
BEGIN:VEVENT
DTSTART;TZID=America/Chicago:20260224T120000
DTEND;TZID=America/Chicago:20260224T131500
DTSTAMP:20260424T102022
CREATED:20260107T163505Z
LAST-MODIFIED:20260107T163606Z
UID:10001822-1771934400-1771938900@www.111project.org
SUMMARY:Okmulgee County Community Gathering
DESCRIPTION:What is a Community Gathering? \n\n\n\nIn the simplest terms\, this is where you get to hear about what is happening in your community at a very local level and how you can be involved.  \n\n\n\nThese are regular meetings of church and agency leaders\, as well as community members\, who collaborate to support and advocate for children and families\, particularly through the CarePortal. \n\n\n\nThese gatherings provide a platform for sharing stories (both the good and the challenging)\, discussing local needs\, collaborating on resources\, developing strategies for family support\, and planning future actions for vulnerable children and families within each specific geographic community.
URL:https://www.111project.org/activities/okmulgee-county-community-gathering-2/
LOCATION:3499 N. Wood Dr. Okmulgee\, OK 74447\, 3499 N Wood Dr\, Okmulgee\, Oklahoma\, 74447
CATEGORIES:Community Gatherings
ATTACH;FMTTYPE=image/png:https://www.111project.org/wp-content/uploads/2026/01/Okmulgee-1.png
END:VEVENT
BEGIN:VEVENT
DTSTART;TZID=America/Chicago:20260224T180000
DTEND;TZID=America/Chicago:20260224T191500
DTSTAMP:20260424T102022
CREATED:20260107T164327Z
LAST-MODIFIED:20260107T164334Z
UID:10001831-1771956000-1771960500@www.111project.org
SUMMARY:Creek County Community Gathering
DESCRIPTION:What is a Community Gathering? \n\n\n\nIn the simplest terms\, this is where you get to hear about what is happening in your community at a very local level and how you can be involved.  \n\n\n\nThese are regular meetings of church and agency leaders\, as well as community members\, who collaborate to support and advocate for children and families\, particularly through the CarePortal. \n\n\n\nThese gatherings provide a platform for sharing stories (both the good and the challenging)\, discussing local needs\, collaborating on resources\, developing strategies for family support\, and planning future actions for vulnerable children and families within each specific geographic community.
URL:https://www.111project.org/activities/creek-county-community-gathering-2/
LOCATION:801 E Dewey Ave. Sapulpa\, OK 74066\, 801 E Dewey Ave\, Oklahoma\, 74066
CATEGORIES:Community Gatherings
ATTACH;FMTTYPE=image/png:https://www.111project.org/wp-content/uploads/2026/01/Creek-1.png
END:VEVENT
BEGIN:VEVENT
DTSTART;TZID=America/Chicago:20260225T120000
DTEND;TZID=America/Chicago:20260225T130000
DTSTAMP:20260424T102022
CREATED:20260225T160716Z
LAST-MODIFIED:20260225T160751Z
UID:10001969-1772020800-1772024400@www.111project.org
SUMMARY:Atoka & Coal Counties Community Gathering
DESCRIPTION:Register Here!\n\n\n\n\n\n\n\n\n\nJoin local church & community leaders with a heart for children & family welfare. We will pray\, pursue\, and work toward local solutions while making meaningful connections that last. Refreshments will be provided.
URL:https://www.111project.org/activities/atoka-coal-counties-community-gathering-7/2026-02-25/
CATEGORIES:Community Gatherings
ATTACH;FMTTYPE=image/jpeg:https://www.111project.org/wp-content/uploads/2025/12/AtokaCoal-FEBRUARY.jpg
ORGANIZER;CN="111Project":MAILTO:info@111project.org
END:VEVENT
BEGIN:VEVENT
DTSTART;TZID=America/Chicago:20260226T090000
DTEND;TZID=America/Chicago:20260226T100000
DTSTAMP:20260424T102022
CREATED:20260203T032437Z
LAST-MODIFIED:20260203T032441Z
UID:10001876-1772096400-1772100000@www.111project.org
SUMMARY:Southwest and Central OK County Community Gathering
DESCRIPTION:Join us for a regional collaboration of church and agency leaders connected through CarePortal with the mission of serving kids and families in our community! Community Gatherings are table conversations where we discuss open opportunities to serve\, ideas for deeper engagement\, and helpful connections and resourcing among friends. We would love to see you or a representative from your church there\, so please RSVP!
URL:https://www.111project.org/activities/southwest-and-central-ok-county-community-gathering/
CATEGORIES:Community Gatherings
ATTACH;FMTTYPE=image/png:https://www.111project.org/wp-content/uploads/2026/02/SW-Oklahoma.png
END:VEVENT
BEGIN:VEVENT
DTSTART;TZID=America/Chicago:20260226T090000
DTEND;TZID=America/Chicago:20260226T100000
DTSTAMP:20260424T102022
CREATED:20260221T190023Z
LAST-MODIFIED:20260221T190027Z
UID:10001968-1772096400-1772100000@www.111project.org
SUMMARY:Johnston County Community Gathering February 2026
DESCRIPTION:Register Here!\n\n\n\n\n\n\n\n\n\nJoin us for our next Community Gathering with DHS\, local church leaders\, and other agency and community members with a heart for child and family welfare. We will discuss local resources and needs including CarePortal.
URL:https://www.111project.org/activities/johnston-county-community-gathering-february-2026/
CATEGORIES:Community Gatherings
ORGANIZER;CN="111Project":MAILTO:info@111project.org
END:VEVENT
BEGIN:VEVENT
DTSTART;TZID=America/Chicago:20260226T103000
DTEND;TZID=America/Chicago:20260226T113000
DTSTAMP:20260424T102022
CREATED:20260203T031306Z
LAST-MODIFIED:20260203T031310Z
UID:10001875-1772101800-1772105400@www.111project.org
SUMMARY:Southeast OK County Community Gathering
DESCRIPTION:Join us for a regional collaboration of church and agency leaders connected through CarePortal with the mission of serving kids and families in our community! Community Gatherings are table conversations where we discuss open opportunities to serve\, ideas for deeper engagement\, and helpful connections and resourcing among friends. We would love to see you or a representative from your church there\, so please RSVP!
URL:https://www.111project.org/activities/southeast-ok-county-community-gathering/
CATEGORIES:Community Gatherings
ATTACH;FMTTYPE=image/png:https://www.111project.org/wp-content/uploads/2026/02/SE-Oklahoma.png
END:VEVENT
BEGIN:VEVENT
DTSTART;TZID=America/Chicago:20260226T120000
DTEND;TZID=America/Chicago:20260226T130000
DTSTAMP:20260424T102022
CREATED:20251231T175503Z
LAST-MODIFIED:20251231T175507Z
UID:10001545-1772107200-1772110800@www.111project.org
SUMMARY:Pontotoc County Community Gathering
DESCRIPTION:Register Here!\n\n\n\n\n\n\n\n\n\nHey\, all! Come join the OKDHS\, the Church\, and community members at our Community Gathering\, where we celebrate what we have done\, discuss what is being done\, and plan what can be done to end the child welfare crisis in Oklahoma.
URL:https://www.111project.org/activities/pontotoc-county-community-gathering-8/2026-02-26/
CATEGORIES:Community Gatherings
ATTACH;FMTTYPE=image/png:https://www.111project.org/wp-content/uploads/2025/06/Pontotoc.png
ORGANIZER;CN="111Project":MAILTO:info@111project.org
END:VEVENT
BEGIN:VEVENT
DTSTART;TZID=America/Chicago:20260226T130000
DTEND;TZID=America/Chicago:20260226T143000
DTSTAMP:20260424T102022
CREATED:20260204T181330Z
LAST-MODIFIED:20260204T181335Z
UID:10001881-1772110800-1772116200@www.111project.org
SUMMARY:Pottawatomie County Community Gathering
DESCRIPTION:Register Here!\n\n\n\n\n\n\n\nJoin us as we collaborate together to see that EVERY child in Oklahoma has family! The Lord is using His Church to solve the Foster Care crisis; let’s do it together! Snacks will be provided.
URL:https://www.111project.org/activities/pottawatomie-county-community-gathering-2/
CATEGORIES:Community Gatherings
ATTACH;FMTTYPE=image/png:https://www.111project.org/wp-content/uploads/2026/02/Pott-County-Feb-2026.png
ORGANIZER;CN="111Project":MAILTO:info@111project.org
END:VEVENT
BEGIN:VEVENT
DTSTART;TZID=America/Chicago:20260226T130000
DTEND;TZID=America/Chicago:20260226T143000
DTSTAMP:20260424T102022
CREATED:20260206T140833Z
LAST-MODIFIED:20260206T140837Z
UID:10001896-1772110800-1772116200@www.111project.org
SUMMARY:MEND Medical Launch Party
DESCRIPTION:a {\n    text-decoration: none;\n    color: #464feb;\n}\ntr th\, tr td {\n    border: 1px solid #e6e6e6;\n}\ntr th {\n    background-color: #f5f5f5;\n}\n \nBe part of the MEND Medical launch as we honor their mission to empower mothers-to-be and provide thoughtful\, ongoing support through every stage of the motherhood journey.
URL:https://www.111project.org/activities/mend-medical-launch-party/
LOCATION:6216 S Lewis Tulsa\, Ok 74136\, 6216 S Lewis Ave\, Tulsa\, Oklahoma\, 74136\, United States
CATEGORIES:Community Gatherings
ATTACH;FMTTYPE=image/png:https://www.111project.org/wp-content/uploads/2025/12/Copy-of-Community-Gathering-Template-e1768335412404.png
ORGANIZER;CN="111Project":MAILTO:info@111project.org
END:VEVENT
BEGIN:VEVENT
DTSTART;TZID=America/Chicago:20260305T090000
DTEND;TZID=America/Chicago:20260305T101500
DTSTAMP:20260424T102022
CREATED:20260106T212529Z
LAST-MODIFIED:20260106T212532Z
UID:10001572-1772701200-1772705700@www.111project.org
SUMMARY:Sequoyah County Community Gathering
DESCRIPTION:What is a Community Gathering? \n\n\n\nIn the simplest terms\, this is where you get to hear about what is happening in your community at a very local level and how you can be involved.  \n\n\n\nThese are regular meetings of church and agency leaders\, as well as community members\, who collaborate to support and advocate for children and families\, particularly through the CarePortal. \n\n\n\nThese gatherings provide a platform for sharing stories (both the good and the challenging)\, discussing local needs\, collaborating on resources\, developing strategies for family support\, and planning future actions for vulnerable children and families within each specific geographic community.
URL:https://www.111project.org/activities/sequoyah-county-community-gathering-3/
LOCATION:OKDHS OFFICE: 502 George Glenn Blvd\, Sallisaw\, OK 74955
CATEGORIES:Community Gatherings
ATTACH;FMTTYPE=image/png:https://www.111project.org/wp-content/uploads/2026/01/Sequoyah.png
END:VEVENT
BEGIN:VEVENT
DTSTART;TZID=America/Chicago:20260305T100000
DTEND;TZID=America/Chicago:20260305T113000
DTSTAMP:20260424T102022
CREATED:20260128T204505Z
LAST-MODIFIED:20260128T204511Z
UID:10001867-1772704800-1772710200@www.111project.org
SUMMARY:Mayes County Community Gathering
DESCRIPTION:Join local Church and Community Leaders with a heart for children and families! This will be a time of community collaboration\, as we work to come up with solutions and next steps! Invite someone you would like to see at the table! We hope to see you there! 
URL:https://www.111project.org/activities/mayes-county-community-gathering-2/
LOCATION:Your Place Resource Center\, 3131 W 520 Rd\, Pryor\, Oklahoma\, United States
CATEGORIES:Community Gatherings
END:VEVENT
BEGIN:VEVENT
DTSTART;TZID=America/Chicago:20260305T120000
DTEND;TZID=America/Chicago:20260305T130000
DTSTAMP:20260424T102022
CREATED:20260128T215338Z
LAST-MODIFIED:20260128T215342Z
UID:10001869-1772712000-1772715600@www.111project.org
SUMMARY:Garfield County Community Gathering
DESCRIPTION:Register Here!\n\n\n\n\n\n\n\n\n\nJoin us for our next Community Gathering with DHS\, local church leaders\, and other agency and community members with a heart for child and family welfare. We will discuss local resources and needs including CarePortal. Lunch will be provided. 
URL:https://www.111project.org/activities/garfield-county-community-gathering-2/
CATEGORIES:Community Gatherings
ATTACH;FMTTYPE=image/png:https://www.111project.org/wp-content/uploads/2026/01/Garfield-3-26.png
ORGANIZER;CN="111Project":MAILTO:info@111project.org
END:VEVENT
BEGIN:VEVENT
DTSTART;TZID=America/Chicago:20260305T130000
DTEND;TZID=America/Chicago:20260305T140000
DTSTAMP:20260424T102022
CREATED:20251230T230312Z
LAST-MODIFIED:20251231T174812Z
UID:10001451-1772715600-1772719200@www.111project.org
SUMMARY:Pushmataha/ Choctaw County Community Gathering
DESCRIPTION:Register Here!\n\n\n\n\n\n\n\nHey\, all! Come join the OKDHS\, the Church\, and community members at our Community Gathering\, where we celebrate what we have done\, discuss what is being done\, and plan what can be done to end the child welfare crisis in Oklahoma.
URL:https://www.111project.org/activities/pushmataha-county-community-gathering-6/2026-03-05/
CATEGORIES:Community Gatherings
ATTACH;FMTTYPE=image/png:https://www.111project.org/wp-content/uploads/2025/12/Mayes-FEBRUARY-7.png
ORGANIZER;CN="111Project":MAILTO:info@111project.org
END:VEVENT
BEGIN:VEVENT
DTSTART;TZID=America/Chicago:20260305T133000
DTEND;TZID=America/Chicago:20260305T150000
DTSTAMP:20260424T102022
CREATED:20260205T164245Z
LAST-MODIFIED:20260205T164249Z
UID:10001890-1772717400-1772722800@www.111project.org
SUMMARY:Delaware County Community Gathering
DESCRIPTION:Join local Church and Community Leaders with a heart for children and families! This will be a time of community collaboration\, as we work to come up with solutions and next steps! Invite someone you would like to see at the table! We hope to see you there! 
URL:https://www.111project.org/activities/delaware-county-community-gathering-2/
LOCATION:Church on the Hill\, 1005 Leisure Rd\, Grove\, Oklahoma\, 74344\, United States
CATEGORIES:Community Gatherings
ATTACH;FMTTYPE=image/jpeg:https://www.111project.org/wp-content/uploads/2026/02/Delaware-1.jpg
END:VEVENT
BEGIN:VEVENT
DTSTART;TZID=America/Chicago:20260305T140000
DTEND;TZID=America/Chicago:20260305T151500
DTSTAMP:20260424T102022
CREATED:20260106T213419Z
LAST-MODIFIED:20260106T213423Z
UID:10001586-1772719200-1772723700@www.111project.org
SUMMARY:Muskogee Community Gathering
DESCRIPTION:What is a Community Gathering? \n\n\n\nIn the simplest terms\, this is where you get to hear about what is happening in your community at a very local level and how you can be involved.  \n\n\n\nThese are regular meetings of church and agency leaders\, as well as community members\, who collaborate to support and advocate for children and families\, particularly through the CarePortal. \n\n\n\nThese gatherings provide a platform for sharing stories (both the good and the challenging)\, discussing local needs\, collaborating on resources\, developing strategies for family support\, and planning future actions for vulnerable children and families within each specific geographic community.
URL:https://www.111project.org/activities/muskogee-community-gathering-3/
LOCATION:Queen City Coffee: 109 N Main St. Muskogee\, OK 74401\, 109 N Main St.\, Muskogee\, Oklahoma\, 74401\, United States
CATEGORIES:Community Gatherings
ATTACH;FMTTYPE=image/png:https://www.111project.org/wp-content/uploads/2026/01/Muskogee.png
END:VEVENT
BEGIN:VEVENT
DTSTART;TZID=America/Chicago:20260305T180000
DTEND;TZID=America/Chicago:20260305T191500
DTSTAMP:20260424T102022
CREATED:20260106T215133Z
LAST-MODIFIED:20260107T182625Z
UID:10001597-1772733600-1772738100@www.111project.org
SUMMARY:Haskell County Community Gathering
DESCRIPTION:What is a Community Gathering? \n\n\n\nIn the simplest terms\, this is where you get to hear about what is happening in your community at a very local level and how you can be involved.  \n\n\n\nThese are regular meetings of church and agency leaders\, as well as community members\, who collaborate to support and advocate for children and families\, particularly through the CarePortal. \n\n\n\nThese gatherings provide a platform for sharing stories (both the good and the challenging)\, discussing local needs\, collaborating on resources\, developing strategies for family support\, and planning future actions for vulnerable children and families within each specific geographic community.
URL:https://www.111project.org/activities/haskell-county-community-gathering-3/
LOCATION:Taqueria El Amigo: 412 E Main St. Stigler\, OK 74462\, 412 E Main St.\, Stigler\, Oklahoma\, 74462\, United States
CATEGORIES:Community Gatherings
ATTACH;FMTTYPE=image/png:https://www.111project.org/wp-content/uploads/2026/01/Haskell.png
END:VEVENT
BEGIN:VEVENT
DTSTART;TZID=America/Chicago:20260305T180000
DTEND;TZID=America/Chicago:20260305T193000
DTSTAMP:20260424T102022
CREATED:20260128T202557Z
LAST-MODIFIED:20260128T202600Z
UID:10001865-1772733600-1772739000@www.111project.org
SUMMARY:Ottawa County Community Gathering
DESCRIPTION:Join local Church and Community Leaders with a heart for children and families! This will be a time of community collaboration\, as we work to come up with solutions and next steps! Invite someone you would like to see at the table! We hope to see you there!
URL:https://www.111project.org/activities/ottawa-county-community-gathering-2/
LOCATION:Miami First Christian Church\, 2424 N. Main St.\, Miami\, Oklahoma\, 74354\, United States
END:VEVENT
BEGIN:VEVENT
DTSTART;TZID=America/Chicago:20260306T100000
DTEND;TZID=America/Chicago:20260306T110000
DTSTAMP:20260424T102022
CREATED:20260107T142817Z
LAST-MODIFIED:20260107T142845Z
UID:10001691-1772791200-1772794800@www.111project.org
SUMMARY:Ask Me Anything: Mid-Morning Edition
DESCRIPTION:Have questions about how you\, your church\, business\, civic group or friends can get engaged with helping children in your community and across the state? Need help navigating the CarePortal Platform? Are you looking for a local resource to help a family you know? This is a “come and go” online time\, so hop on anytime during this time and Ask Me!
URL:https://www.111project.org/activities/ask-me-anything-mid-morning-edition-3/
CATEGORIES:Information Meetings
ATTACH;FMTTYPE=image/png:https://www.111project.org/wp-content/uploads/2026/01/15.png
END:VEVENT
BEGIN:VEVENT
DTSTART;TZID=America/Chicago:20260310T100000
DTEND;TZID=America/Chicago:20260310T140000
DTSTAMP:20260424T102022
CREATED:20260128T221834Z
LAST-MODIFIED:20260128T221837Z
UID:10001871-1773136800-1773151200@www.111project.org
SUMMARY:Logan County Social Worker Appreciation
DESCRIPTION:Register Here!\n\n\n\n\n\n\n\nIf you are a social worker\, join local churches and 111Project for a FREE COFFEE! We’re celebrating Social Worker Appreciation Month at Hoboken Coffee Roasters in Guthrie between 10-2pm Come and Go. 
URL:https://www.111project.org/activities/logan-county-social-worker-appreciation/
CATEGORIES:Community Gatherings
ATTACH;FMTTYPE=image/png:https://www.111project.org/wp-content/uploads/2026/01/Logan-3-26.png
ORGANIZER;CN="111Project":MAILTO:info@111project.org
END:VEVENT
BEGIN:VEVENT
DTSTART;TZID=America/Chicago:20260310T130000
DTEND;TZID=America/Chicago:20260310T140000
DTSTAMP:20260424T102022
CREATED:20251231T173324Z
LAST-MODIFIED:20251231T173327Z
UID:10001524-1773147600-1773151200@www.111project.org
SUMMARY:Seminole & Hughes Counties Community Gathering
DESCRIPTION:Register Here!\n\n\n\n\n\n\n\n\n\nJoin local church & community leaders with a heart for children & family welfare. We will pray\, pursue\, and work toward local solutions while making meaningful connections that last. 
URL:https://www.111project.org/activities/seminole-hughes-counties-community-gathering-6/2026-03-10/
CATEGORIES:Community Gatherings
ATTACH;FMTTYPE=image/png:https://www.111project.org/wp-content/uploads/2025/08/Seminole-1.png
ORGANIZER;CN="111Project":MAILTO:info@111project.org
END:VEVENT
BEGIN:VEVENT
DTSTART;TZID=America/Chicago:20260311T113000
DTEND;TZID=America/Chicago:20260311T130000
DTSTAMP:20260424T102022
CREATED:20260218T150521Z
LAST-MODIFIED:20260218T150526Z
UID:10001966-1773228600-1773234000@www.111project.org
SUMMARY:Garvin County Community Gathering
DESCRIPTION:Register Here!\n\n\n\n\n\n\n\nJoin us as we collaborate together to see that EVERY child in Oklahoma has family and celebrate and encourage local social workers for Social Worker Appreciation Month. The Lord is using His Church to solve the Foster Care crisis; let’s do it together! Lunch will be provided.
URL:https://www.111project.org/activities/garvin-county-community-gathering-2/
CATEGORIES:Community Gatherings
ATTACH;FMTTYPE=image/png:https://www.111project.org/wp-content/uploads/2026/02/GarvinMcClain-Gathering.png
ORGANIZER;CN="111Project":MAILTO:info@111project.org
END:VEVENT
BEGIN:VEVENT
DTSTART;TZID=America/Chicago:20260312T100000
DTEND;TZID=America/Chicago:20260312T113000
DTSTAMP:20260424T102022
CREATED:20260205T164857Z
LAST-MODIFIED:20260310T185342Z
UID:10001891-1773309600-1773315000@www.111project.org
SUMMARY:Rogers County Community Gathering
DESCRIPTION:Join local Church and Community Leaders with a heart for children and families! This will be a time of community collaboration\, as we work to come up with solutions and next steps! Invite someone you would like to see at the table! We hope to see you there! 
URL:https://www.111project.org/activities/rogers-county-community-gathering-2/
LOCATION:She Brews Claremore\, 1301 Old Country Club rd\, Claremore\, Oklahoma\, United States
CATEGORIES:Community Gatherings
ATTACH;FMTTYPE=image/jpeg:https://www.111project.org/wp-content/uploads/2026/02/Rogers-1.jpg
END:VEVENT
BEGIN:VEVENT
DTSTART;TZID=America/Chicago:20260312T120000
DTEND;TZID=America/Chicago:20260312T130000
DTSTAMP:20260424T102022
CREATED:20260128T220606Z
LAST-MODIFIED:20260128T220611Z
UID:10001870-1773316800-1773320400@www.111project.org
SUMMARY:Payne County Community Gathering
DESCRIPTION:Register Here!\n\n\n\n\n\n\n\n\n\nJoin us for our monthly Community Gathering with DHS\, local church leaders\, and other agency and community members with a heart for child and family welfare. We are showing some SOCIAL WORKER APPRECIATION. There are some AWESOME stories of how God is moving in our area!! We will discuss local resources and needs including CarePortal. Lunch will be provided.
URL:https://www.111project.org/activities/payne-county-community-gathering-2/
CATEGORIES:Community Gatherings
ATTACH;FMTTYPE=image/png:https://www.111project.org/wp-content/uploads/2026/01/Payne-3-26.png
ORGANIZER;CN="111Project":MAILTO:info@111project.org
END:VEVENT
BEGIN:VEVENT
DTSTART;TZID=America/Chicago:20260312T120000
DTEND;TZID=America/Chicago:20260312T130000
DTSTAMP:20260424T102022
CREATED:20260203T020057Z
LAST-MODIFIED:20260303T020709Z
UID:10001873-1773316800-1773320400@www.111project.org
SUMMARY:OK County Deep Dive Session: Heritage Builders
DESCRIPTION:Join us for a 1-hour virtual session with more information on the Heritage Builders Program.  \n\n\n\nLife Skills EducationChurches host life skills classes that teach biblically grounded\, practical skills — such as money management\, job preparation\, healthy relationships\, and daily living — helping youth build confidence and readiness for independent life.
URL:https://www.111project.org/activities/ok-county-deep-dive-session-heritage-builders/
CATEGORIES:Information Meetings
ATTACH;FMTTYPE=image/png:https://www.111project.org/wp-content/uploads/2026/02/OKC-DEEP-DIVE-SESSIONS-1.png
END:VEVENT
END:VCALENDAR