BEGIN:VCALENDAR
VERSION:2.0
PRODID:-//111Project.org - ECPv6.15.18//NONSGML v1.0//EN
CALSCALE:GREGORIAN
METHOD:PUBLISH
X-WR-CALNAME:111Project.org
X-ORIGINAL-URL:https://www.111project.org
X-WR-CALDESC:Events for 111Project.org
REFRESH-INTERVAL;VALUE=DURATION:PT1H
X-Robots-Tag:noindex
X-PUBLISHED-TTL:PT1H
BEGIN:VTIMEZONE
TZID:America/Chicago
BEGIN:DAYLIGHT
TZOFFSETFROM:-0600
TZOFFSETTO:-0500
TZNAME:CDT
DTSTART:20240310T080000
END:DAYLIGHT
BEGIN:STANDARD
TZOFFSETFROM:-0500
TZOFFSETTO:-0600
TZNAME:CST
DTSTART:20241103T070000
END:STANDARD
BEGIN:DAYLIGHT
TZOFFSETFROM:-0600
TZOFFSETTO:-0500
TZNAME:CDT
DTSTART:20250309T080000
END:DAYLIGHT
BEGIN:STANDARD
TZOFFSETFROM:-0500
TZOFFSETTO:-0600
TZNAME:CST
DTSTART:20251102T070000
END:STANDARD
BEGIN:DAYLIGHT
TZOFFSETFROM:-0600
TZOFFSETTO:-0500
TZNAME:CDT
DTSTART:20260308T080000
END:DAYLIGHT
BEGIN:STANDARD
TZOFFSETFROM:-0500
TZOFFSETTO:-0600
TZNAME:CST
DTSTART:20261101T070000
END:STANDARD
END:VTIMEZONE
BEGIN:VEVENT
DTSTART;TZID=America/Chicago:20250819T120000
DTEND;TZID=America/Chicago:20250819T130000
DTSTAMP:20260425T090621
CREATED:20250808T180503Z
LAST-MODIFIED:20250808T180507Z
UID:10001289-1755604800-1755608400@www.111project.org
SUMMARY:Pittsburg County Community Gathering
DESCRIPTION:Register Here!\n\n\n\n\n\nHey\, all! Come join the OKDHS\, the Church\, and community members at the Pittsburg County Community Gathering\, where we celebrate what we have done\, discuss what is being done\, and plan what can be done to end the child welfare crisis in Pittsburg County.
URL:https://www.111project.org/activities/pittsburg-county-community-gathering-19/
CATEGORIES:Community Gatherings
ATTACH;FMTTYPE=image/png:https://www.111project.org/wp-content/uploads/2025/08/Pittsburg-1.png
ORGANIZER;CN="111Project":MAILTO:info@111project.org
END:VEVENT
BEGIN:VEVENT
DTSTART;TZID=America/Chicago:20250819T130000
DTEND;TZID=America/Chicago:20250819T140000
DTSTAMP:20260425T090621
CREATED:20250122T203356Z
LAST-MODIFIED:20250220T013921Z
UID:10001040-1755608400-1755612000@www.111project.org
SUMMARY:Nowata County Community Gathering
DESCRIPTION:Register Here!\n\n\n\n\n\n\n\nJoin local church & community leaders with a heart for children & family welfare. We will pray\, pursue\, and work toward local solutions while making meaningful connections that last. Refreshments will be available for purchase.
URL:https://www.111project.org/activities/nowata-county-community-gathering-7/
CATEGORIES:Community Gatherings
ATTACH;FMTTYPE=image/png:https://www.111project.org/wp-content/uploads/2025/01/Nowata-AUGUST.png
ORGANIZER;CN="111Project":MAILTO:info@111project.org
END:VEVENT
BEGIN:VEVENT
DTSTART;TZID=America/Chicago:20250821T100000
DTEND;TZID=America/Chicago:20250821T110000
DTSTAMP:20260425T090621
CREATED:20250122T225041Z
LAST-MODIFIED:20250729T201659Z
UID:10001095-1755770400-1755774000@www.111project.org
SUMMARY:Rogers County Community Gathering
DESCRIPTION:Register Here!\n\n\n\n\n\n\n\nJoin local church & community leaders with a heart for children & family welfare. We will pray\, pursue\, and work toward local solutions while making meaningful connections that last. Refreshments will be available for purchase.
URL:https://www.111project.org/activities/rogers-county-community-gathering-12/
CATEGORIES:Community Gatherings
ATTACH;FMTTYPE=image/png:https://www.111project.org/wp-content/uploads/2025/01/Rogers-AUGUST-3.png
ORGANIZER;CN="111Project":MAILTO:info@111project.org
END:VEVENT
BEGIN:VEVENT
DTSTART;TZID=America/Chicago:20250821T113000
DTEND;TZID=America/Chicago:20250821T123000
DTSTAMP:20260425T090621
CREATED:20250801T173040Z
LAST-MODIFIED:20250801T190522Z
UID:10001286-1755775800-1755779400@www.111project.org
SUMMARY:Custer County Community Gathering
DESCRIPTION:Register Here!\n\n\n\n\n\n\n\nJoin us for our next Community Gathering with DHS\, local church leaders\, and other agency and community members with a heart for child and family welfare. We will discuss local resources and needs\, including CarePortal. Lunch will be provided. Meetings will be held in the Gym of the West building. We hope to see you there!
URL:https://www.111project.org/activities/__trashed-2/
CATEGORIES:Community Gatherings
ATTACH;FMTTYPE=image/png:https://www.111project.org/wp-content/uploads/2025/08/Custer-aug-25-.png
ORGANIZER;CN="111Project":MAILTO:info@111project.org
END:VEVENT
BEGIN:VEVENT
DTSTART;TZID=America/Chicago:20250821T120000
DTEND;TZID=America/Chicago:20250821T130000
DTSTAMP:20260425T090621
CREATED:20250722T155145Z
LAST-MODIFIED:20250722T155145Z
UID:10001269-1755777600-1755781200@www.111project.org
SUMMARY:Payne County Community Gathering
DESCRIPTION:Register Here!\n\n\n\n\n\n\nJoin us for our monthly Community Gathering with DHS\, local church leaders\, and other agency and community members with a heart for child and family welfare. There are some AWESOME stories of how God is moving in our area!! We will discuss local resources and needs including CarePortal. Lunch will be provided.
URL:https://www.111project.org/activities/payne-county-community-gathering-25/
CATEGORIES:Community Gatherings
ATTACH;FMTTYPE=image/png:https://www.111project.org/wp-content/uploads/2025/07/Payne-8-25.png
ORGANIZER;CN="111Project":MAILTO:info@111project.org
END:VEVENT
BEGIN:VEVENT
DTSTART;TZID=America/Chicago:20250821T130000
DTEND;TZID=America/Chicago:20250821T140000
DTSTAMP:20260425T090621
CREATED:20250122T204606Z
LAST-MODIFIED:20250729T193358Z
UID:10001049-1755781200-1755784800@www.111project.org
SUMMARY:Delaware County Community Gathering
DESCRIPTION:Register Here!\n\n\n\n\n\n\n\nJoin local church & community leaders with a heart for children & family welfare. We will pray\, pursue\, and work toward local solutions while making meaningful connections that last. Refreshments will be available.
URL:https://www.111project.org/activities/delaware-county-community-gathering-12/
CATEGORIES:Community Gatherings
ATTACH;FMTTYPE=image/png:https://www.111project.org/wp-content/uploads/2025/01/Delaware-AUGUST-1.png
ORGANIZER;CN="111Project":MAILTO:info@111project.org
END:VEVENT
BEGIN:VEVENT
DTSTART;TZID=America/Chicago:20250826T100000
DTEND;TZID=America/Chicago:20250826T110000
DTSTAMP:20260425T090621
CREATED:20250122T210050Z
LAST-MODIFIED:20250729T201533Z
UID:10001059-1756202400-1756206000@www.111project.org
SUMMARY:Pawnee County Community Gathering
DESCRIPTION:Register Here!\n\n\n\n\n\n\n\nJoin local church & community leaders with a heart for children & family welfare. We will pray\, pursue\, and work toward local solutions while making meaningful connections that last. Refreshments will be available for purchase.
URL:https://www.111project.org/activities/pawnee-county-community-gathering-9/
CATEGORIES:Community Gatherings
ATTACH;FMTTYPE=image/png:https://www.111project.org/wp-content/uploads/2025/01/Pawnee-AUGUST-1.png
ORGANIZER;CN="111Project":MAILTO:info@111project.org
END:VEVENT
BEGIN:VEVENT
DTSTART;TZID=America/Chicago:20250826T120000
DTEND;TZID=America/Chicago:20250826T130000
DTSTAMP:20260425T090621
CREATED:20250805T183648Z
LAST-MODIFIED:20250805T183652Z
UID:10001287-1756209600-1756213200@www.111project.org
SUMMARY:Kay County Community Gathering
DESCRIPTION:Register Here!\n\n\n\n\n\n\n\nJoin us for our next Community Gathering with DHS\, local church leaders\, and other agency and community members with a heart for child and family welfare. We will discuss local resources and needs including CarePortal. Food will be provided. 
URL:https://www.111project.org/activities/kay-county-community-gathering-11/
CATEGORIES:Community Gatherings
ATTACH;FMTTYPE=image/png:https://www.111project.org/wp-content/uploads/2025/08/Kay-1.png
ORGANIZER;CN="111Project":MAILTO:info@111project.org
END:VEVENT
BEGIN:VEVENT
DTSTART;TZID=America/Chicago:20250826T130000
DTEND;TZID=America/Chicago:20250826T140000
DTSTAMP:20260425T090621
CREATED:20250122T230155Z
LAST-MODIFIED:20250220T014057Z
UID:10001104-1756213200-1756216800@www.111project.org
SUMMARY:North Osage County Community Gathering
DESCRIPTION:Register Here!\n\n\n\n\n\n\n\nJoin local church & community leaders with a heart for children & family welfare. We will pray\, pursue\, and work toward local solutions while making meaningful connections that last. Refreshments will be available for purchase.
URL:https://www.111project.org/activities/north-osage-county-community-gathering-8/
CATEGORIES:Community Gatherings
ATTACH;FMTTYPE=image/png:https://www.111project.org/wp-content/uploads/2025/01/North-Osage-AUGUST.png
ORGANIZER;CN="111Project":MAILTO:info@111project.org
END:VEVENT
BEGIN:VEVENT
DTSTART;TZID=America/Chicago:20250827T120000
DTEND;TZID=America/Chicago:20250827T130000
DTSTAMP:20260425T090621
CREATED:20250808T181407Z
LAST-MODIFIED:20250808T183920Z
UID:10001290-1756296000-1756299600@www.111project.org
SUMMARY:Atoka & Coal Counties Community Gathering
DESCRIPTION:Register Here!\n\n\n\n\n\n\n\nJoin local church & community leaders with a heart for children & family welfare. We will pray\, pursue\, and work toward local solutions while making meaningful connections that last. Refreshments will be provided.
URL:https://www.111project.org/activities/atoka-coal-counties-community-gathering-3/
CATEGORIES:Community Gatherings
ATTACH;FMTTYPE=image/png:https://www.111project.org/wp-content/uploads/2025/08/Atoka-1.png
ORGANIZER;CN="111Project":MAILTO:info@111project.org
END:VEVENT
BEGIN:VEVENT
DTSTART;TZID=America/Chicago:20250828T000000
DTEND;TZID=America/Chicago:20250828T235959
DTSTAMP:20260425T090621
CREATED:20250312T172353Z
LAST-MODIFIED:20250703T155414Z
UID:10001191-1756339200-1756425599@www.111project.org
SUMMARY:1Day/1Night Conference Save The Date!
DESCRIPTION:Register Here!
URL:https://www.111project.org/activities/1day-1night-conference-save-the-date/
CATEGORIES:Church Appreciation Events
END:VEVENT
BEGIN:VEVENT
DTSTART;TZID=America/Chicago:20250902T100000
DTEND;TZID=America/Chicago:20250902T110000
DTSTAMP:20260425T090621
CREATED:20250122T223454Z
LAST-MODIFIED:20250826T192659Z
UID:10001086-1756807200-1756810800@www.111project.org
SUMMARY:Mayes County Community Gathering
DESCRIPTION:Register Here!\n\n\n\n\n\n\n\nJoin local church & community leaders with a heart for children & family welfare. We will pray\, pursue\, and work toward local solutions while making meaningful connections that last. Refreshments will be available for purchase.
URL:https://www.111project.org/activities/mayes-county-community-gathering-14/
CATEGORIES:Community Gatherings
ATTACH;FMTTYPE=image/png:https://www.111project.org/wp-content/uploads/2025/01/Mayes-SEPTEMBER-2.png
ORGANIZER;CN="111Project":MAILTO:info@111project.org
END:VEVENT
BEGIN:VEVENT
DTSTART;TZID=America/Chicago:20250904T100000
DTEND;TZID=America/Chicago:20250904T110000
DTSTAMP:20260425T090621
CREATED:20250122T212812Z
LAST-MODIFIED:20250220T014216Z
UID:10001077-1756980000-1756983600@www.111project.org
SUMMARY:Craig County Community Gathering
DESCRIPTION:Register Here!\n\n\n\n\n\n\n\nJoin local church & community leaders with a heart for children & family welfare. We will pray\, pursue\, and work toward local solutions while making meaningful connections that last. Refreshments will be available for purchase.
URL:https://www.111project.org/activities/craig-county-community-gathering-12/
CATEGORIES:Community Gatherings
ATTACH;FMTTYPE=image/png:https://www.111project.org/wp-content/uploads/2025/01/Craig-SEPTEMBER.png
ORGANIZER;CN="111Project":MAILTO:info@111project.org
END:VEVENT
BEGIN:VEVENT
DTSTART;TZID=America/Chicago:20250904T120000
DTEND;TZID=America/Chicago:20250904T130000
DTSTAMP:20260425T090621
CREATED:20250122T211443Z
LAST-MODIFIED:20250729T202311Z
UID:10001069-1756987200-1756990800@www.111project.org
SUMMARY:Ottawa County Community Gathering
DESCRIPTION:Register Here!\n\n\n\n\n\n\n\nJoin local church & community leaders with a heart for children & family welfare. We will pray\, pursue\, and work toward local solutions while making meaningful connections that last. Refreshments will be provided.
URL:https://www.111project.org/activities/ottawa-county-community-gathering-13/
CATEGORIES:Community Gatherings
ATTACH;FMTTYPE=image/png:https://www.111project.org/wp-content/uploads/2025/01/Ottawa-SEPTEMBER-1.png
ORGANIZER;CN="111Project":MAILTO:info@111project.org
END:VEVENT
BEGIN:VEVENT
DTSTART;TZID=America/Chicago:20250904T120000
DTEND;TZID=America/Chicago:20250904T130000
DTSTAMP:20260425T090621
CREATED:20250810T165418Z
LAST-MODIFIED:20250812T212733Z
UID:10001292-1756987200-1756990800@www.111project.org
SUMMARY:Garfield County Community Gathering
DESCRIPTION:Register Here!\n\n\n\n\n\n\n\n\n\nJoin us for our next Community Gathering with DHS\, local church leaders\, and other agency and community members with a heart for child and family welfare. We will discuss local resources and needs including CarePortal. Lunch will be provided. 
URL:https://www.111project.org/activities/garfield-county-community-gathering-26/
CATEGORIES:Community Gatherings
ATTACH;FMTTYPE=image/png:https://www.111project.org/wp-content/uploads/2025/08/Garfield-9-25.png
ORGANIZER;CN="111Project":MAILTO:info@111project.org
END:VEVENT
BEGIN:VEVENT
DTSTART;TZID=America/Chicago:20250909T120000
DTEND;TZID=America/Chicago:20250909T130000
DTSTAMP:20260425T090621
CREATED:20250812T212337Z
LAST-MODIFIED:20250812T212340Z
UID:10001295-1757419200-1757422800@www.111project.org
SUMMARY:Logan County Community Gathering
DESCRIPTION:Register Here!\n\n\n\n\n\n\n\nJoin us for our next Community Gathering with DHS\, local church leaders\, and other agency and community members with a heart for child and family welfare. We will discuss local resources and needs including CarePortal. Lunch will be provided. 
URL:https://www.111project.org/activities/logan-county-community-gathering-18/
CATEGORIES:Community Gatherings
ATTACH;FMTTYPE=image/png:https://www.111project.org/wp-content/uploads/2025/08/Logan-CG-9-25-1.png
ORGANIZER;CN="111Project":MAILTO:info@111project.org
END:VEVENT
BEGIN:VEVENT
DTSTART;TZID=America/Chicago:20250909T120000
DTEND;TZID=America/Chicago:20250909T130000
DTSTAMP:20260425T090621
CREATED:20250908T191305Z
LAST-MODIFIED:20250908T192156Z
UID:10001315-1757419200-1757422800@www.111project.org
SUMMARY:Haskell County Community Gathering
DESCRIPTION:Register Here!\n\n\n\n\n\n\n\nJoin us for our next Community Gathering with DHS\, local church leaders\, and other agency and community members with a heart for child and family welfare. We will discuss local resources and needs including CarePortal. Lunch will be provided.
URL:https://www.111project.org/activities/haskell-county-community-gathering-10/
CATEGORIES:Community Gatherings
ATTACH;FMTTYPE=image/png:https://www.111project.org/wp-content/uploads/2025/04/Haskell-September-2025.png
ORGANIZER;CN="111Project":MAILTO:info@111project.org
END:VEVENT
BEGIN:VEVENT
DTSTART;TZID=America/Chicago:20250909T120000
DTEND;TZID=America/Chicago:20250909T133000
DTSTAMP:20260425T090621
CREATED:20250829T193009Z
LAST-MODIFIED:20250829T193013Z
UID:10001313-1757419200-1757424600@www.111project.org
SUMMARY:McClain County Community Gathering
DESCRIPTION:Register Here!\n\n\n\n\n\n\n\nJoin us as we collaborate together to see that EVERY child in Oklahoma has family! The Lord is using His Church to solve the Foster Care Crisis\, let’s do it together! 
URL:https://www.111project.org/activities/mcclain-county-community-gathering-6/
CATEGORIES:Community Gatherings
ATTACH;FMTTYPE=image/png:https://www.111project.org/wp-content/uploads/2025/08/McClain-1.png
ORGANIZER;CN="111Project":MAILTO:info@111project.org
END:VEVENT
BEGIN:VEVENT
DTSTART;TZID=America/Chicago:20250911T120000
DTEND;TZID=America/Chicago:20250911T130000
DTSTAMP:20260425T090621
CREATED:20250919T182839Z
LAST-MODIFIED:20250919T182842Z
UID:10001321-1757592000-1757595600@www.111project.org
SUMMARY:Okmulgee County Community Gathering
DESCRIPTION:
URL:https://www.111project.org/activities/okmulgee-county-community-gathering-16/
LOCATION:El Avacado\, 3499 N Wood Dr\, Okmulgee\, Oklahoma\, 74447
ATTACH;FMTTYPE=image/png:https://www.111project.org/wp-content/uploads/2025/09/Okmulgee-September-2025.png
END:VEVENT
BEGIN:VEVENT
DTSTART;TZID=America/Chicago:20250918T100000
DTEND;TZID=America/Chicago:20250918T110000
DTSTAMP:20260425T090621
CREATED:20250822T132725Z
LAST-MODIFIED:20250831T230232Z
UID:10001300-1758189600-1758193200@www.111project.org
SUMMARY:Northeast Oklahoma County Community Gathering
DESCRIPTION:Register Here
URL:https://www.111project.org/activities/northeast-oklahoma-county-community-gathering-12/
CATEGORIES:Community Gatherings
END:VEVENT
BEGIN:VEVENT
DTSTART;TZID=America/Chicago:20250918T100000
DTEND;TZID=America/Chicago:20250918T113000
DTSTAMP:20260425T090621
CREATED:20250829T191639Z
LAST-MODIFIED:20250829T191644Z
UID:10001312-1758189600-1758195000@www.111project.org
SUMMARY:Cleveland County Community Gathering
DESCRIPTION:Register Here!\n\n\n\n\n\n\n\nJoin us as we collaborate together to see that EVERY child in Oklahoma has family! The Lord is using His Church to solve the Foster Care crisis! Let’s do it together. Snacks will be provided.
URL:https://www.111project.org/activities/cleveland-county-community-gathering-27/
CATEGORIES:Community Gatherings
ATTACH;FMTTYPE=image/png:https://www.111project.org/wp-content/uploads/2025/08/Cleveland-4.png
ORGANIZER;CN="111Project":MAILTO:info@111project.org
END:VEVENT
BEGIN:VEVENT
DTSTART;TZID=America/Chicago:20250918T120000
DTEND;TZID=America/Chicago:20250918T130000
DTSTAMP:20260425T090621
CREATED:20250825T174807Z
LAST-MODIFIED:20250825T174810Z
UID:10001304-1758196800-1758200400@www.111project.org
SUMMARY:Payne County Community Gathering
DESCRIPTION:Register Here!\n\n\n\n\n\n\n\nJoin us for our monthly Community Gathering with DHS\, local church leaders\, and other agency and community members with a heart for child and family welfare. There are some AWESOME stories of how God is moving in our area!! We will discuss local resources and needs including CarePortal. Lunch will be provided.
URL:https://www.111project.org/activities/payne-county-community-gathering-26/
CATEGORIES:Community Gatherings
ATTACH;FMTTYPE=image/png:https://www.111project.org/wp-content/uploads/2025/08/Payne-9-25.png
ORGANIZER;CN="111Project":MAILTO:info@111project.org
END:VEVENT
BEGIN:VEVENT
DTSTART;TZID=America/Chicago:20250918T130000
DTEND;TZID=America/Chicago:20250918T140000
DTSTAMP:20260425T090621
CREATED:20250822T132925Z
LAST-MODIFIED:20250822T132928Z
UID:10001301-1758200400-1758204000@www.111project.org
SUMMARY:Northwest Oklahoma County Community Gathering
DESCRIPTION:Register Here!
URL:https://www.111project.org/activities/northwest-oklahoma-county-community-gathering-14/
CATEGORIES:Community Gatherings
END:VEVENT
BEGIN:VEVENT
DTSTART;TZID=America/Chicago:20250923T100000
DTEND;TZID=America/Chicago:20250923T110000
DTSTAMP:20260425T090621
CREATED:20250729T204308Z
LAST-MODIFIED:20250804T194127Z
UID:10001280-1758621600-1758625200@www.111project.org
SUMMARY:Rogers County Community Gathering
DESCRIPTION:Join local church & community leaders with a heart for children & family welfare. We will pray\, pursue\, and work toward local solutions while making meaningful connections that last. Refreshments will be available for purchase.
URL:https://www.111project.org/activities/rogers-county-community-gathering-15/
CATEGORIES:Community Gatherings
ATTACH;FMTTYPE=image/png:https://www.111project.org/wp-content/uploads/2025/07/Rogers-September.png
END:VEVENT
BEGIN:VEVENT
DTSTART;TZID=America/Chicago:20250923T113000
DTEND;TZID=America/Chicago:20250923T123000
DTSTAMP:20260425T090621
CREATED:20250909T212952Z
LAST-MODIFIED:20250909T212955Z
UID:10001317-1758627000-1758630600@www.111project.org
SUMMARY:Beckham County Community Gathering
DESCRIPTION:Register Here!\n\n\n\n\n\n\n\nJoin us for our next Community Gathering with DHS\, local church leaders\, and other agency and community members with a heart for child and family welfare. We will discuss local resources and needs including CarePortal. Lunch will be provided.
URL:https://www.111project.org/activities/beckham-county-community-gathering-4/
CATEGORIES:Community Gatherings
ATTACH;FMTTYPE=image/png:https://www.111project.org/wp-content/uploads/2025/09/Beckham-Tue-Sep-23.png
ORGANIZER;CN="111Project":MAILTO:info@111project.org
END:VEVENT
BEGIN:VEVENT
DTSTART;TZID=America/Chicago:20250923T120000
DTEND;TZID=America/Chicago:20250923T130000
DTSTAMP:20260425T090621
CREATED:20250917T144010Z
LAST-MODIFIED:20250917T144014Z
UID:10001318-1758628800-1758632400@www.111project.org
SUMMARY:Kay County Community Gathering
DESCRIPTION:Register Here!\n\n\n\n\n\n\n\nJoin us for our next Community Gathering with DHS\, local church leaders\, and other agency and community members with a heart for child and family welfare. We will discuss local resources and needs including CarePortal. Food will be provided. 
URL:https://www.111project.org/activities/kay-county-community-gathering-12/
CATEGORIES:Community Gatherings
ATTACH;FMTTYPE=image/png:https://www.111project.org/wp-content/uploads/2025/09/Kay.png
ORGANIZER;CN="111Project":MAILTO:info@111project.org
END:VEVENT
BEGIN:VEVENT
DTSTART;TZID=America/Chicago:20250923T130000
DTEND;TZID=America/Chicago:20250923T140000
DTSTAMP:20260425T090621
CREATED:20250122T204717Z
LAST-MODIFIED:20250729T204754Z
UID:10001050-1758632400-1758636000@www.111project.org
SUMMARY:Delaware County Community Gathering
DESCRIPTION:Register Here!\n\n\n\n\n\n\n\nJoin local church & community leaders with a heart for children & family welfare. We will pray\, pursue\, and work toward local solutions while making meaningful connections that last. Refreshments will be available.
URL:https://www.111project.org/activities/delaware-county-community-gathering-13/
CATEGORIES:Community Gatherings
ATTACH;FMTTYPE=image/png:https://www.111project.org/wp-content/uploads/2025/01/Delaware-SEPTEMBER-1.png
ORGANIZER;CN="111Project":MAILTO:info@111project.org
END:VEVENT
BEGIN:VEVENT
DTSTART;TZID=America/Chicago:20250924T100000
DTEND;TZID=America/Chicago:20250924T110000
DTSTAMP:20260425T090621
CREATED:20250122T193904Z
LAST-MODIFIED:20250220T014359Z
UID:10001032-1758708000-1758711600@www.111project.org
SUMMARY:Washington County Community Gathering
DESCRIPTION:Register Here!\n\n\n\n\n\n\n\nJoin local church & community leaders with a heart for children & family welfare. We will pray\, pursue\, and work toward local solutions while making meaningful connections that last. Refreshments will be provided.
URL:https://www.111project.org/activities/washington-county-community-gathering-8/
CATEGORIES:Community Gatherings
ATTACH;FMTTYPE=image/png:https://www.111project.org/wp-content/uploads/2025/01/Washington-SEPTEMBER.png
ORGANIZER;CN="111Project":MAILTO:info@111project.org
END:VEVENT
BEGIN:VEVENT
DTSTART;TZID=America/Chicago:20250924T120000
DTEND;TZID=America/Chicago:20250924T130000
DTSTAMP:20260425T090621
CREATED:20250922T220042Z
LAST-MODIFIED:20250922T220047Z
UID:10001385-1758715200-1758718800@www.111project.org
SUMMARY:Atoka & Coal Counties Community Gathering
DESCRIPTION:Register Here!\n\n\n\n\n\n\n\nJoin local church & community leaders with a heart for children & family welfare. We will pray\, pursue\, and work toward local solutions while making meaningful connections that last. Refreshments will be provided.
URL:https://www.111project.org/activities/atoka-coal-counties-community-gathering-4/
CATEGORIES:Community Gatherings
ATTACH;FMTTYPE=image/png:https://www.111project.org/wp-content/uploads/2025/08/Atoka-1.png
ORGANIZER;CN="111Project":MAILTO:info@111project.org
END:VEVENT
BEGIN:VEVENT
DTSTART;TZID=America/Chicago:20250924T120000
DTEND;TZID=America/Chicago:20250924T133000
DTSTAMP:20260425T090621
CREATED:20250923T194429Z
LAST-MODIFIED:20250923T194623Z
UID:10001386-1758715200-1758720600@www.111project.org
SUMMARY:Sequoyah County Community Gathering
DESCRIPTION:https://share.hsforms.com/1OuuiMv8fQZ2oM_NiNRSOig34lzh
URL:https://www.111project.org/activities/sequoyah-county-community-gathering-14/
LOCATION:First Christian Church – Sallisaw\, 706 N Wheeler\, Sallisaw\, 74955
CATEGORIES:Community Gatherings
ATTACH;FMTTYPE=image/png:https://www.111project.org/wp-content/uploads/2025/09/Sequoyah-Sept-2025.png
END:VEVENT
END:VCALENDAR