BEGIN:VCALENDAR
VERSION:2.0
PRODID:-//111Project.org - ECPv6.15.18//NONSGML v1.0//EN
CALSCALE:GREGORIAN
METHOD:PUBLISH
X-WR-CALNAME:111Project.org
X-ORIGINAL-URL:https://www.111project.org
X-WR-CALDESC:Events for 111Project.org
REFRESH-INTERVAL;VALUE=DURATION:PT1H
X-Robots-Tag:noindex
X-PUBLISHED-TTL:PT1H
BEGIN:VTIMEZONE
TZID:America/Chicago
BEGIN:DAYLIGHT
TZOFFSETFROM:-0600
TZOFFSETTO:-0500
TZNAME:CDT
DTSTART:20240310T080000
END:DAYLIGHT
BEGIN:STANDARD
TZOFFSETFROM:-0500
TZOFFSETTO:-0600
TZNAME:CST
DTSTART:20241103T070000
END:STANDARD
BEGIN:DAYLIGHT
TZOFFSETFROM:-0600
TZOFFSETTO:-0500
TZNAME:CDT
DTSTART:20250309T080000
END:DAYLIGHT
BEGIN:STANDARD
TZOFFSETFROM:-0500
TZOFFSETTO:-0600
TZNAME:CST
DTSTART:20251102T070000
END:STANDARD
BEGIN:DAYLIGHT
TZOFFSETFROM:-0600
TZOFFSETTO:-0500
TZNAME:CDT
DTSTART:20260308T080000
END:DAYLIGHT
BEGIN:STANDARD
TZOFFSETFROM:-0500
TZOFFSETTO:-0600
TZNAME:CST
DTSTART:20261101T070000
END:STANDARD
END:VTIMEZONE
BEGIN:VEVENT
DTSTART;TZID=America/Chicago:20251001T120000
DTEND;TZID=America/Chicago:20251001T130000
DTSTAMP:20260425T090755
CREATED:20250827T000944Z
LAST-MODIFIED:20250917T210023Z
UID:10001305-1759320000-1759323600@www.111project.org
SUMMARY:Oklahoma County Volunteer Lunch
DESCRIPTION:Register Here!\n\n\n\n\n\n\n\n\n\nThis is a special meeting gathering every other month for our Connecting Church Leaders\, Ambassadors\, Community Coordinators and Church Mentors in Oklahoma County to talk through strategy for each area we serve. Come join the discussion and the chance to meet others serving with you towards the goal of mobilizing the local church so every child has family! 
URL:https://www.111project.org/activities/oklahoma-county-volunteer-lunch-2/
CATEGORIES:Church Appreciation Events
ATTACH;FMTTYPE=image/png:https://www.111project.org/wp-content/uploads/2025/02/OK-Volunteer-Lunch.png
ORGANIZER;CN="111Project":MAILTO:info@111project.org
END:VEVENT
BEGIN:VEVENT
DTSTART;TZID=America/Chicago:20251001T120000
DTEND;TZID=America/Chicago:20251001T130000
DTSTAMP:20260425T090755
CREATED:20250925T200945Z
LAST-MODIFIED:20250925T200949Z
UID:10001391-1759320000-1759323600@www.111project.org
SUMMARY:Adair County Community Gathering
DESCRIPTION:
URL:https://www.111project.org/activities/adair-county-community-gathering-14/
CATEGORIES:Community Gatherings
ATTACH;FMTTYPE=image/png:https://www.111project.org/wp-content/uploads/2025/09/October-1st-2025.png
END:VEVENT
BEGIN:VEVENT
DTSTART;TZID=America/Chicago:20251002T100000
DTEND;TZID=America/Chicago:20251002T110000
DTSTAMP:20260425T090755
CREATED:20250122T210215Z
LAST-MODIFIED:20250908T222124Z
UID:10001060-1759399200-1759402800@www.111project.org
SUMMARY:Pawnee County Community Gathering
DESCRIPTION:Register Here!\n\n\n\n\n\n\n\nJoin local church & community leaders with a heart for children & family welfare. We will pray\, pursue\, and work toward local solutions while making meaningful connections that last. Refreshments will be available for purchase.
URL:https://www.111project.org/activities/pawnee-county-community-gathering-10/
CATEGORIES:Community Gatherings
ATTACH;FMTTYPE=image/png:https://www.111project.org/wp-content/uploads/2025/01/Pawnee10.png
ORGANIZER;CN="111Project":MAILTO:info@111project.org
END:VEVENT
BEGIN:VEVENT
DTSTART;TZID=America/Chicago:20251002T120000
DTEND;TZID=America/Chicago:20251002T130000
DTSTAMP:20260425T090755
CREATED:20250920T154246Z
LAST-MODIFIED:20250920T154250Z
UID:10001324-1759406400-1759410000@www.111project.org
SUMMARY:Garfield County Community Gathering
DESCRIPTION:Register Here!\n\n\n\n\n\n\n\n\n\nJoin us for our next Community Gathering with DHS\, local church leaders\, and other agency and community members with a heart for child and family welfare. We will discuss local resources and needs including CarePortal. Lunch will be provided. 
URL:https://www.111project.org/activities/garfield-county-community-gathering-27/
CATEGORIES:Community Gatherings
ATTACH;FMTTYPE=image/png:https://www.111project.org/wp-content/uploads/2025/09/Garfield-10-25.png
ORGANIZER;CN="111Project":MAILTO:info@111project.org
END:VEVENT
BEGIN:VEVENT
DTSTART;TZID=America/Chicago:20251002T120000
DTEND;TZID=America/Chicago:20251002T130000
DTSTAMP:20260425T090755
CREATED:20250925T201226Z
LAST-MODIFIED:20250925T201229Z
UID:10001392-1759406400-1759410000@www.111project.org
SUMMARY:Okmulgee County Community Gathering
DESCRIPTION:
URL:https://www.111project.org/activities/okmulgee-county-community-gathering-17/
CATEGORIES:Community Gatherings
ATTACH;FMTTYPE=image/png:https://www.111project.org/wp-content/uploads/2025/09/Okmulgee-October-2025.png
END:VEVENT
BEGIN:VEVENT
DTSTART;TZID=America/Chicago:20251002T130000
DTEND;TZID=America/Chicago:20251002T140000
DTSTAMP:20260425T090755
CREATED:20250122T230255Z
LAST-MODIFIED:20250908T225909Z
UID:10001105-1759410000-1759413600@www.111project.org
SUMMARY:Osage County Community Gathering
DESCRIPTION:Register Here!\n\n\n\n\n\n\n\nJoin local church & community leaders with a heart for children & family welfare. We will pray\, pursue\, and work toward local solutions while making meaningful connections that last. Refreshments will be available for purchase.
URL:https://www.111project.org/activities/north-osage-county-community-gathering-9/
CATEGORIES:Community Gatherings
ATTACH;FMTTYPE=image/png:https://www.111project.org/wp-content/uploads/2025/01/Osage.png
ORGANIZER;CN="111Project":MAILTO:info@111project.org
END:VEVENT
BEGIN:VEVENT
DTSTART;TZID=America/Chicago:20251002T130000
DTEND;TZID=America/Chicago:20251002T140000
DTSTAMP:20260425T090755
CREATED:20250927T142818Z
LAST-MODIFIED:20250927T142822Z
UID:10001398-1759410000-1759413600@www.111project.org
SUMMARY:Tulsa County Community Gathering
DESCRIPTION:Register Here!\n\n\n\n\n\n\n\nJoin local church & community leaders with a heart for children & family welfare. We will pray\, pursue\, and work toward local solutions while making meaningful connections that last.
URL:https://www.111project.org/activities/tulsa-county-community-gathering-17/
CATEGORIES:Community Gatherings
ATTACH;FMTTYPE=image/jpeg:https://www.111project.org/wp-content/uploads/2025/09/Oct-2025-Gathering-2.jpeg
ORGANIZER;CN="111Project":MAILTO:info@111project.org
END:VEVENT
BEGIN:VEVENT
DTSTART;TZID=America/Chicago:20251008T100000
DTEND;TZID=America/Chicago:20251008T110000
DTSTAMP:20260425T090755
CREATED:20250122T223610Z
LAST-MODIFIED:20250220T015307Z
UID:10001087-1759917600-1759921200@www.111project.org
SUMMARY:Mayes County Community Gathering
DESCRIPTION:Register Here!\n\n\n\n\n\n\n\nJoin local church & community leaders with a heart for children & family welfare. We will pray\, pursue\, and work toward local solutions while making meaningful connections that last. Refreshments will be available for purchase.
URL:https://www.111project.org/activities/mayes-county-community-gathering-15/
CATEGORIES:Community Gatherings
ATTACH;FMTTYPE=image/png:https://www.111project.org/wp-content/uploads/2025/01/Mayes-OCTOBER.png
ORGANIZER;CN="111Project":MAILTO:info@111project.org
END:VEVENT
BEGIN:VEVENT
DTSTART;TZID=America/Chicago:20251008T120000
DTEND;TZID=America/Chicago:20251008T133000
DTSTAMP:20260425T090755
CREATED:20250929T182113Z
LAST-MODIFIED:20250929T182818Z
UID:10001320-1759924800-1759930200@www.111project.org
SUMMARY:Garvin County Community Gathering
DESCRIPTION:Register Here!\n\n\n\n\n\n\n\nJoin us as we collaborate together to see that EVERY child in Oklahoma has family! The Lord is using His Church to solve the Foster Care crisis; let’s do it together! Lunch will be provided.
URL:https://www.111project.org/activities/garvin-county-community-gathering-14/
CATEGORIES:Community Gatherings
ATTACH;FMTTYPE=image/png:https://www.111project.org/wp-content/uploads/2025/09/Garvin-Sept.-Gatheirng-1.png
ORGANIZER;CN="111Project":MAILTO:info@111project.org
END:VEVENT
BEGIN:VEVENT
DTSTART;TZID=America/Chicago:20251009T100000
DTEND;TZID=America/Chicago:20251009T110000
DTSTAMP:20260425T090755
CREATED:20250122T212920Z
LAST-MODIFIED:20250220T015332Z
UID:10001078-1760004000-1760007600@www.111project.org
SUMMARY:Craig County Community Gathering
DESCRIPTION:Register Here!\n\n\n\n\n\n\n\nJoin local church & community leaders with a heart for children & family welfare. We will pray\, pursue\, and work toward local solutions while making meaningful connections that last. Refreshments will be available for purchase.
URL:https://www.111project.org/activities/craig-county-community-gathering-13/
CATEGORIES:Community Gatherings
ATTACH;FMTTYPE=image/png:https://www.111project.org/wp-content/uploads/2025/01/Craig-OCTOBER.png
ORGANIZER;CN="111Project":MAILTO:info@111project.org
END:VEVENT
BEGIN:VEVENT
DTSTART;TZID=America/Chicago:20251009T120000
DTEND;TZID=America/Chicago:20251009T130000
DTSTAMP:20260425T090755
CREATED:20250729T210406Z
LAST-MODIFIED:20250729T210409Z
UID:10001281-1760011200-1760014800@www.111project.org
SUMMARY:Ottawa County Community Gathering
DESCRIPTION:Join local church & community leaders with a heart for children & family welfare. We will pray\, pursue\, and work toward local solutions while making meaningful connections that last. Refreshments will be available for purchase.
URL:https://www.111project.org/activities/ottawa-county-community-gathering-15/
CATEGORIES:Community Gatherings
ATTACH;FMTTYPE=image/png:https://www.111project.org/wp-content/uploads/2025/07/Ottawa-OCTOBER.png
END:VEVENT
BEGIN:VEVENT
DTSTART;TZID=America/Chicago:20251014T120000
DTEND;TZID=America/Chicago:20251014T130000
DTSTAMP:20260425T090755
CREATED:20250920T145910Z
LAST-MODIFIED:20250920T145913Z
UID:10001322-1760443200-1760446800@www.111project.org
SUMMARY:Payne County Community Gathering
DESCRIPTION:Register Here!\n\n\n\n\n\n\n\n\n\nJoin us for our monthly Community Gathering with DHS\, local church leaders\, and other agency and community members with a heart for child and family welfare. There are some AWESOME stories of how God is moving in our area!! We will discuss local resources and needs including CarePortal. Lunch will be provided.
URL:https://www.111project.org/activities/payne-county-community-gathering-27/
CATEGORIES:Community Gatherings
ATTACH;FMTTYPE=image/png:https://www.111project.org/wp-content/uploads/2025/09/Payne-10-25.png
ORGANIZER;CN="111Project":MAILTO:info@111project.org
END:VEVENT
BEGIN:VEVENT
DTSTART;TZID=America/Chicago:20251015T120000
DTEND;TZID=America/Chicago:20251015T130000
DTSTAMP:20260425T090755
CREATED:20251007T203052Z
LAST-MODIFIED:20251007T203055Z
UID:10001413-1760529600-1760533200@www.111project.org
SUMMARY:Bryan County Community Gathering
DESCRIPTION:Register Here!\n\n\n\n\n\n\n\n\n\nJoin local church & community leaders with a heart for children & family welfare. We will pray\, pursue\, and work toward local solutions while making meaningful connections that last. 
URL:https://www.111project.org/activities/bryan-county-community-gathering-11/
CATEGORIES:Community Gatherings
ATTACH;FMTTYPE=image/png:https://www.111project.org/wp-content/uploads/2025/08/Seminole-1.png
ORGANIZER;CN="111Project":MAILTO:info@111project.org
END:VEVENT
BEGIN:VEVENT
DTSTART;TZID=America/Chicago:20251019T093000
DTEND;TZID=America/Chicago:20251019T123000
DTSTAMP:20260425T090755
CREATED:20251016T163852Z
LAST-MODIFIED:20251016T163855Z
UID:10001418-1760866200-1760877000@www.111project.org
SUMMARY:Custer County Church Meeting
DESCRIPTION:9:30 & 10:30 Service\n\n\n\n\n\n\n\nCuster County CarePortal\nLaunch Year: 2022Community Coordinator: Kalie KerthRegional Manager: Rita Blumer \nWe are so thankful for all of our CarePortal Churches supporting children and families in crisis across Custer County.Together\, we’re making a real difference—connecting local needs with local churches who care. \nWe’re excited to celebrate the impact of Custer County’s churches and families alongside Pine Acres Church.Thank you for the opportunity to share information and join you and your church family in serving kids and families in need.
URL:https://www.111project.org/activities/custer-county-church-meeting/
CATEGORIES:Information Meetings
ATTACH;FMTTYPE=image/png:https://www.111project.org/wp-content/uploads/2025/10/10.png
ORGANIZER;CN="111Project":MAILTO:info@111project.org
END:VEVENT
BEGIN:VEVENT
DTSTART;TZID=America/Chicago:20251020T100000
DTEND;TZID=America/Chicago:20251020T113000
DTSTAMP:20260425T090755
CREATED:20251014T220915Z
LAST-MODIFIED:20251017T200019Z
UID:10001414-1760954400-1760959800@www.111project.org
SUMMARY:Lincoln County Community Gathering
DESCRIPTION:RSVP HERE
URL:https://share.hsforms.com/1fSa3eZvcSEmbZdE5PHeVYA34lzh
CATEGORIES:Community Gatherings
ATTACH;FMTTYPE=image/png:https://www.111project.org/wp-content/uploads/2025/10/Lincoln-County-October-Gatheirng.png
END:VEVENT
BEGIN:VEVENT
DTSTART;TZID=America/Chicago:20251020T140000
DTEND;TZID=America/Chicago:20251020T153000
DTSTAMP:20260425T090755
CREATED:20251014T221202Z
LAST-MODIFIED:20251014T221207Z
UID:10001415-1760968800-1760974200@www.111project.org
SUMMARY:Creek County Community Gathering
DESCRIPTION:
URL:https://share.hsforms.com/1fSa3eZvcSEmbZdE5PHeVYA34lzh
CATEGORIES:Community Gatherings
ATTACH;FMTTYPE=image/png:https://www.111project.org/wp-content/uploads/2025/10/Creek-County-October-Gatheirng.png
END:VEVENT
BEGIN:VEVENT
DTSTART;TZID=America/Chicago:20251021T113000
DTEND;TZID=America/Chicago:20251021T123000
DTSTAMP:20260425T090755
CREATED:20250909T202735Z
LAST-MODIFIED:20250909T204643Z
UID:10001316-1761046200-1761049800@www.111project.org
SUMMARY:Custer County Community Gathering
DESCRIPTION:Register Here!\n\n\n\n\n\n\n\nJoin us for our next Community Gathering with DHS\, local church leaders\, and other agency and community members with a heart for child and family welfare. We will discuss local resources and needs\, including CarePortal. Lunch will be provided. 
URL:https://www.111project.org/activities/custer-county-community-gathering-5/
CATEGORIES:Community Gatherings
ATTACH;FMTTYPE=image/png:https://www.111project.org/wp-content/uploads/2025/09/Custer.png
ORGANIZER;CN="111Project":MAILTO:info@111project.org
END:VEVENT
BEGIN:VEVENT
DTSTART;TZID=America/Chicago:20251021T120000
DTEND;TZID=America/Chicago:20251021T130000
DTSTAMP:20260425T090755
CREATED:20251006T181044Z
LAST-MODIFIED:20251006T181047Z
UID:10001408-1761048000-1761051600@www.111project.org
SUMMARY:Pittsburg County Community Gathering
DESCRIPTION:Register Here!\n\n\n\n\n\n\n\nHey\, all! Come join the OKDHS\, the Church\, and community members at the Pittsburg County Community Gathering\, where we celebrate what we have done\, discuss what is being done\, and plan what can be done to end the child welfare crisis in Pittsburg County.
URL:https://www.111project.org/activities/pittsburg-county-community-gathering-20/
CATEGORIES:Community Gatherings
ATTACH;FMTTYPE=image/png:https://www.111project.org/wp-content/uploads/2025/08/Pittsburg-1.png
ORGANIZER;CN="111Project":MAILTO:info@111project.org
END:VEVENT
BEGIN:VEVENT
DTSTART;TZID=America/Chicago:20251021T140000
DTEND;TZID=America/Chicago:20251021T153000
DTSTAMP:20260425T090755
CREATED:20251006T192159Z
LAST-MODIFIED:20251006T192202Z
UID:10001411-1761055200-1761060600@www.111project.org
SUMMARY:McClain County Community Gathering
DESCRIPTION:Register Here!\n\n\n\n\n\n\n\nJoin us as we collaborate together to see that EVERY child in Oklahoma has family! The Lord is using His Church to solve the Foster Care Crisis\, let’s do it together! 
URL:https://www.111project.org/activities/mcclain-county-community-gathering-7/
CATEGORIES:Community Gatherings
ATTACH;FMTTYPE=image/png:https://www.111project.org/wp-content/uploads/2025/10/McClain-2.png
ORGANIZER;CN="111Project":MAILTO:info@111project.org
END:VEVENT
BEGIN:VEVENT
DTSTART;TZID=America/Chicago:20251022T120000
DTEND;TZID=America/Chicago:20251022T130000
DTSTAMP:20260425T090755
CREATED:20251003T194233Z
LAST-MODIFIED:20251003T194637Z
UID:10001405-1761134400-1761138000@www.111project.org
SUMMARY:Atoka & Coal Counties Community Gathering
DESCRIPTION:Register Here!\n\n\n\n\n\n\n\n\n\nJoin local church & community leaders with a heart for children & family welfare. We will pray\, pursue\, and work toward local solutions while making meaningful connections that last. Refreshments will be provided.
URL:https://www.111project.org/activities/atoka-coal-counties-community-gathering-5/
CATEGORIES:Community Gatherings
ATTACH;FMTTYPE=image/png:https://www.111project.org/wp-content/uploads/2025/08/Atoka-1.png
ORGANIZER;CN="111Project":MAILTO:info@111project.org
END:VEVENT
BEGIN:VEVENT
DTSTART;TZID=America/Chicago:20251022T130000
DTEND;TZID=America/Chicago:20251022T140000
DTSTAMP:20260425T090755
CREATED:20250122T203640Z
LAST-MODIFIED:20250220T015508Z
UID:10001042-1761138000-1761141600@www.111project.org
SUMMARY:Nowata County Community Gathering
DESCRIPTION:Register Here!\n\n\n\n\n\n\n\nJoin local church & community leaders with a heart for children & family welfare. We will pray\, pursue\, and work toward local solutions while making meaningful connections that last. Refreshments will be available for purchase.
URL:https://www.111project.org/activities/nowata-county-community-gathering-9/
CATEGORIES:Community Gatherings
ATTACH;FMTTYPE=image/png:https://www.111project.org/wp-content/uploads/2025/01/Nowata-OCTOBER.png
ORGANIZER;CN="111Project":MAILTO:info@111project.org
END:VEVENT
BEGIN:VEVENT
DTSTART;TZID=America/Chicago:20251023T100000
DTEND;TZID=America/Chicago:20251023T113000
DTSTAMP:20260425T090755
CREATED:20250929T190507Z
LAST-MODIFIED:20250929T190511Z
UID:10001400-1761213600-1761219000@www.111project.org
SUMMARY:Cleveland County Community Gathering
DESCRIPTION:Register Here!\n\n\n\n\n\n\n\nJoin us as we collaborate together to see that EVERY child in Oklahoma has family! The Lord is using His Church to solve the Foster Care crisis! Let’s do it together. Snacks will be provided.
URL:https://www.111project.org/activities/cleveland-county-community-gathering-28/
CATEGORIES:Community Gatherings
ATTACH;FMTTYPE=image/png:https://www.111project.org/wp-content/uploads/2025/09/Cleveland-5.png
ORGANIZER;CN="111Project":MAILTO:info@111project.org
END:VEVENT
BEGIN:VEVENT
DTSTART;TZID=America/Chicago:20251023T120000
DTEND;TZID=America/Chicago:20251023T130000
DTSTAMP:20260425T090755
CREATED:20251006T172154Z
LAST-MODIFIED:20251006T172344Z
UID:10001409-1761220800-1761224400@www.111project.org
SUMMARY:Pontotoc County Community Gathering
DESCRIPTION:Register Here!\n\n\n\n\n\n\n\n\n\nHey\, all! Come join the OKDHS\, the Church\, and community members at our Community Gathering\, where we celebrate what we have done\, discuss what is being done\, and plan what can be done to end the child welfare crisis in Oklahoma.
URL:https://www.111project.org/activities/pontotoc-county-community-gathering-7/
CATEGORIES:Community Gatherings
ATTACH;FMTTYPE=image/png:https://www.111project.org/wp-content/uploads/2025/06/Pontotoc.png
ORGANIZER;CN="111Project":MAILTO:info@111project.org
END:VEVENT
BEGIN:VEVENT
DTSTART;TZID=America/Chicago:20251023T130000
DTEND;TZID=America/Chicago:20251023T143000
DTSTAMP:20260425T090755
CREATED:20250814T190349Z
LAST-MODIFIED:20250814T190352Z
UID:10001297-1761224400-1761229800@www.111project.org
SUMMARY:Pottawatomie County Community Gathering
DESCRIPTION:Register Here!\n\n\n\n\n\n\n\nJoin us as we collaborate together to see that EVERY child in Oklahoma has family! The Lord is using His Church to solve the Foster Care crisis; let’s do it together! Snacks will be provided.
URL:https://www.111project.org/activities/pottawatomie-county-community-gathering-24/
CATEGORIES:Community Gatherings
ATTACH;FMTTYPE=image/png:https://www.111project.org/wp-content/uploads/2025/08/Pottawatomie-MAR-1.png
ORGANIZER;CN="111Project":MAILTO:info@111project.org
END:VEVENT
BEGIN:VEVENT
DTSTART;TZID=America/Chicago:20251027T120000
DTEND;TZID=America/Chicago:20251027T130000
DTSTAMP:20260425T090755
CREATED:20251018T144511Z
LAST-MODIFIED:20251018T144515Z
UID:10001424-1761566400-1761570000@www.111project.org
SUMMARY:Noble County Community Gathering
DESCRIPTION:Register Here!\n\n\n\n\n\n\n\nJoin us for our next Community Gathering with DHS\, local church leaders\, and other agency and community members with a heart for child and family welfare. We will discuss local resources and needs including CarePortal. Lunch will be provided. 
URL:https://www.111project.org/activities/noble-county-community-gathering-8/
CATEGORIES:Community Gatherings
ATTACH;FMTTYPE=image/png:https://www.111project.org/wp-content/uploads/2025/10/Noble.png
ORGANIZER;CN="111Project":MAILTO:info@111project.org
END:VEVENT
BEGIN:VEVENT
DTSTART;TZID=America/Chicago:20251028T113000
DTEND;TZID=America/Chicago:20251028T123000
DTSTAMP:20260425T090755
CREATED:20251004T024225Z
LAST-MODIFIED:20251004T024228Z
UID:10001406-1761651000-1761654600@www.111project.org
SUMMARY:Woods County Community Gathering
DESCRIPTION:Register Here!\n\n\n\n\n\n\n\nJoin local church & community leaders with a heart for children & family welfare. We will pray\, pursue\, and work toward local solutions while making meaningful connections that last. Refreshments will be available for purchase.
URL:https://www.111project.org/activities/woods-county-community-gathering-4/
CATEGORIES:Community Gatherings
ATTACH;FMTTYPE=image/png:https://www.111project.org/wp-content/uploads/2025/10/Woods.png
ORGANIZER;CN="111Project":MAILTO:info@111project.org
END:VEVENT
BEGIN:VEVENT
DTSTART;TZID=America/Chicago:20251028T120000
DTEND;TZID=America/Chicago:20251028T130000
DTSTAMP:20260425T090755
CREATED:20250922T205903Z
LAST-MODIFIED:20251112T192330Z
UID:10001326-1761652800-1761656400@www.111project.org
SUMMARY:LeFlore Community Gathering
DESCRIPTION:Hey\, all! Come join the OKDHS\, the Church\, and community members at the LeFlore County Community Gathering\, where we celebrate what we have done\, discuss what is being done\, and plan what can be done to end the child welfare crisis in LeFlore County.
URL:https://www.111project.org/activities/leflore-community-gathering-15/2025-10-28/
CATEGORIES:Community Gatherings
END:VEVENT
BEGIN:VEVENT
DTSTART;TZID=America/Chicago:20251028T120000
DTEND;TZID=America/Chicago:20251028T130000
DTSTAMP:20260425T090755
CREATED:20251018T143559Z
LAST-MODIFIED:20251018T143602Z
UID:10001423-1761652800-1761656400@www.111project.org
SUMMARY:Kay County Community Gathering
DESCRIPTION:Register Here!\n\n\n\n\n\n\n\nJoin us for our next Community Gathering with DHS\, local church leaders\, and other agency and community members with a heart for child and family welfare. We will discuss local resources and needs including CarePortal. Food will be provided. 
URL:https://www.111project.org/activities/kay-county-community-gathering-13/
CATEGORIES:Community Gatherings
ATTACH;FMTTYPE=image/png:https://www.111project.org/wp-content/uploads/2025/10/Kay.png
ORGANIZER;CN="111Project":MAILTO:info@111project.org
END:VEVENT
BEGIN:VEVENT
DTSTART;TZID=America/Chicago:20251030T130000
DTEND;TZID=America/Chicago:20251030T140000
DTSTAMP:20260425T090755
CREATED:20250123T142343Z
LAST-MODIFIED:20251020T183347Z
UID:10001117-1761829200-1761832800@www.111project.org
SUMMARY:Pawnee/ Osage County Celebration
DESCRIPTION:Register Here!\n\n\n\n\n\n\n\nJoin local church & community leaders with a heart for children & family welfare. We will pray\, pursue\, and work toward local solutions while making meaningful connections that last. Refreshments will be available for purchase.
URL:https://www.111project.org/activities/north-osage-county-community-gathering-11/
CATEGORIES:Community Gatherings
ATTACH;FMTTYPE=image/png:https://www.111project.org/wp-content/uploads/2025/01/Pawnee-Osage-50000-Kids-served-Celebratioin-1.png
ORGANIZER;CN="111Project":MAILTO:info@111project.org
END:VEVENT
BEGIN:VEVENT
DTSTART;TZID=America/Chicago:20251105T100000
DTEND;TZID=America/Chicago:20251105T110000
DTSTAMP:20260425T090755
CREATED:20250122T223721Z
LAST-MODIFIED:20250220T015656Z
UID:10001088-1762336800-1762340400@www.111project.org
SUMMARY:Mayes County Community Gathering
DESCRIPTION:Register Here!\n\n\n\n\n\n\n\nJoin local church & community leaders with a heart for children & family welfare. We will pray\, pursue\, and work toward local solutions while making meaningful connections that last. Refreshments will be available for purchase.
URL:https://www.111project.org/activities/mayes-county-community-gathering-16/
CATEGORIES:Community Gatherings
ATTACH;FMTTYPE=image/png:https://www.111project.org/wp-content/uploads/2025/01/Mayes-NOVEMBER.png
ORGANIZER;CN="111Project":MAILTO:info@111project.org
END:VEVENT
END:VCALENDAR