BEGIN:VCALENDAR
VERSION:2.0
PRODID:-//111Project.org - ECPv6.15.18//NONSGML v1.0//EN
CALSCALE:GREGORIAN
METHOD:PUBLISH
X-WR-CALNAME:111Project.org
X-ORIGINAL-URL:https://www.111project.org
X-WR-CALDESC:Events for 111Project.org
REFRESH-INTERVAL;VALUE=DURATION:PT1H
X-Robots-Tag:noindex
X-PUBLISHED-TTL:PT1H
BEGIN:VTIMEZONE
TZID:America/Chicago
BEGIN:DAYLIGHT
TZOFFSETFROM:-0600
TZOFFSETTO:-0500
TZNAME:CDT
DTSTART:20240310T080000
END:DAYLIGHT
BEGIN:STANDARD
TZOFFSETFROM:-0500
TZOFFSETTO:-0600
TZNAME:CST
DTSTART:20241103T070000
END:STANDARD
BEGIN:DAYLIGHT
TZOFFSETFROM:-0600
TZOFFSETTO:-0500
TZNAME:CDT
DTSTART:20250309T080000
END:DAYLIGHT
BEGIN:STANDARD
TZOFFSETFROM:-0500
TZOFFSETTO:-0600
TZNAME:CST
DTSTART:20251102T070000
END:STANDARD
BEGIN:DAYLIGHT
TZOFFSETFROM:-0600
TZOFFSETTO:-0500
TZNAME:CDT
DTSTART:20260308T080000
END:DAYLIGHT
BEGIN:STANDARD
TZOFFSETFROM:-0500
TZOFFSETTO:-0600
TZNAME:CST
DTSTART:20261101T070000
END:STANDARD
END:VTIMEZONE
BEGIN:VEVENT
DTSTART;TZID=America/Chicago:20250424T130000
DTEND;TZID=America/Chicago:20250424T140000
DTSTAMP:20260424T211058
CREATED:20250122T225724Z
LAST-MODIFIED:20250220T010420Z
UID:10001100-1745499600-1745503200@www.111project.org
SUMMARY:North Osage County Community Gathering
DESCRIPTION:Register Here!\n\n\n\n\n\n\n\nJoin local church & community leaders with a heart for children & family welfare. We will pray\, pursue\, and work toward local solutions while making meaningful connections that last. Refreshments will be available for purchase.
URL:https://www.111project.org/activities/north-osage-county-community-gathering-4/
CATEGORIES:Community Gatherings
ATTACH;FMTTYPE=image/png:https://www.111project.org/wp-content/uploads/2025/01/North-Osage-APRIL.png
ORGANIZER;CN="111Project":MAILTO:info@111project.org
END:VEVENT
BEGIN:VEVENT
DTSTART;TZID=America/Chicago:20250424T130000
DTEND;TZID=America/Chicago:20250424T143000
DTSTAMP:20260424T211058
CREATED:20250212T183900Z
LAST-MODIFIED:20250212T184032Z
UID:10001156-1745499600-1745505000@www.111project.org
SUMMARY:Pottawatomie County Community Gathering
DESCRIPTION:Register Here!\n\n\n\n\n\n\n\nJoin us as we collaborate together to see that EVERY child in Oklahoma has family! The Lord is using His Church to solve the Foster Care crisis; let’s do it together! Snacks will be provided.
URL:https://www.111project.org/activities/pottawatomie-county-community-gathering-19/
CATEGORIES:Community Gatherings
ATTACH;FMTTYPE=image/png:https://www.111project.org/wp-content/uploads/2025/02/Pottawatomie-APR.png
ORGANIZER;CN="111Project":MAILTO:info@111project.org
END:VEVENT
BEGIN:VEVENT
DTSTART;TZID=America/Chicago:20250424T131100
DTEND;TZID=America/Chicago:20250424T143000
DTSTAMP:20260424T211058
CREATED:20250410T181349Z
LAST-MODIFIED:20250410T181355Z
UID:10001206-1745500260-1745505000@www.111project.org
SUMMARY:Tulsa County Community Gathering
DESCRIPTION:Register Here!\n\n\n\n\n\n\n\nJoin local church & community leaders with a heart for children & family welfare. We will pray\, pursue\, and work toward local solutions while making meaningful connections that last. Snacks will be available.
URL:https://www.111project.org/activities/tulsa-county-community-gathering-14/
CATEGORIES:Community Gatherings
ATTACH;FMTTYPE=image/png:https://www.111project.org/wp-content/uploads/2025/04/Tulsa-April-Gathering.png
ORGANIZER;CN="111Project":MAILTO:info@111project.org
END:VEVENT
END:VCALENDAR