BEGIN:VCALENDAR
VERSION:2.0
PRODID:-//111Project.org - ECPv6.15.18//NONSGML v1.0//EN
CALSCALE:GREGORIAN
METHOD:PUBLISH
X-WR-CALNAME:111Project.org
X-ORIGINAL-URL:https://www.111project.org
X-WR-CALDESC:Events for 111Project.org
REFRESH-INTERVAL;VALUE=DURATION:PT1H
X-Robots-Tag:noindex
X-PUBLISHED-TTL:PT1H
BEGIN:VTIMEZONE
TZID:America/Chicago
BEGIN:DAYLIGHT
TZOFFSETFROM:-0600
TZOFFSETTO:-0500
TZNAME:CDT
DTSTART:20240310T080000
END:DAYLIGHT
BEGIN:STANDARD
TZOFFSETFROM:-0500
TZOFFSETTO:-0600
TZNAME:CST
DTSTART:20241103T070000
END:STANDARD
BEGIN:DAYLIGHT
TZOFFSETFROM:-0600
TZOFFSETTO:-0500
TZNAME:CDT
DTSTART:20250309T080000
END:DAYLIGHT
BEGIN:STANDARD
TZOFFSETFROM:-0500
TZOFFSETTO:-0600
TZNAME:CST
DTSTART:20251102T070000
END:STANDARD
BEGIN:DAYLIGHT
TZOFFSETFROM:-0600
TZOFFSETTO:-0500
TZNAME:CDT
DTSTART:20260308T080000
END:DAYLIGHT
BEGIN:STANDARD
TZOFFSETFROM:-0500
TZOFFSETTO:-0600
TZNAME:CST
DTSTART:20261101T070000
END:STANDARD
END:VTIMEZONE
BEGIN:VEVENT
DTSTART;TZID=America/Chicago:20251202T113000
DTEND;TZID=America/Chicago:20251202T123000
DTSTAMP:20260424T075912
CREATED:20251029T193814Z
LAST-MODIFIED:20251029T193818Z
UID:10001430-1764675000-1764678600@www.111project.org
SUMMARY:Custer County Community Gathering
DESCRIPTION:Register Here!\n\n\n\n\n\n\n\nJoin us for our next Community Gathering with DHS\, local church leaders\, and other agency and community members with a heart for child and family welfare. We will discuss local resources and needs\, including CarePortal. Lunch will be provided. 
URL:https://www.111project.org/activities/custer-county-community-gathering-7/
LOCATION:Oklahoma
CATEGORIES:Community Gatherings
ATTACH;FMTTYPE=image/png:https://www.111project.org/wp-content/uploads/2025/10/Custer-Dec-2-.png
ORGANIZER;CN="111Project":MAILTO:info@111project.org
END:VEVENT
BEGIN:VEVENT
DTSTART;TZID=America/Chicago:20251203T100000
DTEND;TZID=America/Chicago:20251203T110000
DTSTAMP:20260424T075912
CREATED:20250122T194134Z
LAST-MODIFIED:20250220T015845Z
UID:10001034-1764756000-1764759600@www.111project.org
SUMMARY:Washington County Community Gathering
DESCRIPTION:Register Here!\n\n\n\n\n\n\n\nJoin local church & community leaders with a heart for children & family welfare. We will pray\, pursue\, and work toward local solutions while making meaningful connections that last. Refreshments will be provided.
URL:https://www.111project.org/activities/washington-county-community-gathering-10/
LOCATION:Oklahoma
CATEGORIES:Community Gatherings
ATTACH;FMTTYPE=image/png:https://www.111project.org/wp-content/uploads/2025/01/Washington-DECEMBER.png
ORGANIZER;CN="111Project":MAILTO:info@111project.org
END:VEVENT
BEGIN:VEVENT
DTSTART;TZID=America/Chicago:20251203T130000
DTEND;TZID=America/Chicago:20251203T140000
DTSTAMP:20260424T075912
CREATED:20250122T203751Z
LAST-MODIFIED:20250220T015913Z
UID:10001043-1764766800-1764770400@www.111project.org
SUMMARY:Nowata County Community Gathering
DESCRIPTION:Register Here!\n\n\n\n\n\n\n\nJoin local church & community leaders with a heart for children & family welfare. We will pray\, pursue\, and work toward local solutions while making meaningful connections that last. Refreshments will be available for purchase.
URL:https://www.111project.org/activities/nowata-county-community-gathering-10/
LOCATION:Oklahoma
CATEGORIES:Community Gatherings
ATTACH;FMTTYPE=image/png:https://www.111project.org/wp-content/uploads/2025/01/Nowata-DECEMBER.png
ORGANIZER;CN="111Project":MAILTO:info@111project.org
END:VEVENT
BEGIN:VEVENT
DTSTART;TZID=America/Chicago:20251204T130000
DTEND;TZID=America/Chicago:20251204T143000
DTSTAMP:20260424T075912
CREATED:20250902T175142Z
LAST-MODIFIED:20251118T211042Z
UID:10001314-1764853200-1764858600@www.111project.org
SUMMARY:Pottawatomie County Community Gathering
DESCRIPTION:Register Here!\n\n\n\n\n\n\n\nJoin us as we collaborate together to see that EVERY child in Oklahoma has family! The Lord is using His Church to solve the Foster Care crisis; let’s do it together! Snacks will be provided.
URL:https://www.111project.org/activities/pottawatomie-county-community-gathering-25/
LOCATION:Oklahoma
CATEGORIES:Community Gatherings
ATTACH;FMTTYPE=image/png:https://www.111project.org/wp-content/uploads/2025/09/Pottawatomie-Dec-2025.png
ORGANIZER;CN="111Project":MAILTO:info@111project.org
END:VEVENT
BEGIN:VEVENT
DTSTART;TZID=America/Chicago:20251209T113000
DTEND;TZID=America/Chicago:20251209T123000
DTSTAMP:20260424T075912
CREATED:20250926T041700Z
LAST-MODIFIED:20251106T022615Z
UID:10001394-1765279800-1765283400@www.111project.org
SUMMARY:Woodward County Community Gathering
DESCRIPTION:Register Today!\n\n\n\n\n\n\n\nJoin us for our next Community Gathering with DHS\, local church leaders\, and other agency and community members with a heart for child and family welfare. We will discuss local resources and needs\, including CarePortal. Lunch will be provided.
URL:https://www.111project.org/activities/woodward-county-community-gathering-8/
LOCATION:Oklahoma
CATEGORIES:Community Gatherings
ATTACH;FMTTYPE=image/png:https://www.111project.org/wp-content/uploads/2025/09/Woodward-2.png
ORGANIZER;CN="111Project":MAILTO:info@111project.org
END:VEVENT
BEGIN:VEVENT
DTSTART;TZID=America/Chicago:20251209T113000
DTEND;TZID=America/Chicago:20251209T123000
DTSTAMP:20260424T075912
CREATED:20251106T020103Z
LAST-MODIFIED:20251106T020106Z
UID:10001421-1765279800-1765283400@www.111project.org
SUMMARY:Beckham County Community Gathering
DESCRIPTION:Register Here!\n\n\n\n\n\n\n\nJoin us for our next Community Gathering with DHS\, local church leaders\, and other agency and community members with a heart for child and family welfare. We will discuss local resources and needs with CarePortal. Lunch will be provided. Please register so the host church will be prepared. 
URL:https://www.111project.org/activities/beckham-county-community-gathering-5/
LOCATION:Oklahoma
CATEGORIES:Community Gatherings
ATTACH;FMTTYPE=image/png:https://www.111project.org/wp-content/uploads/2025/10/Beckham.png
ORGANIZER;CN="111Project":MAILTO:info@111project.org
END:VEVENT
BEGIN:VEVENT
DTSTART;TZID=America/Chicago:20251209T120000
DTEND;TZID=America/Chicago:20251209T130000
DTSTAMP:20260424T075912
CREATED:20251203T163654Z
LAST-MODIFIED:20251203T163657Z
UID:10001444-1765281600-1765285200@www.111project.org
SUMMARY:Kay County Community Gathering
DESCRIPTION:Register Here!\n\n\n\n\n\n\n\nJoin us for our next Community Gathering with DHS\, local church leaders\, and other agency and community members with a heart for child and family welfare. We will discuss local resources and needs including CarePortal. Food will be provided. 
URL:https://www.111project.org/activities/kay-county-community-gathering-14/
LOCATION:Oklahoma
CATEGORIES:Community Gatherings
ATTACH;FMTTYPE=image/png:https://www.111project.org/wp-content/uploads/2025/12/Kay-2.png
ORGANIZER;CN="111Project":MAILTO:info@111project.org
END:VEVENT
BEGIN:VEVENT
DTSTART;TZID=America/Chicago:20251209T120000
DTEND;TZID=America/Chicago:20251209T133000
DTSTAMP:20260424T075912
CREATED:20250219T191529Z
LAST-MODIFIED:20251119T041948Z
UID:10001164-1765281600-1765287000@www.111project.org
SUMMARY:McClain County Community Gathering
DESCRIPTION:Register Here!\n\n\n\n\n\n\n\nJoin us as we collaborate together to see that EVERY child in Oklahoma has family! The Lord is using His Church to solve the Foster Care Crisis\, let’s do it together! 
URL:https://www.111project.org/activities/mcclain-county-community-gathering-4/
LOCATION:Oklahoma
CATEGORIES:Community Gatherings
ATTACH;FMTTYPE=image/png:https://www.111project.org/wp-content/uploads/2025/02/McClain-3.png
ORGANIZER;CN="111Project":MAILTO:info@111project.org
END:VEVENT
BEGIN:VEVENT
DTSTART;TZID=America/Chicago:20251211T100000
DTEND;TZID=America/Chicago:20251211T110000
DTSTAMP:20260424T075912
CREATED:20250729T215105Z
LAST-MODIFIED:20250729T215216Z
UID:10001285-1765447200-1765450800@www.111project.org
SUMMARY:Pawnee County Community Gathering
DESCRIPTION:Join local church & community leaders with a heart for children & family welfare. We will pray\, pursue\, and work toward local solutions while making meaningful connections that last. Refreshments will be provided.
URL:https://www.111project.org/activities/pawnee-county-community-gathering-13/
LOCATION:Oklahoma
CATEGORIES:Community Gatherings
ATTACH;FMTTYPE=image/png:https://www.111project.org/wp-content/uploads/2025/07/Pawnee-DECEMBER.png
END:VEVENT
BEGIN:VEVENT
DTSTART;TZID=America/Chicago:20251211T100000
DTEND;TZID=America/Chicago:20251211T113000
DTSTAMP:20260424T075912
CREATED:20250930T000230Z
LAST-MODIFIED:20250930T000233Z
UID:10001403-1765447200-1765452600@www.111project.org
SUMMARY:Cleveland County Community Gathering
DESCRIPTION:Register Here!\n\n\n\n\n\n\n\nJoin us as we collaborate together to see that EVERY child in Oklahoma has family! The Lord is using His Church to solve the Foster Care crisis! Let’s do it together. Snacks will be provided.
URL:https://www.111project.org/activities/cleveland-county-community-gathering-30/
LOCATION:Oklahoma
CATEGORIES:Community Gatherings
ATTACH;FMTTYPE=image/png:https://www.111project.org/wp-content/uploads/2025/09/Cleveland-7.png
ORGANIZER;CN="111Project":MAILTO:info@111project.org
END:VEVENT
BEGIN:VEVENT
DTSTART;TZID=America/Chicago:20251211T130000
DTEND;TZID=America/Chicago:20251211T140000
DTSTAMP:20260424T075912
CREATED:20250122T230403Z
LAST-MODIFIED:20250220T020114Z
UID:10001106-1765458000-1765461600@www.111project.org
SUMMARY:North Osage County Community Gathering
DESCRIPTION:Register Here!\n\n\n\n\n\n\n\nJoin local church & community leaders with a heart for children & family welfare. We will pray\, pursue\, and work toward local solutions while making meaningful connections that last. Refreshments will be available for purchase.
URL:https://www.111project.org/activities/north-osage-county-community-gathering-10/
LOCATION:Oklahoma
CATEGORIES:Community Gatherings
ATTACH;FMTTYPE=image/png:https://www.111project.org/wp-content/uploads/2025/01/North-Osage-DECEMBER.png
ORGANIZER;CN="111Project":MAILTO:info@111project.org
END:VEVENT
BEGIN:VEVENT
DTSTART;TZID=America/Chicago:20251223T120000
DTEND;TZID=America/Chicago:20251223T130000
DTSTAMP:20260424T075912
CREATED:20250922T205903Z
LAST-MODIFIED:20251112T192330Z
UID:10001327-1766491200-1766494800@www.111project.org
SUMMARY:LeFlore Community Gathering
DESCRIPTION:Hey\, all! Come join the OKDHS\, the Church\, and community members at the LeFlore County Community Gathering\, where we celebrate what we have done\, discuss what is being done\, and plan what can be done to end the child welfare crisis in LeFlore County.
URL:https://www.111project.org/activities/leflore-community-gathering-15/2025-12-23/
LOCATION:Oklahoma
CATEGORIES:Community Gatherings
END:VEVENT
END:VCALENDAR