BEGIN:VCALENDAR
VERSION:2.0
PRODID:-//111Project.org - ECPv6.15.18//NONSGML v1.0//EN
CALSCALE:GREGORIAN
METHOD:PUBLISH
X-ORIGINAL-URL:https://www.111project.org
X-WR-CALDESC:Events for 111Project.org
REFRESH-INTERVAL;VALUE=DURATION:PT1H
X-Robots-Tag:noindex
X-PUBLISHED-TTL:PT1H
BEGIN:VTIMEZONE
TZID:America/Chicago
BEGIN:DAYLIGHT
TZOFFSETFROM:-0600
TZOFFSETTO:-0500
TZNAME:CDT
DTSTART:20250309T080000
END:DAYLIGHT
BEGIN:STANDARD
TZOFFSETFROM:-0500
TZOFFSETTO:-0600
TZNAME:CST
DTSTART:20251102T070000
END:STANDARD
BEGIN:DAYLIGHT
TZOFFSETFROM:-0600
TZOFFSETTO:-0500
TZNAME:CDT
DTSTART:20260308T080000
END:DAYLIGHT
BEGIN:STANDARD
TZOFFSETFROM:-0500
TZOFFSETTO:-0600
TZNAME:CST
DTSTART:20261101T070000
END:STANDARD
BEGIN:DAYLIGHT
TZOFFSETFROM:-0600
TZOFFSETTO:-0500
TZNAME:CDT
DTSTART:20270314T080000
END:DAYLIGHT
BEGIN:STANDARD
TZOFFSETFROM:-0500
TZOFFSETTO:-0600
TZNAME:CST
DTSTART:20271107T070000
END:STANDARD
END:VTIMEZONE
BEGIN:VEVENT
DTSTART;TZID=America/Chicago:20260428T090000
DTEND;TZID=America/Chicago:20260428T101500
DTSTAMP:20260424T013831
CREATED:20260107T163121Z
LAST-MODIFIED:20260107T163159Z
UID:10001815-1777366800-1777371300@www.111project.org
SUMMARY:Lincoln County Community Gathering
DESCRIPTION:What is a Community Gathering? \n\n\n\nIn the simplest terms\, this is where you get to hear about what is happening in your community at a very local level and how you can be involved.  \n\n\n\nThese are regular meetings of church and agency leaders\, as well as community members\, who collaborate to support and advocate for children and families\, particularly through the CarePortal. \n\n\n\nThese gatherings provide a platform for sharing stories (both the good and the challenging)\, discussing local needs\, collaborating on resources\, developing strategies for family support\, and planning future actions for vulnerable children and families within each specific geographic community.
URL:https://www.111project.org/activities/lincoln-county-community-gathering-4/
LOCATION:2020 E 1st Street\, Chandler\, OK 74834\, 2020 E 1st St.\, Chandler\, Oklahoma\, 74834
CATEGORIES:Community Gatherings
ATTACH;FMTTYPE=image/png:https://www.111project.org/wp-content/uploads/2026/01/Lincoln-1.png
END:VEVENT
BEGIN:VEVENT
DTSTART;TZID=America/Chicago:20260428T100000
DTEND;TZID=America/Chicago:20260428T110000
DTSTAMP:20260424T013831
CREATED:20260417T215314Z
LAST-MODIFIED:20260417T215318Z
UID:10002091-1777370400-1777374000@www.111project.org
SUMMARY:Foyil Public School's Launch Party
DESCRIPTION:Join local church\, community\, & School leaders with a heart for children & families. We will  Celebrate the Schools efforts\, learn how they Care for their students\, take Action steps to partner with the school through utilizing CarePortal\, and Advocate for our Children and families in vulnerable situations while making meaningful connections to educate\, equip\, & empower our Community so every child has family.
URL:https://34lzh.share.hsforms.com/2U8K2IWJsRHSf1MfGOgTOTA
LOCATION:Foyil Public School\, 17002 East 4th Street\, Claremore\, Claremore\, Oklahoma\, 74031\, United States
CATEGORIES:Community Gatherings
ATTACH;FMTTYPE=image/jpeg:https://www.111project.org/wp-content/uploads/2026/04/Foyil-Public-Schools-Launch-Party.jpg
END:VEVENT
BEGIN:VEVENT
DTSTART;TZID=America/Chicago:20260428T120000
DTEND;TZID=America/Chicago:20260428T130000
DTSTAMP:20260424T013831
CREATED:20250922T205903Z
LAST-MODIFIED:20251112T192330Z
UID:10001331-1777377600-1777381200@www.111project.org
SUMMARY:LeFlore Community Gathering
DESCRIPTION:Hey\, all! Come join the OKDHS\, the Church\, and community members at the LeFlore County Community Gathering\, where we celebrate what we have done\, discuss what is being done\, and plan what can be done to end the child welfare crisis in LeFlore County.
URL:https://www.111project.org/activities/leflore-community-gathering-15/2026-04-28/
LOCATION:Oklahoma
CATEGORIES:Community Gatherings
END:VEVENT
BEGIN:VEVENT
DTSTART;TZID=America/Chicago:20260428T120000
DTEND;TZID=America/Chicago:20260428T130000
DTSTAMP:20260424T013831
CREATED:20260415T170642Z
LAST-MODIFIED:20260415T171059Z
UID:10002090-1777377600-1777381200@www.111project.org
SUMMARY:Kay County Community Gathering
DESCRIPTION:Register Here!\n\n\n\nJoin us for our next Community Gathering with DHS\, local church leaders\, and other agency and community members with a heart for child and family welfare. We will discuss local resources and needs including CarePortal. Food will be provided. 
URL:https://www.111project.org/activities/kay-county-community-gathering-4/
LOCATION:Immanuel Baptist Church\, 1600 S 13th St\, Blackwell\, Oklahoma\, 74631
CATEGORIES:Community Gatherings
ORGANIZER;CN="111Project":MAILTO:info@111project.org
END:VEVENT
BEGIN:VEVENT
DTSTART;TZID=America/Chicago:20260428T120000
DTEND;TZID=America/Chicago:20260428T131500
DTSTAMP:20260424T013831
CREATED:20260107T163536Z
LAST-MODIFIED:20260107T163656Z
UID:10001824-1777377600-1777382100@www.111project.org
SUMMARY:Okmulgee County Community Gathering
DESCRIPTION:What is a Community Gathering? \n\n\n\nIn the simplest terms\, this is where you get to hear about what is happening in your community at a very local level and how you can be involved.  \n\n\n\nThese are regular meetings of church and agency leaders\, as well as community members\, who collaborate to support and advocate for children and families\, particularly through the CarePortal. \n\n\n\nThese gatherings provide a platform for sharing stories (both the good and the challenging)\, discussing local needs\, collaborating on resources\, developing strategies for family support\, and planning future actions for vulnerable children and families within each specific geographic community.
URL:https://www.111project.org/activities/okmulgee-county-community-gathering-4/
LOCATION:3499 N. Wood Dr. Okmulgee\, OK 74447\, 3499 N Wood Dr\, Okmulgee\, Oklahoma\, 74447
CATEGORIES:Community Gatherings
ATTACH;FMTTYPE=image/png:https://www.111project.org/wp-content/uploads/2026/01/Okmulgee-1.png
END:VEVENT
BEGIN:VEVENT
DTSTART;TZID=America/Chicago:20260428T140000
DTEND;TZID=America/Chicago:20260428T150000
DTSTAMP:20260424T013831
CREATED:20260408T194352Z
LAST-MODIFIED:20260408T195059Z
UID:10002083-1777384800-1777388400@www.111project.org
SUMMARY:CityServe + CarePortal Info Meeting
DESCRIPTION:Join us for an informational meeting to learn how CityServe and CarePortal partner with local churches and agencies to meet real\, practical needs of vulnerable children and families—right here in our community. \n\n\n\nRegistrations are required for this event due to limited seating.  \n\n\n\n\nRegister Here
URL:https://www.111project.org/activities/cityserve-careportal-info-meeting/
LOCATION:Oklahoma
ATTACH;FMTTYPE=image/png:https://www.111project.org/wp-content/uploads/2026/04/Copy-of-Info-Meeting-Template.png
END:VEVENT
BEGIN:VEVENT
DTSTART;TZID=America/Chicago:20260428T180000
DTEND;TZID=America/Chicago:20260428T191500
DTSTAMP:20260424T013831
CREATED:20260107T164356Z
LAST-MODIFIED:20260107T164401Z
UID:10001833-1777399200-1777403700@www.111project.org
SUMMARY:Creek County Community Gathering
DESCRIPTION:What is a Community Gathering? \n\n\n\nIn the simplest terms\, this is where you get to hear about what is happening in your community at a very local level and how you can be involved.  \n\n\n\nThese are regular meetings of church and agency leaders\, as well as community members\, who collaborate to support and advocate for children and families\, particularly through the CarePortal. \n\n\n\nThese gatherings provide a platform for sharing stories (both the good and the challenging)\, discussing local needs\, collaborating on resources\, developing strategies for family support\, and planning future actions for vulnerable children and families within each specific geographic community.
URL:https://www.111project.org/activities/creek-county-community-gathering-4/
LOCATION:801 E Dewey Ave. Sapulpa\, OK 74066\, 801 E Dewey Ave\, Oklahoma\, 74066
CATEGORIES:Community Gatherings
ATTACH;FMTTYPE=image/png:https://www.111project.org/wp-content/uploads/2026/01/Creek-1.png
END:VEVENT
BEGIN:VEVENT
DTSTART;TZID=America/Chicago:20260430T100000
DTEND;TZID=America/Chicago:20260430T113000
DTSTAMP:20260424T013831
CREATED:20260212T010127Z
LAST-MODIFIED:20260212T010133Z
UID:10001903-1777543200-1777548600@www.111project.org
SUMMARY:Washington County Community Gathering
DESCRIPTION:Join local Church and Community Leaders with a heart for children and families! This will be a time of community collaboration\, as we work to come up with solutions and next steps! Invite someone you would like to see at the table! We hope to see you there! 
URL:https://www.111project.org/activities/washington-county-community-gathering-12/
LOCATION:Bartlesville First Church of The Nazarene\, 3650 SE Adams Blvd\, Bartlesville\, Oklahoma\, United States
CATEGORIES:Community Gatherings
ATTACH;FMTTYPE=image/jpeg:https://www.111project.org/wp-content/uploads/2026/02/Washington.jpg
END:VEVENT
BEGIN:VEVENT
DTSTART;TZID=America/Chicago:20260430T133000
DTEND;TZID=America/Chicago:20260430T150000
DTSTAMP:20260424T013831
CREATED:20260212T010720Z
LAST-MODIFIED:20260212T010725Z
UID:10001905-1777555800-1777561200@www.111project.org
SUMMARY:Osage Community Gathering
DESCRIPTION:Join local Church and Community Leaders with a heart for children and families! This will be a time of community collaboration\, as we work to come up with solutions and next steps! Invite someone you would like to see at the table! We hope to see you there! 
URL:https://www.111project.org/activities/osage-community-gathering-3/
LOCATION:City Church Pawhuska\, 1225 Virginia Short Street\, Pawhuska\, Oklahoma\, United States
CATEGORIES:Community Gatherings
ATTACH;FMTTYPE=image/jpeg:https://www.111project.org/wp-content/uploads/2026/02/Osage.jpg
END:VEVENT
BEGIN:VEVENT
DTSTART;TZID=America/Chicago:20260430T180000
DTEND;TZID=America/Chicago:20260430T193000
DTSTAMP:20260424T013831
CREATED:20260212T011247Z
LAST-MODIFIED:20260212T011251Z
UID:10001907-1777572000-1777577400@www.111project.org
SUMMARY:Pawnee County Community Gathering
DESCRIPTION:Join local Church and Community Leaders with a heart for children and families! This will be a time of community collaboration\, as we work to come up with solutions and next steps! Invite someone you would like to see at the table! We hope to see you there! 
URL:https://www.111project.org/activities/pawnee-county-community-gathering-11/
LOCATION:First Christian Church Cleveland\, 100 S. Division St.\, Cleveland\, Oklahoma\, United States
CATEGORIES:Community Gatherings
ATTACH;FMTTYPE=image/jpeg:https://www.111project.org/wp-content/uploads/2026/02/Pawnee.jpg
END:VEVENT
END:VCALENDAR