BEGIN:VCALENDAR
VERSION:2.0
PRODID:-//111Project.org - ECPv6.15.18//NONSGML v1.0//EN
CALSCALE:GREGORIAN
METHOD:PUBLISH
X-WR-CALNAME:111Project.org
X-ORIGINAL-URL:https://www.111project.org
X-WR-CALDESC:Events for 111Project.org
REFRESH-INTERVAL;VALUE=DURATION:PT1H
X-Robots-Tag:noindex
X-PUBLISHED-TTL:PT1H
BEGIN:VTIMEZONE
TZID:America/Chicago
BEGIN:DAYLIGHT
TZOFFSETFROM:-0600
TZOFFSETTO:-0500
TZNAME:CDT
DTSTART:20250309T080000
END:DAYLIGHT
BEGIN:STANDARD
TZOFFSETFROM:-0500
TZOFFSETTO:-0600
TZNAME:CST
DTSTART:20251102T070000
END:STANDARD
BEGIN:DAYLIGHT
TZOFFSETFROM:-0600
TZOFFSETTO:-0500
TZNAME:CDT
DTSTART:20260308T080000
END:DAYLIGHT
BEGIN:STANDARD
TZOFFSETFROM:-0500
TZOFFSETTO:-0600
TZNAME:CST
DTSTART:20261101T070000
END:STANDARD
BEGIN:DAYLIGHT
TZOFFSETFROM:-0600
TZOFFSETTO:-0500
TZNAME:CDT
DTSTART:20270314T080000
END:DAYLIGHT
BEGIN:STANDARD
TZOFFSETFROM:-0500
TZOFFSETTO:-0600
TZNAME:CST
DTSTART:20271107T070000
END:STANDARD
END:VTIMEZONE
BEGIN:VEVENT
DTSTART;TZID=America/Chicago:20260512T130000
DTEND;TZID=America/Chicago:20260512T140000
DTSTAMP:20260424T030327
CREATED:20251231T173324Z
LAST-MODIFIED:20251231T173327Z
UID:10001526-1778590800-1778594400@www.111project.org
SUMMARY:Seminole & Hughes Counties Community Gathering
DESCRIPTION:Register Here!\n\n\n\n\n\n\n\n\n\nJoin local church & community leaders with a heart for children & family welfare. We will pray\, pursue\, and work toward local solutions while making meaningful connections that last. 
URL:https://www.111project.org/activities/seminole-hughes-counties-community-gathering-6/2026-05-12/
CATEGORIES:Community Gatherings
ATTACH;FMTTYPE=image/png:https://www.111project.org/wp-content/uploads/2025/08/Seminole-1.png
ORGANIZER;CN="111Project":MAILTO:info@111project.org
END:VEVENT
BEGIN:VEVENT
DTSTART;TZID=America/Chicago:20260609T130000
DTEND;TZID=America/Chicago:20260609T140000
DTSTAMP:20260424T030327
CREATED:20251231T173324Z
LAST-MODIFIED:20251231T173327Z
UID:10001527-1781010000-1781013600@www.111project.org
SUMMARY:Seminole & Hughes Counties Community Gathering
DESCRIPTION:Register Here!\n\n\n\n\n\n\n\n\n\nJoin local church & community leaders with a heart for children & family welfare. We will pray\, pursue\, and work toward local solutions while making meaningful connections that last. 
URL:https://www.111project.org/activities/seminole-hughes-counties-community-gathering-6/2026-06-09/
CATEGORIES:Community Gatherings
ATTACH;FMTTYPE=image/png:https://www.111project.org/wp-content/uploads/2025/08/Seminole-1.png
ORGANIZER;CN="111Project":MAILTO:info@111project.org
END:VEVENT
BEGIN:VEVENT
DTSTART;TZID=America/Chicago:20260714T130000
DTEND;TZID=America/Chicago:20260714T140000
DTSTAMP:20260424T030327
CREATED:20251231T173324Z
LAST-MODIFIED:20251231T173327Z
UID:10001528-1784034000-1784037600@www.111project.org
SUMMARY:Seminole & Hughes Counties Community Gathering
DESCRIPTION:Register Here!\n\n\n\n\n\n\n\n\n\nJoin local church & community leaders with a heart for children & family welfare. We will pray\, pursue\, and work toward local solutions while making meaningful connections that last. 
URL:https://www.111project.org/activities/seminole-hughes-counties-community-gathering-6/2026-07-14/
CATEGORIES:Community Gatherings
ATTACH;FMTTYPE=image/png:https://www.111project.org/wp-content/uploads/2025/08/Seminole-1.png
ORGANIZER;CN="111Project":MAILTO:info@111project.org
END:VEVENT
BEGIN:VEVENT
DTSTART;TZID=America/Chicago:20260811T130000
DTEND;TZID=America/Chicago:20260811T140000
DTSTAMP:20260424T030327
CREATED:20251231T173324Z
LAST-MODIFIED:20251231T173327Z
UID:10001529-1786453200-1786456800@www.111project.org
SUMMARY:Seminole & Hughes Counties Community Gathering
DESCRIPTION:Register Here!\n\n\n\n\n\n\n\n\n\nJoin local church & community leaders with a heart for children & family welfare. We will pray\, pursue\, and work toward local solutions while making meaningful connections that last. 
URL:https://www.111project.org/activities/seminole-hughes-counties-community-gathering-6/2026-08-11/
CATEGORIES:Community Gatherings
ATTACH;FMTTYPE=image/png:https://www.111project.org/wp-content/uploads/2025/08/Seminole-1.png
ORGANIZER;CN="111Project":MAILTO:info@111project.org
END:VEVENT
BEGIN:VEVENT
DTSTART;TZID=America/Chicago:20260908T130000
DTEND;TZID=America/Chicago:20260908T140000
DTSTAMP:20260424T030327
CREATED:20251231T173324Z
LAST-MODIFIED:20251231T173327Z
UID:10001530-1788872400-1788876000@www.111project.org
SUMMARY:Seminole & Hughes Counties Community Gathering
DESCRIPTION:Register Here!\n\n\n\n\n\n\n\n\n\nJoin local church & community leaders with a heart for children & family welfare. We will pray\, pursue\, and work toward local solutions while making meaningful connections that last. 
URL:https://www.111project.org/activities/seminole-hughes-counties-community-gathering-6/2026-09-08/
CATEGORIES:Community Gatherings
ATTACH;FMTTYPE=image/png:https://www.111project.org/wp-content/uploads/2025/08/Seminole-1.png
ORGANIZER;CN="111Project":MAILTO:info@111project.org
END:VEVENT
BEGIN:VEVENT
DTSTART;TZID=America/Chicago:20261013T130000
DTEND;TZID=America/Chicago:20261013T140000
DTSTAMP:20260424T030327
CREATED:20251231T173324Z
LAST-MODIFIED:20251231T173327Z
UID:10001531-1791896400-1791900000@www.111project.org
SUMMARY:Seminole & Hughes Counties Community Gathering
DESCRIPTION:Register Here!\n\n\n\n\n\n\n\n\n\nJoin local church & community leaders with a heart for children & family welfare. We will pray\, pursue\, and work toward local solutions while making meaningful connections that last. 
URL:https://www.111project.org/activities/seminole-hughes-counties-community-gathering-6/2026-10-13/
CATEGORIES:Community Gatherings
ATTACH;FMTTYPE=image/png:https://www.111project.org/wp-content/uploads/2025/08/Seminole-1.png
ORGANIZER;CN="111Project":MAILTO:info@111project.org
END:VEVENT
END:VCALENDAR