BEGIN:VCALENDAR
VERSION:2.0
PRODID:-//111Project.org - ECPv6.15.18//NONSGML v1.0//EN
CALSCALE:GREGORIAN
METHOD:PUBLISH
X-WR-CALNAME:111Project.org
X-ORIGINAL-URL:https://www.111project.org
X-WR-CALDESC:Events for 111Project.org
REFRESH-INTERVAL;VALUE=DURATION:PT1H
X-Robots-Tag:noindex
X-PUBLISHED-TTL:PT1H
BEGIN:VTIMEZONE
TZID:America/Chicago
BEGIN:DAYLIGHT
TZOFFSETFROM:-0600
TZOFFSETTO:-0500
TZNAME:CDT
DTSTART:20250309T080000
END:DAYLIGHT
BEGIN:STANDARD
TZOFFSETFROM:-0500
TZOFFSETTO:-0600
TZNAME:CST
DTSTART:20251102T070000
END:STANDARD
BEGIN:DAYLIGHT
TZOFFSETFROM:-0600
TZOFFSETTO:-0500
TZNAME:CDT
DTSTART:20260308T080000
END:DAYLIGHT
BEGIN:STANDARD
TZOFFSETFROM:-0500
TZOFFSETTO:-0600
TZNAME:CST
DTSTART:20261101T070000
END:STANDARD
BEGIN:DAYLIGHT
TZOFFSETFROM:-0600
TZOFFSETTO:-0500
TZNAME:CDT
DTSTART:20270314T080000
END:DAYLIGHT
BEGIN:STANDARD
TZOFFSETFROM:-0500
TZOFFSETTO:-0600
TZNAME:CST
DTSTART:20271107T070000
END:STANDARD
BEGIN:DAYLIGHT
TZOFFSETFROM:-0600
TZOFFSETTO:-0500
TZNAME:CDT
DTSTART:20280312T080000
END:DAYLIGHT
BEGIN:STANDARD
TZOFFSETFROM:-0500
TZOFFSETTO:-0600
TZNAME:CST
DTSTART:20281105T070000
END:STANDARD
BEGIN:DAYLIGHT
TZOFFSETFROM:-0600
TZOFFSETTO:-0500
TZNAME:CDT
DTSTART:20290311T080000
END:DAYLIGHT
BEGIN:STANDARD
TZOFFSETFROM:-0500
TZOFFSETTO:-0600
TZNAME:CST
DTSTART:20291104T070000
END:STANDARD
BEGIN:DAYLIGHT
TZOFFSETFROM:-0600
TZOFFSETTO:-0500
TZNAME:CDT
DTSTART:20300310T080000
END:DAYLIGHT
BEGIN:STANDARD
TZOFFSETFROM:-0500
TZOFFSETTO:-0600
TZNAME:CST
DTSTART:20301103T070000
END:STANDARD
BEGIN:DAYLIGHT
TZOFFSETFROM:-0600
TZOFFSETTO:-0500
TZNAME:CDT
DTSTART:20310309T080000
END:DAYLIGHT
BEGIN:STANDARD
TZOFFSETFROM:-0500
TZOFFSETTO:-0600
TZNAME:CST
DTSTART:20311102T070000
END:STANDARD
BEGIN:DAYLIGHT
TZOFFSETFROM:-0600
TZOFFSETTO:-0500
TZNAME:CDT
DTSTART:20320314T080000
END:DAYLIGHT
BEGIN:STANDARD
TZOFFSETFROM:-0500
TZOFFSETTO:-0600
TZNAME:CST
DTSTART:20321107T070000
END:STANDARD
END:VTIMEZONE
BEGIN:VEVENT
DTSTART;TZID=America/Chicago:20260625T100000
DTEND;TZID=America/Chicago:20260625T110000
DTSTAMP:20260424T025834
CREATED:20260407T222431Z
LAST-MODIFIED:20260407T230454Z
UID:10002049-1782381600-1782385200@www.111project.org
SUMMARY:Southeast OK County Community Gathering
DESCRIPTION:Location: Cornerstone Church  \n\n\n\n9900 SE 15th St\, Midwest City\, OK 73130 \n\n\n\nJoin us for a regional collaboration of church and agency leaders connected through CarePortal with the mission of serving kids and families in our community! Community Gatherings are table conversations where we discuss open opportunities to serve\, ideas for deeper engagement\, and helpful connections and resourcing among friends. We would love to see you or a representative from your church there\, so please RSVP!
URL:https://www.111project.org/activities/southeast-ok-county-community-gathering-2/2026-06-25/
CATEGORIES:Community Gatherings
END:VEVENT
BEGIN:VEVENT
DTSTART;TZID=America/Chicago:20260827T100000
DTEND;TZID=America/Chicago:20260827T110000
DTSTAMP:20260424T025834
CREATED:20260407T222431Z
LAST-MODIFIED:20260407T230454Z
UID:10002050-1787824800-1787828400@www.111project.org
SUMMARY:Southeast OK County Community Gathering
DESCRIPTION:Location: Cornerstone Church  \n\n\n\n9900 SE 15th St\, Midwest City\, OK 73130 \n\n\n\nJoin us for a regional collaboration of church and agency leaders connected through CarePortal with the mission of serving kids and families in our community! Community Gatherings are table conversations where we discuss open opportunities to serve\, ideas for deeper engagement\, and helpful connections and resourcing among friends. We would love to see you or a representative from your church there\, so please RSVP!
URL:https://www.111project.org/activities/southeast-ok-county-community-gathering-2/2026-08-27/
CATEGORIES:Community Gatherings
END:VEVENT
BEGIN:VEVENT
DTSTART;TZID=America/Chicago:20261022T100000
DTEND;TZID=America/Chicago:20261022T110000
DTSTAMP:20260424T025834
CREATED:20260407T222431Z
LAST-MODIFIED:20260407T230454Z
UID:10002051-1792663200-1792666800@www.111project.org
SUMMARY:Southeast OK County Community Gathering
DESCRIPTION:Location: Cornerstone Church  \n\n\n\n9900 SE 15th St\, Midwest City\, OK 73130 \n\n\n\nJoin us for a regional collaboration of church and agency leaders connected through CarePortal with the mission of serving kids and families in our community! Community Gatherings are table conversations where we discuss open opportunities to serve\, ideas for deeper engagement\, and helpful connections and resourcing among friends. We would love to see you or a representative from your church there\, so please RSVP!
URL:https://www.111project.org/activities/southeast-ok-county-community-gathering-2/2026-10-22/
CATEGORIES:Community Gatherings
END:VEVENT
BEGIN:VEVENT
DTSTART;TZID=America/Chicago:20261224T100000
DTEND;TZID=America/Chicago:20261224T110000
DTSTAMP:20260424T025834
CREATED:20260407T222431Z
LAST-MODIFIED:20260407T230454Z
UID:10002052-1798106400-1798110000@www.111project.org
SUMMARY:Southeast OK County Community Gathering
DESCRIPTION:Location: Cornerstone Church  \n\n\n\n9900 SE 15th St\, Midwest City\, OK 73130 \n\n\n\nJoin us for a regional collaboration of church and agency leaders connected through CarePortal with the mission of serving kids and families in our community! Community Gatherings are table conversations where we discuss open opportunities to serve\, ideas for deeper engagement\, and helpful connections and resourcing among friends. We would love to see you or a representative from your church there\, so please RSVP!
URL:https://www.111project.org/activities/southeast-ok-county-community-gathering-2/2026-12-24/
CATEGORIES:Community Gatherings
END:VEVENT
BEGIN:VEVENT
DTSTART;TZID=America/Chicago:20270225T100000
DTEND;TZID=America/Chicago:20270225T110000
DTSTAMP:20260424T025834
CREATED:20260407T222431Z
LAST-MODIFIED:20260407T230454Z
UID:10002053-1803549600-1803553200@www.111project.org
SUMMARY:Southeast OK County Community Gathering
DESCRIPTION:Location: Cornerstone Church  \n\n\n\n9900 SE 15th St\, Midwest City\, OK 73130 \n\n\n\nJoin us for a regional collaboration of church and agency leaders connected through CarePortal with the mission of serving kids and families in our community! Community Gatherings are table conversations where we discuss open opportunities to serve\, ideas for deeper engagement\, and helpful connections and resourcing among friends. We would love to see you or a representative from your church there\, so please RSVP!
URL:https://www.111project.org/activities/southeast-ok-county-community-gathering-2/2027-02-25/
CATEGORIES:Community Gatherings
END:VEVENT
BEGIN:VEVENT
DTSTART;TZID=America/Chicago:20270422T100000
DTEND;TZID=America/Chicago:20270422T110000
DTSTAMP:20260424T025834
CREATED:20260407T222431Z
LAST-MODIFIED:20260407T230454Z
UID:10002054-1808388000-1808391600@www.111project.org
SUMMARY:Southeast OK County Community Gathering
DESCRIPTION:Location: Cornerstone Church  \n\n\n\n9900 SE 15th St\, Midwest City\, OK 73130 \n\n\n\nJoin us for a regional collaboration of church and agency leaders connected through CarePortal with the mission of serving kids and families in our community! Community Gatherings are table conversations where we discuss open opportunities to serve\, ideas for deeper engagement\, and helpful connections and resourcing among friends. We would love to see you or a representative from your church there\, so please RSVP!
URL:https://www.111project.org/activities/southeast-ok-county-community-gathering-2/2027-04-22/
CATEGORIES:Community Gatherings
END:VEVENT
BEGIN:VEVENT
DTSTART;TZID=America/Chicago:20270624T100000
DTEND;TZID=America/Chicago:20270624T110000
DTSTAMP:20260424T025834
CREATED:20260407T222431Z
LAST-MODIFIED:20260407T230454Z
UID:10002055-1813831200-1813834800@www.111project.org
SUMMARY:Southeast OK County Community Gathering
DESCRIPTION:Location: Cornerstone Church  \n\n\n\n9900 SE 15th St\, Midwest City\, OK 73130 \n\n\n\nJoin us for a regional collaboration of church and agency leaders connected through CarePortal with the mission of serving kids and families in our community! Community Gatherings are table conversations where we discuss open opportunities to serve\, ideas for deeper engagement\, and helpful connections and resourcing among friends. We would love to see you or a representative from your church there\, so please RSVP!
URL:https://www.111project.org/activities/southeast-ok-county-community-gathering-2/2027-06-24/
CATEGORIES:Community Gatherings
END:VEVENT
BEGIN:VEVENT
DTSTART;TZID=America/Chicago:20270826T100000
DTEND;TZID=America/Chicago:20270826T110000
DTSTAMP:20260424T025834
CREATED:20260407T222431Z
LAST-MODIFIED:20260407T230454Z
UID:10002056-1819274400-1819278000@www.111project.org
SUMMARY:Southeast OK County Community Gathering
DESCRIPTION:Location: Cornerstone Church  \n\n\n\n9900 SE 15th St\, Midwest City\, OK 73130 \n\n\n\nJoin us for a regional collaboration of church and agency leaders connected through CarePortal with the mission of serving kids and families in our community! Community Gatherings are table conversations where we discuss open opportunities to serve\, ideas for deeper engagement\, and helpful connections and resourcing among friends. We would love to see you or a representative from your church there\, so please RSVP!
URL:https://www.111project.org/activities/southeast-ok-county-community-gathering-2/2027-08-26/
CATEGORIES:Community Gatherings
END:VEVENT
BEGIN:VEVENT
DTSTART;TZID=America/Chicago:20271028T100000
DTEND;TZID=America/Chicago:20271028T110000
DTSTAMP:20260424T025834
CREATED:20260407T222431Z
LAST-MODIFIED:20260407T230454Z
UID:10002057-1824717600-1824721200@www.111project.org
SUMMARY:Southeast OK County Community Gathering
DESCRIPTION:Location: Cornerstone Church  \n\n\n\n9900 SE 15th St\, Midwest City\, OK 73130 \n\n\n\nJoin us for a regional collaboration of church and agency leaders connected through CarePortal with the mission of serving kids and families in our community! Community Gatherings are table conversations where we discuss open opportunities to serve\, ideas for deeper engagement\, and helpful connections and resourcing among friends. We would love to see you or a representative from your church there\, so please RSVP!
URL:https://www.111project.org/activities/southeast-ok-county-community-gathering-2/2027-10-28/
CATEGORIES:Community Gatherings
END:VEVENT
BEGIN:VEVENT
DTSTART;TZID=America/Chicago:20271223T100000
DTEND;TZID=America/Chicago:20271223T110000
DTSTAMP:20260424T025834
CREATED:20260407T222431Z
LAST-MODIFIED:20260407T230454Z
UID:10002058-1829556000-1829559600@www.111project.org
SUMMARY:Southeast OK County Community Gathering
DESCRIPTION:Location: Cornerstone Church  \n\n\n\n9900 SE 15th St\, Midwest City\, OK 73130 \n\n\n\nJoin us for a regional collaboration of church and agency leaders connected through CarePortal with the mission of serving kids and families in our community! Community Gatherings are table conversations where we discuss open opportunities to serve\, ideas for deeper engagement\, and helpful connections and resourcing among friends. We would love to see you or a representative from your church there\, so please RSVP!
URL:https://www.111project.org/activities/southeast-ok-county-community-gathering-2/2027-12-23/
CATEGORIES:Community Gatherings
END:VEVENT
BEGIN:VEVENT
DTSTART;TZID=America/Chicago:20280224T100000
DTEND;TZID=America/Chicago:20280224T110000
DTSTAMP:20260424T025834
CREATED:20260407T222431Z
LAST-MODIFIED:20260407T230454Z
UID:10002059-1834999200-1835002800@www.111project.org
SUMMARY:Southeast OK County Community Gathering
DESCRIPTION:Location: Cornerstone Church  \n\n\n\n9900 SE 15th St\, Midwest City\, OK 73130 \n\n\n\nJoin us for a regional collaboration of church and agency leaders connected through CarePortal with the mission of serving kids and families in our community! Community Gatherings are table conversations where we discuss open opportunities to serve\, ideas for deeper engagement\, and helpful connections and resourcing among friends. We would love to see you or a representative from your church there\, so please RSVP!
URL:https://www.111project.org/activities/southeast-ok-county-community-gathering-2/2028-02-24/
CATEGORIES:Community Gatherings
END:VEVENT
BEGIN:VEVENT
DTSTART;TZID=America/Chicago:20280427T100000
DTEND;TZID=America/Chicago:20280427T110000
DTSTAMP:20260424T025834
CREATED:20260407T222431Z
LAST-MODIFIED:20260407T230454Z
UID:10002060-1840442400-1840446000@www.111project.org
SUMMARY:Southeast OK County Community Gathering
DESCRIPTION:Location: Cornerstone Church  \n\n\n\n9900 SE 15th St\, Midwest City\, OK 73130 \n\n\n\nJoin us for a regional collaboration of church and agency leaders connected through CarePortal with the mission of serving kids and families in our community! Community Gatherings are table conversations where we discuss open opportunities to serve\, ideas for deeper engagement\, and helpful connections and resourcing among friends. We would love to see you or a representative from your church there\, so please RSVP!
URL:https://www.111project.org/activities/southeast-ok-county-community-gathering-2/2028-04-27/
CATEGORIES:Community Gatherings
END:VEVENT
BEGIN:VEVENT
DTSTART;TZID=America/Chicago:20280622T100000
DTEND;TZID=America/Chicago:20280622T110000
DTSTAMP:20260424T025834
CREATED:20260407T222431Z
LAST-MODIFIED:20260407T230454Z
UID:10002061-1845280800-1845284400@www.111project.org
SUMMARY:Southeast OK County Community Gathering
DESCRIPTION:Location: Cornerstone Church  \n\n\n\n9900 SE 15th St\, Midwest City\, OK 73130 \n\n\n\nJoin us for a regional collaboration of church and agency leaders connected through CarePortal with the mission of serving kids and families in our community! Community Gatherings are table conversations where we discuss open opportunities to serve\, ideas for deeper engagement\, and helpful connections and resourcing among friends. We would love to see you or a representative from your church there\, so please RSVP!
URL:https://www.111project.org/activities/southeast-ok-county-community-gathering-2/2028-06-22/
CATEGORIES:Community Gatherings
END:VEVENT
BEGIN:VEVENT
DTSTART;TZID=America/Chicago:20280824T100000
DTEND;TZID=America/Chicago:20280824T110000
DTSTAMP:20260424T025834
CREATED:20260407T222431Z
LAST-MODIFIED:20260407T230454Z
UID:10002062-1850724000-1850727600@www.111project.org
SUMMARY:Southeast OK County Community Gathering
DESCRIPTION:Location: Cornerstone Church  \n\n\n\n9900 SE 15th St\, Midwest City\, OK 73130 \n\n\n\nJoin us for a regional collaboration of church and agency leaders connected through CarePortal with the mission of serving kids and families in our community! Community Gatherings are table conversations where we discuss open opportunities to serve\, ideas for deeper engagement\, and helpful connections and resourcing among friends. We would love to see you or a representative from your church there\, so please RSVP!
URL:https://www.111project.org/activities/southeast-ok-county-community-gathering-2/2028-08-24/
CATEGORIES:Community Gatherings
END:VEVENT
BEGIN:VEVENT
DTSTART;TZID=America/Chicago:20281026T100000
DTEND;TZID=America/Chicago:20281026T110000
DTSTAMP:20260424T025834
CREATED:20260407T222431Z
LAST-MODIFIED:20260407T230454Z
UID:10002063-1856167200-1856170800@www.111project.org
SUMMARY:Southeast OK County Community Gathering
DESCRIPTION:Location: Cornerstone Church  \n\n\n\n9900 SE 15th St\, Midwest City\, OK 73130 \n\n\n\nJoin us for a regional collaboration of church and agency leaders connected through CarePortal with the mission of serving kids and families in our community! Community Gatherings are table conversations where we discuss open opportunities to serve\, ideas for deeper engagement\, and helpful connections and resourcing among friends. We would love to see you or a representative from your church there\, so please RSVP!
URL:https://www.111project.org/activities/southeast-ok-county-community-gathering-2/2028-10-26/
CATEGORIES:Community Gatherings
END:VEVENT
BEGIN:VEVENT
DTSTART;TZID=America/Chicago:20281228T100000
DTEND;TZID=America/Chicago:20281228T110000
DTSTAMP:20260424T025834
CREATED:20260407T222431Z
LAST-MODIFIED:20260407T230454Z
UID:10002064-1861610400-1861614000@www.111project.org
SUMMARY:Southeast OK County Community Gathering
DESCRIPTION:Location: Cornerstone Church  \n\n\n\n9900 SE 15th St\, Midwest City\, OK 73130 \n\n\n\nJoin us for a regional collaboration of church and agency leaders connected through CarePortal with the mission of serving kids and families in our community! Community Gatherings are table conversations where we discuss open opportunities to serve\, ideas for deeper engagement\, and helpful connections and resourcing among friends. We would love to see you or a representative from your church there\, so please RSVP!
URL:https://www.111project.org/activities/southeast-ok-county-community-gathering-2/2028-12-28/
CATEGORIES:Community Gatherings
END:VEVENT
BEGIN:VEVENT
DTSTART;TZID=America/Chicago:20290222T100000
DTEND;TZID=America/Chicago:20290222T110000
DTSTAMP:20260424T025834
CREATED:20260407T222431Z
LAST-MODIFIED:20260407T230454Z
UID:10002065-1866448800-1866452400@www.111project.org
SUMMARY:Southeast OK County Community Gathering
DESCRIPTION:Location: Cornerstone Church  \n\n\n\n9900 SE 15th St\, Midwest City\, OK 73130 \n\n\n\nJoin us for a regional collaboration of church and agency leaders connected through CarePortal with the mission of serving kids and families in our community! Community Gatherings are table conversations where we discuss open opportunities to serve\, ideas for deeper engagement\, and helpful connections and resourcing among friends. We would love to see you or a representative from your church there\, so please RSVP!
URL:https://www.111project.org/activities/southeast-ok-county-community-gathering-2/2029-02-22/
CATEGORIES:Community Gatherings
END:VEVENT
BEGIN:VEVENT
DTSTART;TZID=America/Chicago:20290426T100000
DTEND;TZID=America/Chicago:20290426T110000
DTSTAMP:20260424T025834
CREATED:20260407T222431Z
LAST-MODIFIED:20260407T230454Z
UID:10002066-1871892000-1871895600@www.111project.org
SUMMARY:Southeast OK County Community Gathering
DESCRIPTION:Location: Cornerstone Church  \n\n\n\n9900 SE 15th St\, Midwest City\, OK 73130 \n\n\n\nJoin us for a regional collaboration of church and agency leaders connected through CarePortal with the mission of serving kids and families in our community! Community Gatherings are table conversations where we discuss open opportunities to serve\, ideas for deeper engagement\, and helpful connections and resourcing among friends. We would love to see you or a representative from your church there\, so please RSVP!
URL:https://www.111project.org/activities/southeast-ok-county-community-gathering-2/2029-04-26/
CATEGORIES:Community Gatherings
END:VEVENT
BEGIN:VEVENT
DTSTART;TZID=America/Chicago:20290628T100000
DTEND;TZID=America/Chicago:20290628T110000
DTSTAMP:20260424T025834
CREATED:20260407T222431Z
LAST-MODIFIED:20260407T230454Z
UID:10002067-1877335200-1877338800@www.111project.org
SUMMARY:Southeast OK County Community Gathering
DESCRIPTION:Location: Cornerstone Church  \n\n\n\n9900 SE 15th St\, Midwest City\, OK 73130 \n\n\n\nJoin us for a regional collaboration of church and agency leaders connected through CarePortal with the mission of serving kids and families in our community! Community Gatherings are table conversations where we discuss open opportunities to serve\, ideas for deeper engagement\, and helpful connections and resourcing among friends. We would love to see you or a representative from your church there\, so please RSVP!
URL:https://www.111project.org/activities/southeast-ok-county-community-gathering-2/2029-06-28/
CATEGORIES:Community Gatherings
END:VEVENT
BEGIN:VEVENT
DTSTART;TZID=America/Chicago:20290823T100000
DTEND;TZID=America/Chicago:20290823T110000
DTSTAMP:20260424T025834
CREATED:20260407T222431Z
LAST-MODIFIED:20260407T230454Z
UID:10002068-1882173600-1882177200@www.111project.org
SUMMARY:Southeast OK County Community Gathering
DESCRIPTION:Location: Cornerstone Church  \n\n\n\n9900 SE 15th St\, Midwest City\, OK 73130 \n\n\n\nJoin us for a regional collaboration of church and agency leaders connected through CarePortal with the mission of serving kids and families in our community! Community Gatherings are table conversations where we discuss open opportunities to serve\, ideas for deeper engagement\, and helpful connections and resourcing among friends. We would love to see you or a representative from your church there\, so please RSVP!
URL:https://www.111project.org/activities/southeast-ok-county-community-gathering-2/2029-08-23/
CATEGORIES:Community Gatherings
END:VEVENT
BEGIN:VEVENT
DTSTART;TZID=America/Chicago:20291025T100000
DTEND;TZID=America/Chicago:20291025T110000
DTSTAMP:20260424T025834
CREATED:20260407T222431Z
LAST-MODIFIED:20260407T230454Z
UID:10002069-1887616800-1887620400@www.111project.org
SUMMARY:Southeast OK County Community Gathering
DESCRIPTION:Location: Cornerstone Church  \n\n\n\n9900 SE 15th St\, Midwest City\, OK 73130 \n\n\n\nJoin us for a regional collaboration of church and agency leaders connected through CarePortal with the mission of serving kids and families in our community! Community Gatherings are table conversations where we discuss open opportunities to serve\, ideas for deeper engagement\, and helpful connections and resourcing among friends. We would love to see you or a representative from your church there\, so please RSVP!
URL:https://www.111project.org/activities/southeast-ok-county-community-gathering-2/2029-10-25/
CATEGORIES:Community Gatherings
END:VEVENT
BEGIN:VEVENT
DTSTART;TZID=America/Chicago:20291227T100000
DTEND;TZID=America/Chicago:20291227T110000
DTSTAMP:20260424T025834
CREATED:20260407T222431Z
LAST-MODIFIED:20260407T230454Z
UID:10002070-1893060000-1893063600@www.111project.org
SUMMARY:Southeast OK County Community Gathering
DESCRIPTION:Location: Cornerstone Church  \n\n\n\n9900 SE 15th St\, Midwest City\, OK 73130 \n\n\n\nJoin us for a regional collaboration of church and agency leaders connected through CarePortal with the mission of serving kids and families in our community! Community Gatherings are table conversations where we discuss open opportunities to serve\, ideas for deeper engagement\, and helpful connections and resourcing among friends. We would love to see you or a representative from your church there\, so please RSVP!
URL:https://www.111project.org/activities/southeast-ok-county-community-gathering-2/2029-12-27/
CATEGORIES:Community Gatherings
END:VEVENT
BEGIN:VEVENT
DTSTART;TZID=America/Chicago:20300228T100000
DTEND;TZID=America/Chicago:20300228T110000
DTSTAMP:20260424T025834
CREATED:20260407T222431Z
LAST-MODIFIED:20260407T230454Z
UID:10002071-1898503200-1898506800@www.111project.org
SUMMARY:Southeast OK County Community Gathering
DESCRIPTION:Location: Cornerstone Church  \n\n\n\n9900 SE 15th St\, Midwest City\, OK 73130 \n\n\n\nJoin us for a regional collaboration of church and agency leaders connected through CarePortal with the mission of serving kids and families in our community! Community Gatherings are table conversations where we discuss open opportunities to serve\, ideas for deeper engagement\, and helpful connections and resourcing among friends. We would love to see you or a representative from your church there\, so please RSVP!
URL:https://www.111project.org/activities/southeast-ok-county-community-gathering-2/2030-02-28/
CATEGORIES:Community Gatherings
END:VEVENT
BEGIN:VEVENT
DTSTART;TZID=America/Chicago:20300425T100000
DTEND;TZID=America/Chicago:20300425T110000
DTSTAMP:20260424T025834
CREATED:20260407T222431Z
LAST-MODIFIED:20260407T230454Z
UID:10002072-1903341600-1903345200@www.111project.org
SUMMARY:Southeast OK County Community Gathering
DESCRIPTION:Location: Cornerstone Church  \n\n\n\n9900 SE 15th St\, Midwest City\, OK 73130 \n\n\n\nJoin us for a regional collaboration of church and agency leaders connected through CarePortal with the mission of serving kids and families in our community! Community Gatherings are table conversations where we discuss open opportunities to serve\, ideas for deeper engagement\, and helpful connections and resourcing among friends. We would love to see you or a representative from your church there\, so please RSVP!
URL:https://www.111project.org/activities/southeast-ok-county-community-gathering-2/2030-04-25/
CATEGORIES:Community Gatherings
END:VEVENT
BEGIN:VEVENT
DTSTART;TZID=America/Chicago:20300627T100000
DTEND;TZID=America/Chicago:20300627T110000
DTSTAMP:20260424T025834
CREATED:20260407T222431Z
LAST-MODIFIED:20260407T230454Z
UID:10002073-1908784800-1908788400@www.111project.org
SUMMARY:Southeast OK County Community Gathering
DESCRIPTION:Location: Cornerstone Church  \n\n\n\n9900 SE 15th St\, Midwest City\, OK 73130 \n\n\n\nJoin us for a regional collaboration of church and agency leaders connected through CarePortal with the mission of serving kids and families in our community! Community Gatherings are table conversations where we discuss open opportunities to serve\, ideas for deeper engagement\, and helpful connections and resourcing among friends. We would love to see you or a representative from your church there\, so please RSVP!
URL:https://www.111project.org/activities/southeast-ok-county-community-gathering-2/2030-06-27/
CATEGORIES:Community Gatherings
END:VEVENT
BEGIN:VEVENT
DTSTART;TZID=America/Chicago:20300822T100000
DTEND;TZID=America/Chicago:20300822T110000
DTSTAMP:20260424T025834
CREATED:20260407T222431Z
LAST-MODIFIED:20260407T230454Z
UID:10002074-1913623200-1913626800@www.111project.org
SUMMARY:Southeast OK County Community Gathering
DESCRIPTION:Location: Cornerstone Church  \n\n\n\n9900 SE 15th St\, Midwest City\, OK 73130 \n\n\n\nJoin us for a regional collaboration of church and agency leaders connected through CarePortal with the mission of serving kids and families in our community! Community Gatherings are table conversations where we discuss open opportunities to serve\, ideas for deeper engagement\, and helpful connections and resourcing among friends. We would love to see you or a representative from your church there\, so please RSVP!
URL:https://www.111project.org/activities/southeast-ok-county-community-gathering-2/2030-08-22/
CATEGORIES:Community Gatherings
END:VEVENT
BEGIN:VEVENT
DTSTART;TZID=America/Chicago:20301024T100000
DTEND;TZID=America/Chicago:20301024T110000
DTSTAMP:20260424T025834
CREATED:20260407T222431Z
LAST-MODIFIED:20260407T230454Z
UID:10002075-1919066400-1919070000@www.111project.org
SUMMARY:Southeast OK County Community Gathering
DESCRIPTION:Location: Cornerstone Church  \n\n\n\n9900 SE 15th St\, Midwest City\, OK 73130 \n\n\n\nJoin us for a regional collaboration of church and agency leaders connected through CarePortal with the mission of serving kids and families in our community! Community Gatherings are table conversations where we discuss open opportunities to serve\, ideas for deeper engagement\, and helpful connections and resourcing among friends. We would love to see you or a representative from your church there\, so please RSVP!
URL:https://www.111project.org/activities/southeast-ok-county-community-gathering-2/2030-10-24/
CATEGORIES:Community Gatherings
END:VEVENT
BEGIN:VEVENT
DTSTART;TZID=America/Chicago:20301226T100000
DTEND;TZID=America/Chicago:20301226T110000
DTSTAMP:20260424T025834
CREATED:20260407T222431Z
LAST-MODIFIED:20260407T230454Z
UID:10002076-1924509600-1924513200@www.111project.org
SUMMARY:Southeast OK County Community Gathering
DESCRIPTION:Location: Cornerstone Church  \n\n\n\n9900 SE 15th St\, Midwest City\, OK 73130 \n\n\n\nJoin us for a regional collaboration of church and agency leaders connected through CarePortal with the mission of serving kids and families in our community! Community Gatherings are table conversations where we discuss open opportunities to serve\, ideas for deeper engagement\, and helpful connections and resourcing among friends. We would love to see you or a representative from your church there\, so please RSVP!
URL:https://www.111project.org/activities/southeast-ok-county-community-gathering-2/2030-12-26/
CATEGORIES:Community Gatherings
END:VEVENT
BEGIN:VEVENT
DTSTART;TZID=America/Chicago:20310227T100000
DTEND;TZID=America/Chicago:20310227T110000
DTSTAMP:20260424T025834
CREATED:20260407T222431Z
LAST-MODIFIED:20260407T230454Z
UID:10002077-1929952800-1929956400@www.111project.org
SUMMARY:Southeast OK County Community Gathering
DESCRIPTION:Location: Cornerstone Church  \n\n\n\n9900 SE 15th St\, Midwest City\, OK 73130 \n\n\n\nJoin us for a regional collaboration of church and agency leaders connected through CarePortal with the mission of serving kids and families in our community! Community Gatherings are table conversations where we discuss open opportunities to serve\, ideas for deeper engagement\, and helpful connections and resourcing among friends. We would love to see you or a representative from your church there\, so please RSVP!
URL:https://www.111project.org/activities/southeast-ok-county-community-gathering-2/2031-02-27/
CATEGORIES:Community Gatherings
END:VEVENT
END:VCALENDAR