BEGIN:VCALENDAR
VERSION:2.0
PRODID:-//111Project.org - ECPv6.15.18//NONSGML v1.0//EN
CALSCALE:GREGORIAN
METHOD:PUBLISH
X-ORIGINAL-URL:https://www.111project.org
X-WR-CALDESC:Events for 111Project.org
REFRESH-INTERVAL;VALUE=DURATION:PT1H
X-Robots-Tag:noindex
X-PUBLISHED-TTL:PT1H
BEGIN:VTIMEZONE
TZID:America/Chicago
BEGIN:DAYLIGHT
TZOFFSETFROM:-0600
TZOFFSETTO:-0500
TZNAME:CDT
DTSTART:20250309T080000
END:DAYLIGHT
BEGIN:STANDARD
TZOFFSETFROM:-0500
TZOFFSETTO:-0600
TZNAME:CST
DTSTART:20251102T070000
END:STANDARD
BEGIN:DAYLIGHT
TZOFFSETFROM:-0600
TZOFFSETTO:-0500
TZNAME:CDT
DTSTART:20260308T080000
END:DAYLIGHT
BEGIN:STANDARD
TZOFFSETFROM:-0500
TZOFFSETTO:-0600
TZNAME:CST
DTSTART:20261101T070000
END:STANDARD
BEGIN:DAYLIGHT
TZOFFSETFROM:-0600
TZOFFSETTO:-0500
TZNAME:CDT
DTSTART:20270314T080000
END:DAYLIGHT
BEGIN:STANDARD
TZOFFSETFROM:-0500
TZOFFSETTO:-0600
TZNAME:CST
DTSTART:20271107T070000
END:STANDARD
END:VTIMEZONE
BEGIN:VEVENT
DTSTART;TZID=America/Chicago:20260806T090000
DTEND;TZID=America/Chicago:20260806T101500
DTSTAMP:20260424T113731
CREATED:20260106T212848Z
LAST-MODIFIED:20260106T212851Z
UID:10001576-1786006800-1786011300@www.111project.org
SUMMARY:Sequoyah County Community Gathering
DESCRIPTION:What is a Community Gathering? \n\n\n\nIn the simplest terms\, this is where you get to hear about what is happening in your community at a very local level and how you can be involved.  \n\n\n\nThese are regular meetings of church and agency leaders\, as well as community members\, who collaborate to support and advocate for children and families\, particularly through the CarePortal. \n\n\n\nThese gatherings provide a platform for sharing stories (both the good and the challenging)\, discussing local needs\, collaborating on resources\, developing strategies for family support\, and planning future actions for vulnerable children and families within each specific geographic community.
URL:https://www.111project.org/activities/sequoyah-county-community-gathering-7/
LOCATION:OKDHS OFFICE: 502 George Glenn Blvd\, Sallisaw\, OK 74955
CATEGORIES:Community Gatherings
ATTACH;FMTTYPE=image/png:https://www.111project.org/wp-content/uploads/2026/01/Sequoyah.png
END:VEVENT
BEGIN:VEVENT
DTSTART;TZID=America/Chicago:20260806T140000
DTEND;TZID=America/Chicago:20260806T151500
DTSTAMP:20260424T113731
CREATED:20260106T213601Z
LAST-MODIFIED:20260106T213604Z
UID:10001582-1786024800-1786029300@www.111project.org
SUMMARY:Muskogee Community Gathering
DESCRIPTION:What is a Community Gathering? \n\n\n\nIn the simplest terms\, this is where you get to hear about what is happening in your community at a very local level and how you can be involved.  \n\n\n\nThese are regular meetings of church and agency leaders\, as well as community members\, who collaborate to support and advocate for children and families\, particularly through the CarePortal. \n\n\n\nThese gatherings provide a platform for sharing stories (both the good and the challenging)\, discussing local needs\, collaborating on resources\, developing strategies for family support\, and planning future actions for vulnerable children and families within each specific geographic community.
URL:https://www.111project.org/activities/muskogee-community-gathering-7/
LOCATION:Queen City Coffee: 109 N Main St. Muskogee\, OK 74401\, 109 N Main St.\, Muskogee\, Oklahoma\, 74401\, United States
CATEGORIES:Community Gatherings
ATTACH;FMTTYPE=image/png:https://www.111project.org/wp-content/uploads/2026/01/Muskogee.png
END:VEVENT
BEGIN:VEVENT
DTSTART;TZID=America/Chicago:20260806T180000
DTEND;TZID=America/Chicago:20260806T191500
DTSTAMP:20260424T113731
CREATED:20260106T215221Z
LAST-MODIFIED:20260107T182343Z
UID:10001593-1786039200-1786043700@www.111project.org
SUMMARY:Haskell County Community Gathering
DESCRIPTION:What is a Community Gathering? \n\n\n\nIn the simplest terms\, this is where you get to hear about what is happening in your community at a very local level and how you can be involved.  \n\n\n\nThese are regular meetings of church and agency leaders\, as well as community members\, who collaborate to support and advocate for children and families\, particularly through the CarePortal. \n\n\n\nThese gatherings provide a platform for sharing stories (both the good and the challenging)\, discussing local needs\, collaborating on resources\, developing strategies for family support\, and planning future actions for vulnerable children and families within each specific geographic community.
URL:https://www.111project.org/activities/haskell-county-community-gathering-7/
LOCATION:Taqueria El Amigo: 412 E Main St. Stigler\, OK 74462\, 412 E Main St.\, Stigler\, Oklahoma\, 74462\, United States
CATEGORIES:Community Gatherings
ATTACH;FMTTYPE=image/png:https://www.111project.org/wp-content/uploads/2026/01/Haskell.png
END:VEVENT
BEGIN:VEVENT
DTSTART;TZID=America/Chicago:20260807T100000
DTEND;TZID=America/Chicago:20260807T110000
DTSTAMP:20260424T113731
CREATED:20260107T143008Z
LAST-MODIFIED:20260107T143012Z
UID:10001697-1786096800-1786100400@www.111project.org
SUMMARY:Ask Me Anything: Mid-Morning Edition
DESCRIPTION:Have questions about how you\, your church\, business\, civic group or friends can get engaged with helping children in your community and across the state? Need help navigating the CarePortal Platform? Are you looking for a local resource to help a family you know? This is a “come and go” online time\, so hop on anytime during this time and Ask Me!
URL:https://www.111project.org/activities/ask-me-anything-mid-morning-edition-8/
CATEGORIES:Information Meetings
ATTACH;FMTTYPE=image/png:https://www.111project.org/wp-content/uploads/2026/01/15.png
END:VEVENT
BEGIN:VEVENT
DTSTART;TZID=America/Chicago:20260813T090000
DTEND;TZID=America/Chicago:20260813T101500
DTSTAMP:20260424T113731
CREATED:20260107T143618Z
LAST-MODIFIED:20260107T143701Z
UID:10001706-1786611600-1786616100@www.111project.org
SUMMARY:Sand Springs / Keystone Area Community Gathering
DESCRIPTION:What is a Community Gathering? \n\n\n\nIn the simplest terms\, this is where you get to hear about what is happening in your community at a very local level and how you can be involved.  \n\n\n\nThese are regular meetings of church and agency leaders\, as well as community members\, who collaborate to support and advocate for children and families\, particularly through the CarePortal. \n\n\n\nThese gatherings provide a platform for sharing stories (both the good and the challenging)\, discussing local needs\, collaborating on resources\, developing strategies for family support\, and planning future actions for vulnerable children and families within each specific geographic community.
URL:https://www.111project.org/activities/sand-springs-keystone-area-community-gathering-7/
CATEGORIES:Community Gatherings
ATTACH;FMTTYPE=image/png:https://www.111project.org/wp-content/uploads/2026/01/Sand-Springs-Area.png
END:VEVENT
BEGIN:VEVENT
DTSTART;TZID=America/Chicago:20260813T120000
DTEND;TZID=America/Chicago:20260813T131500
DTSTAMP:20260424T113731
CREATED:20260107T144353Z
LAST-MODIFIED:20260107T144357Z
UID:10001718-1786622400-1786626900@www.111project.org
SUMMARY:Okfuskee County Community Gathering
DESCRIPTION:What is a Community Gathering? \n\n\n\nIn the simplest terms\, this is where you get to hear about what is happening in your community at a very local level and how you can be involved.  \n\n\n\nThese are regular meetings of church and agency leaders\, as well as community members\, who collaborate to support and advocate for children and families\, particularly through the CarePortal. \n\n\n\nThese gatherings provide a platform for sharing stories (both the good and the challenging)\, discussing local needs\, collaborating on resources\, developing strategies for family support\, and planning future actions for vulnerable children and families within each specific geographic community.
URL:https://www.111project.org/activities/okfuskee-county-community-gathering-16/
CATEGORIES:Community Gatherings
ATTACH;FMTTYPE=image/png:https://www.111project.org/wp-content/uploads/2026/01/Okfuskee.png
END:VEVENT
BEGIN:VEVENT
DTSTART;TZID=America/Chicago:20260813T180000
DTEND;TZID=America/Chicago:20260813T191500
DTSTAMP:20260424T113731
CREATED:20260107T153140Z
LAST-MODIFIED:20260107T153215Z
UID:10001770-1786644000-1786648500@www.111project.org
SUMMARY:McIntosh County Community Gathering
DESCRIPTION:What is a Community Gathering? \n\n\n\nIn the simplest terms\, this is where you get to hear about what is happening in your community at a very local level and how you can be involved.  \n\n\n\nThese are regular meetings of church and agency leaders\, as well as community members\, who collaborate to support and advocate for children and families\, particularly through the CarePortal. \n\n\n\nThese gatherings provide a platform for sharing stories (both the good and the challenging)\, discussing local needs\, collaborating on resources\, developing strategies for family support\, and planning future actions for vulnerable children and families within each specific geographic community.
URL:https://www.111project.org/activities/mcintosh-county-community-gathering-7/
LOCATION:212 S Broadway St. Checotah\, OK
CATEGORIES:Community Gatherings
ATTACH;FMTTYPE=image/png:https://www.111project.org/wp-content/uploads/2026/01/McIntosh.png
END:VEVENT
BEGIN:VEVENT
DTSTART;TZID=America/Chicago:20260818T090000
DTEND;TZID=America/Chicago:20260818T101500
DTSTAMP:20260424T113731
CREATED:20260107T151032Z
LAST-MODIFIED:20260107T151104Z
UID:10001744-1787043600-1787048100@www.111project.org
SUMMARY:Adair County Community Gathering
DESCRIPTION:What is a Community Gathering? \n\n\n\nIn the simplest terms\, this is where you get to hear about what is happening in your community at a very local level and how you can be involved.  \n\n\n\nThese are regular meetings of church and agency leaders\, as well as community members\, who collaborate to support and advocate for children and families\, particularly through the CarePortal. \n\n\n\nThese gatherings provide a platform for sharing stories (both the good and the challenging)\, discussing local needs\, collaborating on resources\, developing strategies for family support\, and planning future actions for vulnerable children and families within each specific geographic community.
URL:https://www.111project.org/activities/adair-county-community-gathering-7/
LOCATION:801 S. Hickory St. Stilwell\, OK 74960\, 801 S. Hickory St.\, Stilwell\, Oklahoma\, 74960
CATEGORIES:Community Gatherings
ATTACH;FMTTYPE=image/png:https://www.111project.org/wp-content/uploads/2026/01/Adair.png
END:VEVENT
BEGIN:VEVENT
DTSTART;TZID=America/Chicago:20260818T120000
DTEND;TZID=America/Chicago:20260818T131500
DTSTAMP:20260424T113731
CREATED:20260107T151922Z
LAST-MODIFIED:20260107T151955Z
UID:10001752-1787054400-1787058900@www.111project.org
SUMMARY:Cherokee County Community Gathering
DESCRIPTION:What is a Community Gathering? \n\n\n\nIn the simplest terms\, this is where you get to hear about what is happening in your community at a very local level and how you can be involved.  \n\n\n\nThese are regular meetings of church and agency leaders\, as well as community members\, who collaborate to support and advocate for children and families\, particularly through the CarePortal. \n\n\n\nThese gatherings provide a platform for sharing stories (both the good and the challenging)\, discussing local needs\, collaborating on resources\, developing strategies for family support\, and planning future actions for vulnerable children and families within each specific geographic community.
URL:https://www.111project.org/activities/cherokee-county-community-gathering-7/
LOCATION:3229 S Muskogee Ave. Tahlequah\, OK 744464\, 3229 S Muskogee Ave.\, Tahlequah\,\, Oklahoma\, 74464
CATEGORIES:Community Gatherings
ATTACH;FMTTYPE=image/png:https://www.111project.org/wp-content/uploads/2026/01/Cherokee.png
END:VEVENT
BEGIN:VEVENT
DTSTART;TZID=America/Chicago:20260825T090000
DTEND;TZID=America/Chicago:20260825T101500
DTSTAMP:20260424T113731
CREATED:20260107T163217Z
LAST-MODIFIED:20260107T163300Z
UID:10001818-1787648400-1787652900@www.111project.org
SUMMARY:Lincoln County Community Gathering
DESCRIPTION:What is a Community Gathering? \n\n\n\nIn the simplest terms\, this is where you get to hear about what is happening in your community at a very local level and how you can be involved.  \n\n\n\nThese are regular meetings of church and agency leaders\, as well as community members\, who collaborate to support and advocate for children and families\, particularly through the CarePortal. \n\n\n\nThese gatherings provide a platform for sharing stories (both the good and the challenging)\, discussing local needs\, collaborating on resources\, developing strategies for family support\, and planning future actions for vulnerable children and families within each specific geographic community.
URL:https://www.111project.org/activities/lincoln-county-community-gathering-7/
LOCATION:2020 E 1st Street\, Chandler\, OK 74834\, 2020 E 1st St.\, Chandler\, Oklahoma\, 74834
CATEGORIES:Community Gatherings
ATTACH;FMTTYPE=image/png:https://www.111project.org/wp-content/uploads/2026/01/Lincoln-1.png
END:VEVENT
END:VCALENDAR