BEGIN:VCALENDAR
VERSION:2.0
PRODID:-//111Project.org - ECPv6.15.18//NONSGML v1.0//EN
CALSCALE:GREGORIAN
METHOD:PUBLISH
X-WR-CALNAME:111Project.org
X-ORIGINAL-URL:https://www.111project.org
X-WR-CALDESC:Events for 111Project.org
REFRESH-INTERVAL;VALUE=DURATION:PT1H
X-Robots-Tag:noindex
X-PUBLISHED-TTL:PT1H
BEGIN:VTIMEZONE
TZID:America/Chicago
BEGIN:DAYLIGHT
TZOFFSETFROM:-0600
TZOFFSETTO:-0500
TZNAME:CDT
DTSTART:20250309T080000
END:DAYLIGHT
BEGIN:STANDARD
TZOFFSETFROM:-0500
TZOFFSETTO:-0600
TZNAME:CST
DTSTART:20251102T070000
END:STANDARD
BEGIN:DAYLIGHT
TZOFFSETFROM:-0600
TZOFFSETTO:-0500
TZNAME:CDT
DTSTART:20260308T080000
END:DAYLIGHT
BEGIN:STANDARD
TZOFFSETFROM:-0500
TZOFFSETTO:-0600
TZNAME:CST
DTSTART:20261101T070000
END:STANDARD
BEGIN:DAYLIGHT
TZOFFSETFROM:-0600
TZOFFSETTO:-0500
TZNAME:CDT
DTSTART:20270314T080000
END:DAYLIGHT
BEGIN:STANDARD
TZOFFSETFROM:-0500
TZOFFSETTO:-0600
TZNAME:CST
DTSTART:20271107T070000
END:STANDARD
END:VTIMEZONE
BEGIN:VEVENT
DTSTART;TZID=America/Chicago:20260903T090000
DTEND;TZID=America/Chicago:20260903T101500
DTSTAMP:20260424T132354
CREATED:20260106T212932Z
LAST-MODIFIED:20260106T212934Z
UID:10001577-1788426000-1788430500@www.111project.org
SUMMARY:Sequoyah County Community Gathering
DESCRIPTION:What is a Community Gathering? \n\n\n\nIn the simplest terms\, this is where you get to hear about what is happening in your community at a very local level and how you can be involved.  \n\n\n\nThese are regular meetings of church and agency leaders\, as well as community members\, who collaborate to support and advocate for children and families\, particularly through the CarePortal. \n\n\n\nThese gatherings provide a platform for sharing stories (both the good and the challenging)\, discussing local needs\, collaborating on resources\, developing strategies for family support\, and planning future actions for vulnerable children and families within each specific geographic community.
URL:https://www.111project.org/activities/sequoyah-county-community-gathering-8/
LOCATION:OKDHS OFFICE: 502 George Glenn Blvd\, Sallisaw\, OK 74955
CATEGORIES:Community Gatherings
ATTACH;FMTTYPE=image/png:https://www.111project.org/wp-content/uploads/2026/01/Sequoyah.png
END:VEVENT
BEGIN:VEVENT
DTSTART;TZID=America/Chicago:20260903T180000
DTEND;TZID=America/Chicago:20260903T191500
DTSTAMP:20260424T132355
CREATED:20260106T215250Z
LAST-MODIFIED:20260107T181912Z
UID:10001591-1788458400-1788462900@www.111project.org
SUMMARY:Haskell County Community Gathering
DESCRIPTION:What is a Community Gathering? \n\n\n\nIn the simplest terms\, this is where you get to hear about what is happening in your community at a very local level and how you can be involved.  \n\n\n\nThese are regular meetings of church and agency leaders\, as well as community members\, who collaborate to support and advocate for children and families\, particularly through the CarePortal. \n\n\n\nThese gatherings provide a platform for sharing stories (both the good and the challenging)\, discussing local needs\, collaborating on resources\, developing strategies for family support\, and planning future actions for vulnerable children and families within each specific geographic community.
URL:https://www.111project.org/activities/haskell-county-community-gathering-13/
LOCATION:Taqueria El Amigo: 412 E Main St. Stigler\, OK 74462\, 412 E Main St.\, Stigler\, Oklahoma\, 74462\, United States
CATEGORIES:Community Gatherings
ATTACH;FMTTYPE=image/png:https://www.111project.org/wp-content/uploads/2026/01/Haskell.png
END:VEVENT
BEGIN:VEVENT
DTSTART;TZID=America/Chicago:20260910T090000
DTEND;TZID=America/Chicago:20260910T101500
DTSTAMP:20260424T132355
CREATED:20260107T143620Z
LAST-MODIFIED:20260107T143707Z
UID:10001707-1789030800-1789035300@www.111project.org
SUMMARY:Sand Springs / Keystone Area Community Gathering
DESCRIPTION:What is a Community Gathering? \n\n\n\nIn the simplest terms\, this is where you get to hear about what is happening in your community at a very local level and how you can be involved.  \n\n\n\nThese are regular meetings of church and agency leaders\, as well as community members\, who collaborate to support and advocate for children and families\, particularly through the CarePortal. \n\n\n\nThese gatherings provide a platform for sharing stories (both the good and the challenging)\, discussing local needs\, collaborating on resources\, developing strategies for family support\, and planning future actions for vulnerable children and families within each specific geographic community.
URL:https://www.111project.org/activities/sand-springs-keystone-area-community-gathering-8/
CATEGORIES:Community Gatherings
ATTACH;FMTTYPE=image/png:https://www.111project.org/wp-content/uploads/2026/01/Sand-Springs-Area.png
END:VEVENT
BEGIN:VEVENT
DTSTART;TZID=America/Chicago:20260910T180000
DTEND;TZID=America/Chicago:20260910T191500
DTSTAMP:20260424T132355
CREATED:20260107T153154Z
LAST-MODIFIED:20260107T153224Z
UID:10001771-1789063200-1789067700@www.111project.org
SUMMARY:McIntosh County Community Gathering
DESCRIPTION:What is a Community Gathering? \n\n\n\nIn the simplest terms\, this is where you get to hear about what is happening in your community at a very local level and how you can be involved.  \n\n\n\nThese are regular meetings of church and agency leaders\, as well as community members\, who collaborate to support and advocate for children and families\, particularly through the CarePortal. \n\n\n\nThese gatherings provide a platform for sharing stories (both the good and the challenging)\, discussing local needs\, collaborating on resources\, developing strategies for family support\, and planning future actions for vulnerable children and families within each specific geographic community.
URL:https://www.111project.org/activities/mcintosh-county-community-gathering-13/
LOCATION:212 S Broadway St. Checotah\, OK
CATEGORIES:Community Gatherings
ATTACH;FMTTYPE=image/png:https://www.111project.org/wp-content/uploads/2026/01/McIntosh.png
END:VEVENT
BEGIN:VEVENT
DTSTART;TZID=America/Chicago:20260922T120000
DTEND;TZID=America/Chicago:20260922T131500
DTSTAMP:20260424T132355
CREATED:20260107T163634Z
LAST-MODIFIED:20260107T163813Z
UID:10001828-1790078400-1790082900@www.111project.org
SUMMARY:Okmulgee County Community Gathering
DESCRIPTION:What is a Community Gathering? \n\n\n\nIn the simplest terms\, this is where you get to hear about what is happening in your community at a very local level and how you can be involved.  \n\n\n\nThese are regular meetings of church and agency leaders\, as well as community members\, who collaborate to support and advocate for children and families\, particularly through the CarePortal. \n\n\n\nThese gatherings provide a platform for sharing stories (both the good and the challenging)\, discussing local needs\, collaborating on resources\, developing strategies for family support\, and planning future actions for vulnerable children and families within each specific geographic community.
URL:https://www.111project.org/activities/okmulgee-county-community-gathering-7/
LOCATION:3499 N. Wood Dr. Okmulgee\, OK 74447\, 3499 N Wood Dr\, Okmulgee\, Oklahoma\, 74447
CATEGORIES:Community Gatherings
ATTACH;FMTTYPE=image/png:https://www.111project.org/wp-content/uploads/2026/01/Okmulgee-1.png
END:VEVENT
BEGIN:VEVENT
DTSTART;TZID=America/Chicago:20260922T180000
DTEND;TZID=America/Chicago:20260922T191500
DTSTAMP:20260424T132355
CREATED:20260107T164456Z
LAST-MODIFIED:20260107T164502Z
UID:10001836-1790100000-1790104500@www.111project.org
SUMMARY:Creek County Community Gathering
DESCRIPTION:What is a Community Gathering? \n\n\n\nIn the simplest terms\, this is where you get to hear about what is happening in your community at a very local level and how you can be involved.  \n\n\n\nThese are regular meetings of church and agency leaders\, as well as community members\, who collaborate to support and advocate for children and families\, particularly through the CarePortal. \n\n\n\nThese gatherings provide a platform for sharing stories (both the good and the challenging)\, discussing local needs\, collaborating on resources\, developing strategies for family support\, and planning future actions for vulnerable children and families within each specific geographic community.
URL:https://www.111project.org/activities/creek-county-community-gathering-8/
LOCATION:801 E Dewey Ave. Sapulpa\, OK 74066\, 801 E Dewey Ave\, Oklahoma\, 74066
CATEGORIES:Community Gatherings
ATTACH;FMTTYPE=image/png:https://www.111project.org/wp-content/uploads/2026/01/Creek-1.png
END:VEVENT
END:VCALENDAR