BEGIN:VCALENDAR
VERSION:2.0
PRODID:-//111Project.org - ECPv6.15.18//NONSGML v1.0//EN
CALSCALE:GREGORIAN
METHOD:PUBLISH
X-ORIGINAL-URL:https://www.111project.org
X-WR-CALDESC:Events for 111Project.org
REFRESH-INTERVAL;VALUE=DURATION:PT1H
X-Robots-Tag:noindex
X-PUBLISHED-TTL:PT1H
BEGIN:VTIMEZONE
TZID:America/Chicago
BEGIN:DAYLIGHT
TZOFFSETFROM:-0600
TZOFFSETTO:-0500
TZNAME:CDT
DTSTART:20250309T080000
END:DAYLIGHT
BEGIN:STANDARD
TZOFFSETFROM:-0500
TZOFFSETTO:-0600
TZNAME:CST
DTSTART:20251102T070000
END:STANDARD
BEGIN:DAYLIGHT
TZOFFSETFROM:-0600
TZOFFSETTO:-0500
TZNAME:CDT
DTSTART:20260308T080000
END:DAYLIGHT
BEGIN:STANDARD
TZOFFSETFROM:-0500
TZOFFSETTO:-0600
TZNAME:CST
DTSTART:20261101T070000
END:STANDARD
BEGIN:DAYLIGHT
TZOFFSETFROM:-0600
TZOFFSETTO:-0500
TZNAME:CDT
DTSTART:20270314T080000
END:DAYLIGHT
BEGIN:STANDARD
TZOFFSETFROM:-0500
TZOFFSETTO:-0600
TZNAME:CST
DTSTART:20271107T070000
END:STANDARD
END:VTIMEZONE
BEGIN:VEVENT
DTSTART;TZID=America/Chicago:20260527T100000
DTEND;TZID=America/Chicago:20260527T113000
DTSTAMP:20260424T054734
CREATED:20260107T030813Z
LAST-MODIFIED:20260107T030816Z
UID:10001662-1779876000-1779881400@www.111project.org
SUMMARY:Canadian County Virtual Community Gathering
DESCRIPTION:Register Here!\n\n\n\n\n\n\n\n\n\nJoin us for a collaboration of church and agency leaders in Canadian County connected through CarePortal with the mission of serving kids and families in our community! Community Gatherings are table conversations where we discuss open opportunities to serve\, ideas for deeper engagement and helpful connections and resourcing among friends.
URL:https://www.111project.org/activities/canadian-county-virtual-community-gathering-2/2026-05-27/
CATEGORIES:Community Gatherings
ATTACH;FMTTYPE=image/png:https://www.111project.org/wp-content/uploads/2026/01/Canadian.png
ORGANIZER;CN="111Project":MAILTO:info@111project.org
END:VEVENT
BEGIN:VEVENT
DTSTART;TZID=America/Chicago:20260527T120000
DTEND;TZID=America/Chicago:20260527T130000
DTSTAMP:20260424T054734
CREATED:20260225T160716Z
LAST-MODIFIED:20260225T160751Z
UID:10001537-1779883200-1779886800@www.111project.org
SUMMARY:Atoka & Coal Counties Community Gathering
DESCRIPTION:Register Here!\n\n\n\n\n\n\n\n\n\nJoin local church & community leaders with a heart for children & family welfare. We will pray\, pursue\, and work toward local solutions while making meaningful connections that last. Refreshments will be provided.
URL:https://www.111project.org/activities/atoka-coal-counties-community-gathering-7/2026-05-27/
CATEGORIES:Community Gatherings
ATTACH;FMTTYPE=image/jpeg:https://www.111project.org/wp-content/uploads/2025/12/AtokaCoal-FEBRUARY.jpg
ORGANIZER;CN="111Project":MAILTO:info@111project.org
END:VEVENT
BEGIN:VEVENT
DTSTART;TZID=America/Chicago:20260528T120000
DTEND;TZID=America/Chicago:20260528T130000
DTSTAMP:20260424T054734
CREATED:20251231T175503Z
LAST-MODIFIED:20251231T175507Z
UID:10001548-1779969600-1779973200@www.111project.org
SUMMARY:Pontotoc County Community Gathering
DESCRIPTION:Register Here!\n\n\n\n\n\n\n\n\n\nHey\, all! Come join the OKDHS\, the Church\, and community members at our Community Gathering\, where we celebrate what we have done\, discuss what is being done\, and plan what can be done to end the child welfare crisis in Oklahoma.
URL:https://www.111project.org/activities/pontotoc-county-community-gathering-8/2026-05-28/
CATEGORIES:Community Gatherings
ATTACH;FMTTYPE=image/png:https://www.111project.org/wp-content/uploads/2025/06/Pontotoc.png
ORGANIZER;CN="111Project":MAILTO:info@111project.org
END:VEVENT
BEGIN:VEVENT
DTSTART;TZID=America/Chicago:20260531T100000
DTEND;TZID=America/Chicago:20260531T120000
DTSTAMP:20260424T054734
CREATED:20260414T003156Z
LAST-MODIFIED:20260414T004841Z
UID:10002088-1780221600-1780228800@www.111project.org
SUMMARY:Custer County Church Meeting
DESCRIPTION:10 A.M. Service\n\n\n\n\n\n\n\nCuster County CarePortal\nCommunity Coordinator: Dr. Kalie KerthRegional Manager: Rita Blumer \nI can’t believe it’s been almost a year since we hosted the last Foster Care Forum at Liberty Church International! We’ve been invited back for a second forum on Sunday\, May 31st\, at Liberty Church\, 2740 South Frontage Road\, Weatherford\, OK —just follow the flags with flames! Since last time\, so many wonderful things have happened. We now have three panelists confirmed for this event: Denise Gerhold (Oklahoma Human Services)\, LJ Williams (Safe Families)\, and Shannon Davis (Circle of Care). We can’t wait to come together again to support children and families in crisis!
URL:https://www.111project.org/activities/custer-county-church-meeting-2/
CATEGORIES:Information Meetings
ORGANIZER;CN="111Project":MAILTO:info@111project.org
END:VEVENT
BEGIN:VEVENT
DTSTART;TZID=America/Chicago:20260604T130000
DTEND;TZID=America/Chicago:20260604T140000
DTSTAMP:20260424T054734
CREATED:20251230T230312Z
LAST-MODIFIED:20251231T174812Z
UID:10001454-1780578000-1780581600@www.111project.org
SUMMARY:Pushmataha/ Choctaw County Community Gathering
DESCRIPTION:Register Here!\n\n\n\n\n\n\n\nHey\, all! Come join the OKDHS\, the Church\, and community members at our Community Gathering\, where we celebrate what we have done\, discuss what is being done\, and plan what can be done to end the child welfare crisis in Oklahoma.
URL:https://www.111project.org/activities/pushmataha-county-community-gathering-6/2026-06-04/
CATEGORIES:Community Gatherings
ATTACH;FMTTYPE=image/png:https://www.111project.org/wp-content/uploads/2025/12/Mayes-FEBRUARY-7.png
ORGANIZER;CN="111Project":MAILTO:info@111project.org
END:VEVENT
BEGIN:VEVENT
DTSTART;TZID=America/Chicago:20260609T130000
DTEND;TZID=America/Chicago:20260609T140000
DTSTAMP:20260424T054734
CREATED:20251231T173324Z
LAST-MODIFIED:20251231T173327Z
UID:10001527-1781010000-1781013600@www.111project.org
SUMMARY:Seminole & Hughes Counties Community Gathering
DESCRIPTION:Register Here!\n\n\n\n\n\n\n\n\n\nJoin local church & community leaders with a heart for children & family welfare. We will pray\, pursue\, and work toward local solutions while making meaningful connections that last. 
URL:https://www.111project.org/activities/seminole-hughes-counties-community-gathering-6/2026-06-09/
CATEGORIES:Community Gatherings
ATTACH;FMTTYPE=image/png:https://www.111project.org/wp-content/uploads/2025/08/Seminole-1.png
ORGANIZER;CN="111Project":MAILTO:info@111project.org
END:VEVENT
BEGIN:VEVENT
DTSTART;TZID=America/Chicago:20260616T120000
DTEND;TZID=America/Chicago:20260616T130000
DTSTAMP:20260424T054734
CREATED:20251230T231923Z
LAST-MODIFIED:20251230T231926Z
UID:10001466-1781611200-1781614800@www.111project.org
SUMMARY:Pittsburg County Community Gathering
DESCRIPTION:Register Here!\n\n\n\n\n\n\n\nHey\, all! Come join the OKDHS\, the Church\, and community members at the Pittsburg County Community Gathering\, where we celebrate what we have done\, discuss what is being done\, and plan what can be done to end the child welfare crisis in Pittsburg County.
URL:https://www.111project.org/activities/pittsburg-county-community-gathering-21/2026-06-16/
CATEGORIES:Community Gatherings
ATTACH;FMTTYPE=image/png:https://www.111project.org/wp-content/uploads/2025/08/Pittsburg-1.png
ORGANIZER;CN="111Project":MAILTO:info@111project.org
END:VEVENT
BEGIN:VEVENT
DTSTART;TZID=America/Chicago:20260624T120000
DTEND;TZID=America/Chicago:20260624T130000
DTSTAMP:20260424T054734
CREATED:20260225T160716Z
LAST-MODIFIED:20260225T160751Z
UID:10001538-1782302400-1782306000@www.111project.org
SUMMARY:Atoka & Coal Counties Community Gathering
DESCRIPTION:Register Here!\n\n\n\n\n\n\n\n\n\nJoin local church & community leaders with a heart for children & family welfare. We will pray\, pursue\, and work toward local solutions while making meaningful connections that last. Refreshments will be provided.
URL:https://www.111project.org/activities/atoka-coal-counties-community-gathering-7/2026-06-24/
CATEGORIES:Community Gatherings
ATTACH;FMTTYPE=image/jpeg:https://www.111project.org/wp-content/uploads/2025/12/AtokaCoal-FEBRUARY.jpg
ORGANIZER;CN="111Project":MAILTO:info@111project.org
END:VEVENT
BEGIN:VEVENT
DTSTART;TZID=America/Chicago:20260625T120000
DTEND;TZID=America/Chicago:20260625T130000
DTSTAMP:20260424T054734
CREATED:20251231T175503Z
LAST-MODIFIED:20251231T175507Z
UID:10001549-1782388800-1782392400@www.111project.org
SUMMARY:Pontotoc County Community Gathering
DESCRIPTION:Register Here!\n\n\n\n\n\n\n\n\n\nHey\, all! Come join the OKDHS\, the Church\, and community members at our Community Gathering\, where we celebrate what we have done\, discuss what is being done\, and plan what can be done to end the child welfare crisis in Oklahoma.
URL:https://www.111project.org/activities/pontotoc-county-community-gathering-8/2026-06-25/
CATEGORIES:Community Gatherings
ATTACH;FMTTYPE=image/png:https://www.111project.org/wp-content/uploads/2025/06/Pontotoc.png
ORGANIZER;CN="111Project":MAILTO:info@111project.org
END:VEVENT
BEGIN:VEVENT
DTSTART;TZID=America/Chicago:20260702T130000
DTEND;TZID=America/Chicago:20260702T140000
DTSTAMP:20260424T054734
CREATED:20251230T230312Z
LAST-MODIFIED:20251231T174812Z
UID:10001455-1782997200-1783000800@www.111project.org
SUMMARY:Pushmataha/ Choctaw County Community Gathering
DESCRIPTION:Register Here!\n\n\n\n\n\n\n\nHey\, all! Come join the OKDHS\, the Church\, and community members at our Community Gathering\, where we celebrate what we have done\, discuss what is being done\, and plan what can be done to end the child welfare crisis in Oklahoma.
URL:https://www.111project.org/activities/pushmataha-county-community-gathering-6/2026-07-02/
CATEGORIES:Community Gatherings
ATTACH;FMTTYPE=image/png:https://www.111project.org/wp-content/uploads/2025/12/Mayes-FEBRUARY-7.png
ORGANIZER;CN="111Project":MAILTO:info@111project.org
END:VEVENT
BEGIN:VEVENT
DTSTART;TZID=America/Chicago:20260714T130000
DTEND;TZID=America/Chicago:20260714T140000
DTSTAMP:20260424T054734
CREATED:20251231T173324Z
LAST-MODIFIED:20251231T173327Z
UID:10001528-1784034000-1784037600@www.111project.org
SUMMARY:Seminole & Hughes Counties Community Gathering
DESCRIPTION:Register Here!\n\n\n\n\n\n\n\n\n\nJoin local church & community leaders with a heart for children & family welfare. We will pray\, pursue\, and work toward local solutions while making meaningful connections that last. 
URL:https://www.111project.org/activities/seminole-hughes-counties-community-gathering-6/2026-07-14/
CATEGORIES:Community Gatherings
ATTACH;FMTTYPE=image/png:https://www.111project.org/wp-content/uploads/2025/08/Seminole-1.png
ORGANIZER;CN="111Project":MAILTO:info@111project.org
END:VEVENT
BEGIN:VEVENT
DTSTART;TZID=America/Chicago:20260721T120000
DTEND;TZID=America/Chicago:20260721T130000
DTSTAMP:20260424T054734
CREATED:20251230T231923Z
LAST-MODIFIED:20251230T231926Z
UID:10001467-1784635200-1784638800@www.111project.org
SUMMARY:Pittsburg County Community Gathering
DESCRIPTION:Register Here!\n\n\n\n\n\n\n\nHey\, all! Come join the OKDHS\, the Church\, and community members at the Pittsburg County Community Gathering\, where we celebrate what we have done\, discuss what is being done\, and plan what can be done to end the child welfare crisis in Pittsburg County.
URL:https://www.111project.org/activities/pittsburg-county-community-gathering-21/2026-07-21/
CATEGORIES:Community Gatherings
ATTACH;FMTTYPE=image/png:https://www.111project.org/wp-content/uploads/2025/08/Pittsburg-1.png
ORGANIZER;CN="111Project":MAILTO:info@111project.org
END:VEVENT
BEGIN:VEVENT
DTSTART;TZID=America/Chicago:20260722T100000
DTEND;TZID=America/Chicago:20260722T113000
DTSTAMP:20260424T054734
CREATED:20260107T030813Z
LAST-MODIFIED:20260107T030816Z
UID:10001663-1784714400-1784719800@www.111project.org
SUMMARY:Canadian County Virtual Community Gathering
DESCRIPTION:Register Here!\n\n\n\n\n\n\n\n\n\nJoin us for a collaboration of church and agency leaders in Canadian County connected through CarePortal with the mission of serving kids and families in our community! Community Gatherings are table conversations where we discuss open opportunities to serve\, ideas for deeper engagement and helpful connections and resourcing among friends.
URL:https://www.111project.org/activities/canadian-county-virtual-community-gathering-2/2026-07-22/
CATEGORIES:Community Gatherings
ATTACH;FMTTYPE=image/png:https://www.111project.org/wp-content/uploads/2026/01/Canadian.png
ORGANIZER;CN="111Project":MAILTO:info@111project.org
END:VEVENT
BEGIN:VEVENT
DTSTART;TZID=America/Chicago:20260722T120000
DTEND;TZID=America/Chicago:20260722T130000
DTSTAMP:20260424T054734
CREATED:20260225T160716Z
LAST-MODIFIED:20260225T160751Z
UID:10001539-1784721600-1784725200@www.111project.org
SUMMARY:Atoka & Coal Counties Community Gathering
DESCRIPTION:Register Here!\n\n\n\n\n\n\n\n\n\nJoin local church & community leaders with a heart for children & family welfare. We will pray\, pursue\, and work toward local solutions while making meaningful connections that last. Refreshments will be provided.
URL:https://www.111project.org/activities/atoka-coal-counties-community-gathering-7/2026-07-22/
CATEGORIES:Community Gatherings
ATTACH;FMTTYPE=image/jpeg:https://www.111project.org/wp-content/uploads/2025/12/AtokaCoal-FEBRUARY.jpg
ORGANIZER;CN="111Project":MAILTO:info@111project.org
END:VEVENT
BEGIN:VEVENT
DTSTART;TZID=America/Chicago:20260723T120000
DTEND;TZID=America/Chicago:20260723T130000
DTSTAMP:20260424T054734
CREATED:20251231T175503Z
LAST-MODIFIED:20251231T175507Z
UID:10001550-1784808000-1784811600@www.111project.org
SUMMARY:Pontotoc County Community Gathering
DESCRIPTION:Register Here!\n\n\n\n\n\n\n\n\n\nHey\, all! Come join the OKDHS\, the Church\, and community members at our Community Gathering\, where we celebrate what we have done\, discuss what is being done\, and plan what can be done to end the child welfare crisis in Oklahoma.
URL:https://www.111project.org/activities/pontotoc-county-community-gathering-8/2026-07-23/
CATEGORIES:Community Gatherings
ATTACH;FMTTYPE=image/png:https://www.111project.org/wp-content/uploads/2025/06/Pontotoc.png
ORGANIZER;CN="111Project":MAILTO:info@111project.org
END:VEVENT
BEGIN:VEVENT
DTSTART;TZID=America/Chicago:20260727T120000
DTEND;TZID=America/Chicago:20260727T133000
DTSTAMP:20260424T054734
CREATED:20260107T025239Z
LAST-MODIFIED:20260107T030245Z
UID:10001603-1785153600-1785159000@www.111project.org
SUMMARY:Oklahoma County Together Virtual Community Gathering
DESCRIPTION:Register Here!\n\n\n\n\n\n\n\n\n\nJoin us for a collaboration of church and agency leaders in Oklahoma County connected through CarePortal with the mission of serving kids and families in our community! Community Gatherings are table conversations where we discuss open opportunities to serve\, ideas for deeper engagement and helpful connections and resourcing among friends.
URL:https://www.111project.org/activities/oklahoma-county-together-virtual-community-gathering/2026-07-27/
CATEGORIES:Community Gatherings
ATTACH;FMTTYPE=image/png:https://www.111project.org/wp-content/uploads/2026/01/Oklahoma.png
ORGANIZER;CN="111Project":MAILTO:info@111project.org
END:VEVENT
BEGIN:VEVENT
DTSTART;TZID=America/Chicago:20260806T130000
DTEND;TZID=America/Chicago:20260806T140000
DTSTAMP:20260424T054734
CREATED:20251230T230312Z
LAST-MODIFIED:20251231T174812Z
UID:10001456-1786021200-1786024800@www.111project.org
SUMMARY:Pushmataha/ Choctaw County Community Gathering
DESCRIPTION:Register Here!\n\n\n\n\n\n\n\nHey\, all! Come join the OKDHS\, the Church\, and community members at our Community Gathering\, where we celebrate what we have done\, discuss what is being done\, and plan what can be done to end the child welfare crisis in Oklahoma.
URL:https://www.111project.org/activities/pushmataha-county-community-gathering-6/2026-08-06/
CATEGORIES:Community Gatherings
ATTACH;FMTTYPE=image/png:https://www.111project.org/wp-content/uploads/2025/12/Mayes-FEBRUARY-7.png
ORGANIZER;CN="111Project":MAILTO:info@111project.org
END:VEVENT
BEGIN:VEVENT
DTSTART;TZID=America/Chicago:20260811T130000
DTEND;TZID=America/Chicago:20260811T140000
DTSTAMP:20260424T054734
CREATED:20251231T173324Z
LAST-MODIFIED:20251231T173327Z
UID:10001529-1786453200-1786456800@www.111project.org
SUMMARY:Seminole & Hughes Counties Community Gathering
DESCRIPTION:Register Here!\n\n\n\n\n\n\n\n\n\nJoin local church & community leaders with a heart for children & family welfare. We will pray\, pursue\, and work toward local solutions while making meaningful connections that last. 
URL:https://www.111project.org/activities/seminole-hughes-counties-community-gathering-6/2026-08-11/
CATEGORIES:Community Gatherings
ATTACH;FMTTYPE=image/png:https://www.111project.org/wp-content/uploads/2025/08/Seminole-1.png
ORGANIZER;CN="111Project":MAILTO:info@111project.org
END:VEVENT
BEGIN:VEVENT
DTSTART;TZID=America/Chicago:20260818T120000
DTEND;TZID=America/Chicago:20260818T130000
DTSTAMP:20260424T054734
CREATED:20251230T231923Z
LAST-MODIFIED:20251230T231926Z
UID:10001468-1787054400-1787058000@www.111project.org
SUMMARY:Pittsburg County Community Gathering
DESCRIPTION:Register Here!\n\n\n\n\n\n\n\nHey\, all! Come join the OKDHS\, the Church\, and community members at the Pittsburg County Community Gathering\, where we celebrate what we have done\, discuss what is being done\, and plan what can be done to end the child welfare crisis in Pittsburg County.
URL:https://www.111project.org/activities/pittsburg-county-community-gathering-21/2026-08-18/
CATEGORIES:Community Gatherings
ATTACH;FMTTYPE=image/png:https://www.111project.org/wp-content/uploads/2025/08/Pittsburg-1.png
ORGANIZER;CN="111Project":MAILTO:info@111project.org
END:VEVENT
BEGIN:VEVENT
DTSTART;TZID=America/Chicago:20260826T120000
DTEND;TZID=America/Chicago:20260826T130000
DTSTAMP:20260424T054734
CREATED:20260225T160716Z
LAST-MODIFIED:20260225T160751Z
UID:10001540-1787745600-1787749200@www.111project.org
SUMMARY:Atoka & Coal Counties Community Gathering
DESCRIPTION:Register Here!\n\n\n\n\n\n\n\n\n\nJoin local church & community leaders with a heart for children & family welfare. We will pray\, pursue\, and work toward local solutions while making meaningful connections that last. Refreshments will be provided.
URL:https://www.111project.org/activities/atoka-coal-counties-community-gathering-7/2026-08-26/
CATEGORIES:Community Gatherings
ATTACH;FMTTYPE=image/jpeg:https://www.111project.org/wp-content/uploads/2025/12/AtokaCoal-FEBRUARY.jpg
ORGANIZER;CN="111Project":MAILTO:info@111project.org
END:VEVENT
BEGIN:VEVENT
DTSTART;TZID=America/Chicago:20260827T120000
DTEND;TZID=America/Chicago:20260827T130000
DTSTAMP:20260424T054734
CREATED:20251231T175503Z
LAST-MODIFIED:20251231T175507Z
UID:10001551-1787832000-1787835600@www.111project.org
SUMMARY:Pontotoc County Community Gathering
DESCRIPTION:Register Here!\n\n\n\n\n\n\n\n\n\nHey\, all! Come join the OKDHS\, the Church\, and community members at our Community Gathering\, where we celebrate what we have done\, discuss what is being done\, and plan what can be done to end the child welfare crisis in Oklahoma.
URL:https://www.111project.org/activities/pontotoc-county-community-gathering-8/2026-08-27/
CATEGORIES:Community Gatherings
ATTACH;FMTTYPE=image/png:https://www.111project.org/wp-content/uploads/2025/06/Pontotoc.png
ORGANIZER;CN="111Project":MAILTO:info@111project.org
END:VEVENT
BEGIN:VEVENT
DTSTART;TZID=America/Chicago:20260903T130000
DTEND;TZID=America/Chicago:20260903T140000
DTSTAMP:20260424T054734
CREATED:20251230T230312Z
LAST-MODIFIED:20251231T174812Z
UID:10001457-1788440400-1788444000@www.111project.org
SUMMARY:Pushmataha/ Choctaw County Community Gathering
DESCRIPTION:Register Here!\n\n\n\n\n\n\n\nHey\, all! Come join the OKDHS\, the Church\, and community members at our Community Gathering\, where we celebrate what we have done\, discuss what is being done\, and plan what can be done to end the child welfare crisis in Oklahoma.
URL:https://www.111project.org/activities/pushmataha-county-community-gathering-6/2026-09-03/
CATEGORIES:Community Gatherings
ATTACH;FMTTYPE=image/png:https://www.111project.org/wp-content/uploads/2025/12/Mayes-FEBRUARY-7.png
ORGANIZER;CN="111Project":MAILTO:info@111project.org
END:VEVENT
BEGIN:VEVENT
DTSTART;TZID=America/Chicago:20260908T130000
DTEND;TZID=America/Chicago:20260908T140000
DTSTAMP:20260424T054734
CREATED:20251231T173324Z
LAST-MODIFIED:20251231T173327Z
UID:10001530-1788872400-1788876000@www.111project.org
SUMMARY:Seminole & Hughes Counties Community Gathering
DESCRIPTION:Register Here!\n\n\n\n\n\n\n\n\n\nJoin local church & community leaders with a heart for children & family welfare. We will pray\, pursue\, and work toward local solutions while making meaningful connections that last. 
URL:https://www.111project.org/activities/seminole-hughes-counties-community-gathering-6/2026-09-08/
CATEGORIES:Community Gatherings
ATTACH;FMTTYPE=image/png:https://www.111project.org/wp-content/uploads/2025/08/Seminole-1.png
ORGANIZER;CN="111Project":MAILTO:info@111project.org
END:VEVENT
BEGIN:VEVENT
DTSTART;TZID=America/Chicago:20260915T120000
DTEND;TZID=America/Chicago:20260915T130000
DTSTAMP:20260424T054734
CREATED:20251230T231923Z
LAST-MODIFIED:20251230T231926Z
UID:10001469-1789473600-1789477200@www.111project.org
SUMMARY:Pittsburg County Community Gathering
DESCRIPTION:Register Here!\n\n\n\n\n\n\n\nHey\, all! Come join the OKDHS\, the Church\, and community members at the Pittsburg County Community Gathering\, where we celebrate what we have done\, discuss what is being done\, and plan what can be done to end the child welfare crisis in Pittsburg County.
URL:https://www.111project.org/activities/pittsburg-county-community-gathering-21/2026-09-15/
CATEGORIES:Community Gatherings
ATTACH;FMTTYPE=image/png:https://www.111project.org/wp-content/uploads/2025/08/Pittsburg-1.png
ORGANIZER;CN="111Project":MAILTO:info@111project.org
END:VEVENT
BEGIN:VEVENT
DTSTART;TZID=America/Chicago:20260923T100000
DTEND;TZID=America/Chicago:20260923T113000
DTSTAMP:20260424T054734
CREATED:20260107T030813Z
LAST-MODIFIED:20260107T030816Z
UID:10001664-1790157600-1790163000@www.111project.org
SUMMARY:Canadian County Virtual Community Gathering
DESCRIPTION:Register Here!\n\n\n\n\n\n\n\n\n\nJoin us for a collaboration of church and agency leaders in Canadian County connected through CarePortal with the mission of serving kids and families in our community! Community Gatherings are table conversations where we discuss open opportunities to serve\, ideas for deeper engagement and helpful connections and resourcing among friends.
URL:https://www.111project.org/activities/canadian-county-virtual-community-gathering-2/2026-09-23/
CATEGORIES:Community Gatherings
ATTACH;FMTTYPE=image/png:https://www.111project.org/wp-content/uploads/2026/01/Canadian.png
ORGANIZER;CN="111Project":MAILTO:info@111project.org
END:VEVENT
BEGIN:VEVENT
DTSTART;TZID=America/Chicago:20260923T120000
DTEND;TZID=America/Chicago:20260923T130000
DTSTAMP:20260424T054734
CREATED:20260225T160716Z
LAST-MODIFIED:20260225T160751Z
UID:10001541-1790164800-1790168400@www.111project.org
SUMMARY:Atoka & Coal Counties Community Gathering
DESCRIPTION:Register Here!\n\n\n\n\n\n\n\n\n\nJoin local church & community leaders with a heart for children & family welfare. We will pray\, pursue\, and work toward local solutions while making meaningful connections that last. Refreshments will be provided.
URL:https://www.111project.org/activities/atoka-coal-counties-community-gathering-7/2026-09-23/
CATEGORIES:Community Gatherings
ATTACH;FMTTYPE=image/jpeg:https://www.111project.org/wp-content/uploads/2025/12/AtokaCoal-FEBRUARY.jpg
ORGANIZER;CN="111Project":MAILTO:info@111project.org
END:VEVENT
BEGIN:VEVENT
DTSTART;TZID=America/Chicago:20260924T120000
DTEND;TZID=America/Chicago:20260924T130000
DTSTAMP:20260424T054734
CREATED:20251231T175503Z
LAST-MODIFIED:20251231T175507Z
UID:10001552-1790251200-1790254800@www.111project.org
SUMMARY:Pontotoc County Community Gathering
DESCRIPTION:Register Here!\n\n\n\n\n\n\n\n\n\nHey\, all! Come join the OKDHS\, the Church\, and community members at our Community Gathering\, where we celebrate what we have done\, discuss what is being done\, and plan what can be done to end the child welfare crisis in Oklahoma.
URL:https://www.111project.org/activities/pontotoc-county-community-gathering-8/2026-09-24/
CATEGORIES:Community Gatherings
ATTACH;FMTTYPE=image/png:https://www.111project.org/wp-content/uploads/2025/06/Pontotoc.png
ORGANIZER;CN="111Project":MAILTO:info@111project.org
END:VEVENT
BEGIN:VEVENT
DTSTART;TZID=America/Chicago:20260928T120000
DTEND;TZID=America/Chicago:20260928T133000
DTSTAMP:20260424T054734
CREATED:20260107T025239Z
LAST-MODIFIED:20260107T030245Z
UID:10001604-1790596800-1790602200@www.111project.org
SUMMARY:Oklahoma County Together Virtual Community Gathering
DESCRIPTION:Register Here!\n\n\n\n\n\n\n\n\n\nJoin us for a collaboration of church and agency leaders in Oklahoma County connected through CarePortal with the mission of serving kids and families in our community! Community Gatherings are table conversations where we discuss open opportunities to serve\, ideas for deeper engagement and helpful connections and resourcing among friends.
URL:https://www.111project.org/activities/oklahoma-county-together-virtual-community-gathering/2026-09-28/
CATEGORIES:Community Gatherings
ATTACH;FMTTYPE=image/png:https://www.111project.org/wp-content/uploads/2026/01/Oklahoma.png
ORGANIZER;CN="111Project":MAILTO:info@111project.org
END:VEVENT
BEGIN:VEVENT
DTSTART;TZID=America/Chicago:20261001T130000
DTEND;TZID=America/Chicago:20261001T140000
DTSTAMP:20260424T054734
CREATED:20251230T230312Z
LAST-MODIFIED:20251231T174812Z
UID:10001458-1790859600-1790863200@www.111project.org
SUMMARY:Pushmataha/ Choctaw County Community Gathering
DESCRIPTION:Register Here!\n\n\n\n\n\n\n\nHey\, all! Come join the OKDHS\, the Church\, and community members at our Community Gathering\, where we celebrate what we have done\, discuss what is being done\, and plan what can be done to end the child welfare crisis in Oklahoma.
URL:https://www.111project.org/activities/pushmataha-county-community-gathering-6/2026-10-01/
CATEGORIES:Community Gatherings
ATTACH;FMTTYPE=image/png:https://www.111project.org/wp-content/uploads/2025/12/Mayes-FEBRUARY-7.png
ORGANIZER;CN="111Project":MAILTO:info@111project.org
END:VEVENT
BEGIN:VEVENT
DTSTART;TZID=America/Chicago:20261013T130000
DTEND;TZID=America/Chicago:20261013T140000
DTSTAMP:20260424T054734
CREATED:20251231T173324Z
LAST-MODIFIED:20251231T173327Z
UID:10001531-1791896400-1791900000@www.111project.org
SUMMARY:Seminole & Hughes Counties Community Gathering
DESCRIPTION:Register Here!\n\n\n\n\n\n\n\n\n\nJoin local church & community leaders with a heart for children & family welfare. We will pray\, pursue\, and work toward local solutions while making meaningful connections that last. 
URL:https://www.111project.org/activities/seminole-hughes-counties-community-gathering-6/2026-10-13/
CATEGORIES:Community Gatherings
ATTACH;FMTTYPE=image/png:https://www.111project.org/wp-content/uploads/2025/08/Seminole-1.png
ORGANIZER;CN="111Project":MAILTO:info@111project.org
END:VEVENT
END:VCALENDAR