BEGIN:VCALENDAR
VERSION:2.0
PRODID:-//111Project.org - ECPv6.15.18//NONSGML v1.0//EN
CALSCALE:GREGORIAN
METHOD:PUBLISH
X-WR-CALNAME:111Project.org
X-ORIGINAL-URL:https://www.111project.org
X-WR-CALDESC:Events for 111Project.org
REFRESH-INTERVAL;VALUE=DURATION:PT1H
X-Robots-Tag:noindex
X-PUBLISHED-TTL:PT1H
BEGIN:VTIMEZONE
TZID:America/Chicago
BEGIN:DAYLIGHT
TZOFFSETFROM:-0600
TZOFFSETTO:-0500
TZNAME:CDT
DTSTART:20250309T080000
END:DAYLIGHT
BEGIN:STANDARD
TZOFFSETFROM:-0500
TZOFFSETTO:-0600
TZNAME:CST
DTSTART:20251102T070000
END:STANDARD
BEGIN:DAYLIGHT
TZOFFSETFROM:-0600
TZOFFSETTO:-0500
TZNAME:CDT
DTSTART:20260308T080000
END:DAYLIGHT
BEGIN:STANDARD
TZOFFSETFROM:-0500
TZOFFSETTO:-0600
TZNAME:CST
DTSTART:20261101T070000
END:STANDARD
BEGIN:DAYLIGHT
TZOFFSETFROM:-0600
TZOFFSETTO:-0500
TZNAME:CDT
DTSTART:20270314T080000
END:DAYLIGHT
BEGIN:STANDARD
TZOFFSETFROM:-0500
TZOFFSETTO:-0600
TZNAME:CST
DTSTART:20271107T070000
END:STANDARD
BEGIN:DAYLIGHT
TZOFFSETFROM:-0600
TZOFFSETTO:-0500
TZNAME:CDT
DTSTART:20280312T080000
END:DAYLIGHT
BEGIN:STANDARD
TZOFFSETFROM:-0500
TZOFFSETTO:-0600
TZNAME:CST
DTSTART:20281105T070000
END:STANDARD
BEGIN:DAYLIGHT
TZOFFSETFROM:-0600
TZOFFSETTO:-0500
TZNAME:CDT
DTSTART:20290311T080000
END:DAYLIGHT
BEGIN:STANDARD
TZOFFSETFROM:-0500
TZOFFSETTO:-0600
TZNAME:CST
DTSTART:20291104T070000
END:STANDARD
END:VTIMEZONE
BEGIN:VEVENT
DTSTART;TZID=America/Chicago:20261215T120000
DTEND;TZID=America/Chicago:20261215T130000
DTSTAMP:20260424T113905
CREATED:20251230T231923Z
LAST-MODIFIED:20251230T231926Z
UID:10001472-1797336000-1797339600@www.111project.org
SUMMARY:Pittsburg County Community Gathering
DESCRIPTION:Register Here!\n\n\n\n\n\n\n\nHey\, all! Come join the OKDHS\, the Church\, and community members at the Pittsburg County Community Gathering\, where we celebrate what we have done\, discuss what is being done\, and plan what can be done to end the child welfare crisis in Pittsburg County.
URL:https://www.111project.org/activities/pittsburg-county-community-gathering-21/2026-12-15/
CATEGORIES:Community Gatherings
ATTACH;FMTTYPE=image/png:https://www.111project.org/wp-content/uploads/2025/08/Pittsburg-1.png
ORGANIZER;CN="111Project":MAILTO:info@111project.org
END:VEVENT
BEGIN:VEVENT
DTSTART;TZID=America/Chicago:20270119T120000
DTEND;TZID=America/Chicago:20270119T130000
DTSTAMP:20260424T113905
CREATED:20251230T231923Z
LAST-MODIFIED:20251230T231926Z
UID:10001473-1800360000-1800363600@www.111project.org
SUMMARY:Pittsburg County Community Gathering
DESCRIPTION:Register Here!\n\n\n\n\n\n\n\nHey\, all! Come join the OKDHS\, the Church\, and community members at the Pittsburg County Community Gathering\, where we celebrate what we have done\, discuss what is being done\, and plan what can be done to end the child welfare crisis in Pittsburg County.
URL:https://www.111project.org/activities/pittsburg-county-community-gathering-21/2027-01-19/
CATEGORIES:Community Gatherings
ATTACH;FMTTYPE=image/png:https://www.111project.org/wp-content/uploads/2025/08/Pittsburg-1.png
ORGANIZER;CN="111Project":MAILTO:info@111project.org
END:VEVENT
BEGIN:VEVENT
DTSTART;TZID=America/Chicago:20270125T120000
DTEND;TZID=America/Chicago:20270125T133000
DTSTAMP:20260424T113905
CREATED:20260107T025239Z
LAST-MODIFIED:20260107T030245Z
UID:10001606-1800878400-1800883800@www.111project.org
SUMMARY:Oklahoma County Together Virtual Community Gathering
DESCRIPTION:Register Here!\n\n\n\n\n\n\n\n\n\nJoin us for a collaboration of church and agency leaders in Oklahoma County connected through CarePortal with the mission of serving kids and families in our community! Community Gatherings are table conversations where we discuss open opportunities to serve\, ideas for deeper engagement and helpful connections and resourcing among friends.
URL:https://www.111project.org/activities/oklahoma-county-together-virtual-community-gathering/2027-01-25/
CATEGORIES:Community Gatherings
ATTACH;FMTTYPE=image/png:https://www.111project.org/wp-content/uploads/2026/01/Oklahoma.png
ORGANIZER;CN="111Project":MAILTO:info@111project.org
END:VEVENT
BEGIN:VEVENT
DTSTART;TZID=America/Chicago:20270127T100000
DTEND;TZID=America/Chicago:20270127T113000
DTSTAMP:20260424T113905
CREATED:20260107T030813Z
LAST-MODIFIED:20260107T030816Z
UID:10001666-1801044000-1801049400@www.111project.org
SUMMARY:Canadian County Virtual Community Gathering
DESCRIPTION:Register Here!\n\n\n\n\n\n\n\n\n\nJoin us for a collaboration of church and agency leaders in Canadian County connected through CarePortal with the mission of serving kids and families in our community! Community Gatherings are table conversations where we discuss open opportunities to serve\, ideas for deeper engagement and helpful connections and resourcing among friends.
URL:https://www.111project.org/activities/canadian-county-virtual-community-gathering-2/2027-01-27/
CATEGORIES:Community Gatherings
ATTACH;FMTTYPE=image/png:https://www.111project.org/wp-content/uploads/2026/01/Canadian.png
ORGANIZER;CN="111Project":MAILTO:info@111project.org
END:VEVENT
BEGIN:VEVENT
DTSTART;TZID=America/Chicago:20270216T120000
DTEND;TZID=America/Chicago:20270216T130000
DTSTAMP:20260424T113905
CREATED:20251230T231923Z
LAST-MODIFIED:20251230T231926Z
UID:10001474-1802779200-1802782800@www.111project.org
SUMMARY:Pittsburg County Community Gathering
DESCRIPTION:Register Here!\n\n\n\n\n\n\n\nHey\, all! Come join the OKDHS\, the Church\, and community members at the Pittsburg County Community Gathering\, where we celebrate what we have done\, discuss what is being done\, and plan what can be done to end the child welfare crisis in Pittsburg County.
URL:https://www.111project.org/activities/pittsburg-county-community-gathering-21/2027-02-16/
CATEGORIES:Community Gatherings
ATTACH;FMTTYPE=image/png:https://www.111project.org/wp-content/uploads/2025/08/Pittsburg-1.png
ORGANIZER;CN="111Project":MAILTO:info@111project.org
END:VEVENT
BEGIN:VEVENT
DTSTART;TZID=America/Chicago:20270316T120000
DTEND;TZID=America/Chicago:20270316T130000
DTSTAMP:20260424T113905
CREATED:20251230T231923Z
LAST-MODIFIED:20251230T231926Z
UID:10001475-1805198400-1805202000@www.111project.org
SUMMARY:Pittsburg County Community Gathering
DESCRIPTION:Register Here!\n\n\n\n\n\n\n\nHey\, all! Come join the OKDHS\, the Church\, and community members at the Pittsburg County Community Gathering\, where we celebrate what we have done\, discuss what is being done\, and plan what can be done to end the child welfare crisis in Pittsburg County.
URL:https://www.111project.org/activities/pittsburg-county-community-gathering-21/2027-03-16/
CATEGORIES:Community Gatherings
ATTACH;FMTTYPE=image/png:https://www.111project.org/wp-content/uploads/2025/08/Pittsburg-1.png
ORGANIZER;CN="111Project":MAILTO:info@111project.org
END:VEVENT
BEGIN:VEVENT
DTSTART;TZID=America/Chicago:20270322T120000
DTEND;TZID=America/Chicago:20270322T133000
DTSTAMP:20260424T113905
CREATED:20260107T025239Z
LAST-MODIFIED:20260107T030245Z
UID:10001607-1805716800-1805722200@www.111project.org
SUMMARY:Oklahoma County Together Virtual Community Gathering
DESCRIPTION:Register Here!\n\n\n\n\n\n\n\n\n\nJoin us for a collaboration of church and agency leaders in Oklahoma County connected through CarePortal with the mission of serving kids and families in our community! Community Gatherings are table conversations where we discuss open opportunities to serve\, ideas for deeper engagement and helpful connections and resourcing among friends.
URL:https://www.111project.org/activities/oklahoma-county-together-virtual-community-gathering/2027-03-22/
CATEGORIES:Community Gatherings
ATTACH;FMTTYPE=image/png:https://www.111project.org/wp-content/uploads/2026/01/Oklahoma.png
ORGANIZER;CN="111Project":MAILTO:info@111project.org
END:VEVENT
BEGIN:VEVENT
DTSTART;TZID=America/Chicago:20270324T100000
DTEND;TZID=America/Chicago:20270324T113000
DTSTAMP:20260424T113905
CREATED:20260107T030813Z
LAST-MODIFIED:20260107T030816Z
UID:10001667-1805882400-1805887800@www.111project.org
SUMMARY:Canadian County Virtual Community Gathering
DESCRIPTION:Register Here!\n\n\n\n\n\n\n\n\n\nJoin us for a collaboration of church and agency leaders in Canadian County connected through CarePortal with the mission of serving kids and families in our community! Community Gatherings are table conversations where we discuss open opportunities to serve\, ideas for deeper engagement and helpful connections and resourcing among friends.
URL:https://www.111project.org/activities/canadian-county-virtual-community-gathering-2/2027-03-24/
CATEGORIES:Community Gatherings
ATTACH;FMTTYPE=image/png:https://www.111project.org/wp-content/uploads/2026/01/Canadian.png
ORGANIZER;CN="111Project":MAILTO:info@111project.org
END:VEVENT
BEGIN:VEVENT
DTSTART;TZID=America/Chicago:20270420T120000
DTEND;TZID=America/Chicago:20270420T130000
DTSTAMP:20260424T113906
CREATED:20251230T231923Z
LAST-MODIFIED:20251230T231926Z
UID:10001476-1808222400-1808226000@www.111project.org
SUMMARY:Pittsburg County Community Gathering
DESCRIPTION:Register Here!\n\n\n\n\n\n\n\nHey\, all! Come join the OKDHS\, the Church\, and community members at the Pittsburg County Community Gathering\, where we celebrate what we have done\, discuss what is being done\, and plan what can be done to end the child welfare crisis in Pittsburg County.
URL:https://www.111project.org/activities/pittsburg-county-community-gathering-21/2027-04-20/
CATEGORIES:Community Gatherings
ATTACH;FMTTYPE=image/png:https://www.111project.org/wp-content/uploads/2025/08/Pittsburg-1.png
ORGANIZER;CN="111Project":MAILTO:info@111project.org
END:VEVENT
BEGIN:VEVENT
DTSTART;TZID=America/Chicago:20270518T120000
DTEND;TZID=America/Chicago:20270518T130000
DTSTAMP:20260424T113906
CREATED:20251230T231923Z
LAST-MODIFIED:20251230T231926Z
UID:10001477-1810641600-1810645200@www.111project.org
SUMMARY:Pittsburg County Community Gathering
DESCRIPTION:Register Here!\n\n\n\n\n\n\n\nHey\, all! Come join the OKDHS\, the Church\, and community members at the Pittsburg County Community Gathering\, where we celebrate what we have done\, discuss what is being done\, and plan what can be done to end the child welfare crisis in Pittsburg County.
URL:https://www.111project.org/activities/pittsburg-county-community-gathering-21/2027-05-18/
CATEGORIES:Community Gatherings
ATTACH;FMTTYPE=image/png:https://www.111project.org/wp-content/uploads/2025/08/Pittsburg-1.png
ORGANIZER;CN="111Project":MAILTO:info@111project.org
END:VEVENT
BEGIN:VEVENT
DTSTART;TZID=America/Chicago:20270524T120000
DTEND;TZID=America/Chicago:20270524T133000
DTSTAMP:20260424T113906
CREATED:20260107T025239Z
LAST-MODIFIED:20260107T030245Z
UID:10001608-1811160000-1811165400@www.111project.org
SUMMARY:Oklahoma County Together Virtual Community Gathering
DESCRIPTION:Register Here!\n\n\n\n\n\n\n\n\n\nJoin us for a collaboration of church and agency leaders in Oklahoma County connected through CarePortal with the mission of serving kids and families in our community! Community Gatherings are table conversations where we discuss open opportunities to serve\, ideas for deeper engagement and helpful connections and resourcing among friends.
URL:https://www.111project.org/activities/oklahoma-county-together-virtual-community-gathering/2027-05-24/
CATEGORIES:Community Gatherings
ATTACH;FMTTYPE=image/png:https://www.111project.org/wp-content/uploads/2026/01/Oklahoma.png
ORGANIZER;CN="111Project":MAILTO:info@111project.org
END:VEVENT
BEGIN:VEVENT
DTSTART;TZID=America/Chicago:20270526T100000
DTEND;TZID=America/Chicago:20270526T113000
DTSTAMP:20260424T113906
CREATED:20260107T030813Z
LAST-MODIFIED:20260107T030816Z
UID:10001668-1811325600-1811331000@www.111project.org
SUMMARY:Canadian County Virtual Community Gathering
DESCRIPTION:Register Here!\n\n\n\n\n\n\n\n\n\nJoin us for a collaboration of church and agency leaders in Canadian County connected through CarePortal with the mission of serving kids and families in our community! Community Gatherings are table conversations where we discuss open opportunities to serve\, ideas for deeper engagement and helpful connections and resourcing among friends.
URL:https://www.111project.org/activities/canadian-county-virtual-community-gathering-2/2027-05-26/
CATEGORIES:Community Gatherings
ATTACH;FMTTYPE=image/png:https://www.111project.org/wp-content/uploads/2026/01/Canadian.png
ORGANIZER;CN="111Project":MAILTO:info@111project.org
END:VEVENT
BEGIN:VEVENT
DTSTART;TZID=America/Chicago:20270615T120000
DTEND;TZID=America/Chicago:20270615T130000
DTSTAMP:20260424T113906
CREATED:20251230T231923Z
LAST-MODIFIED:20251230T231926Z
UID:10001478-1813060800-1813064400@www.111project.org
SUMMARY:Pittsburg County Community Gathering
DESCRIPTION:Register Here!\n\n\n\n\n\n\n\nHey\, all! Come join the OKDHS\, the Church\, and community members at the Pittsburg County Community Gathering\, where we celebrate what we have done\, discuss what is being done\, and plan what can be done to end the child welfare crisis in Pittsburg County.
URL:https://www.111project.org/activities/pittsburg-county-community-gathering-21/2027-06-15/
CATEGORIES:Community Gatherings
ATTACH;FMTTYPE=image/png:https://www.111project.org/wp-content/uploads/2025/08/Pittsburg-1.png
ORGANIZER;CN="111Project":MAILTO:info@111project.org
END:VEVENT
BEGIN:VEVENT
DTSTART;TZID=America/Chicago:20270720T120000
DTEND;TZID=America/Chicago:20270720T130000
DTSTAMP:20260424T113906
CREATED:20251230T231923Z
LAST-MODIFIED:20251230T231926Z
UID:10001479-1816084800-1816088400@www.111project.org
SUMMARY:Pittsburg County Community Gathering
DESCRIPTION:Register Here!\n\n\n\n\n\n\n\nHey\, all! Come join the OKDHS\, the Church\, and community members at the Pittsburg County Community Gathering\, where we celebrate what we have done\, discuss what is being done\, and plan what can be done to end the child welfare crisis in Pittsburg County.
URL:https://www.111project.org/activities/pittsburg-county-community-gathering-21/2027-07-20/
CATEGORIES:Community Gatherings
ATTACH;FMTTYPE=image/png:https://www.111project.org/wp-content/uploads/2025/08/Pittsburg-1.png
ORGANIZER;CN="111Project":MAILTO:info@111project.org
END:VEVENT
BEGIN:VEVENT
DTSTART;TZID=America/Chicago:20270726T120000
DTEND;TZID=America/Chicago:20270726T133000
DTSTAMP:20260424T113906
CREATED:20260107T025239Z
LAST-MODIFIED:20260107T030245Z
UID:10001609-1816603200-1816608600@www.111project.org
SUMMARY:Oklahoma County Together Virtual Community Gathering
DESCRIPTION:Register Here!\n\n\n\n\n\n\n\n\n\nJoin us for a collaboration of church and agency leaders in Oklahoma County connected through CarePortal with the mission of serving kids and families in our community! Community Gatherings are table conversations where we discuss open opportunities to serve\, ideas for deeper engagement and helpful connections and resourcing among friends.
URL:https://www.111project.org/activities/oklahoma-county-together-virtual-community-gathering/2027-07-26/
CATEGORIES:Community Gatherings
ATTACH;FMTTYPE=image/png:https://www.111project.org/wp-content/uploads/2026/01/Oklahoma.png
ORGANIZER;CN="111Project":MAILTO:info@111project.org
END:VEVENT
BEGIN:VEVENT
DTSTART;TZID=America/Chicago:20270728T100000
DTEND;TZID=America/Chicago:20270728T113000
DTSTAMP:20260424T113906
CREATED:20260107T030813Z
LAST-MODIFIED:20260107T030816Z
UID:10001669-1816768800-1816774200@www.111project.org
SUMMARY:Canadian County Virtual Community Gathering
DESCRIPTION:Register Here!\n\n\n\n\n\n\n\n\n\nJoin us for a collaboration of church and agency leaders in Canadian County connected through CarePortal with the mission of serving kids and families in our community! Community Gatherings are table conversations where we discuss open opportunities to serve\, ideas for deeper engagement and helpful connections and resourcing among friends.
URL:https://www.111project.org/activities/canadian-county-virtual-community-gathering-2/2027-07-28/
CATEGORIES:Community Gatherings
ATTACH;FMTTYPE=image/png:https://www.111project.org/wp-content/uploads/2026/01/Canadian.png
ORGANIZER;CN="111Project":MAILTO:info@111project.org
END:VEVENT
BEGIN:VEVENT
DTSTART;TZID=America/Chicago:20270817T120000
DTEND;TZID=America/Chicago:20270817T130000
DTSTAMP:20260424T113906
CREATED:20251230T231923Z
LAST-MODIFIED:20251230T231926Z
UID:10001480-1818504000-1818507600@www.111project.org
SUMMARY:Pittsburg County Community Gathering
DESCRIPTION:Register Here!\n\n\n\n\n\n\n\nHey\, all! Come join the OKDHS\, the Church\, and community members at the Pittsburg County Community Gathering\, where we celebrate what we have done\, discuss what is being done\, and plan what can be done to end the child welfare crisis in Pittsburg County.
URL:https://www.111project.org/activities/pittsburg-county-community-gathering-21/2027-08-17/
CATEGORIES:Community Gatherings
ATTACH;FMTTYPE=image/png:https://www.111project.org/wp-content/uploads/2025/08/Pittsburg-1.png
ORGANIZER;CN="111Project":MAILTO:info@111project.org
END:VEVENT
BEGIN:VEVENT
DTSTART;TZID=America/Chicago:20270921T120000
DTEND;TZID=America/Chicago:20270921T130000
DTSTAMP:20260424T113906
CREATED:20251230T231923Z
LAST-MODIFIED:20251230T231926Z
UID:10001481-1821528000-1821531600@www.111project.org
SUMMARY:Pittsburg County Community Gathering
DESCRIPTION:Register Here!\n\n\n\n\n\n\n\nHey\, all! Come join the OKDHS\, the Church\, and community members at the Pittsburg County Community Gathering\, where we celebrate what we have done\, discuss what is being done\, and plan what can be done to end the child welfare crisis in Pittsburg County.
URL:https://www.111project.org/activities/pittsburg-county-community-gathering-21/2027-09-21/
CATEGORIES:Community Gatherings
ATTACH;FMTTYPE=image/png:https://www.111project.org/wp-content/uploads/2025/08/Pittsburg-1.png
ORGANIZER;CN="111Project":MAILTO:info@111project.org
END:VEVENT
BEGIN:VEVENT
DTSTART;TZID=America/Chicago:20270922T100000
DTEND;TZID=America/Chicago:20270922T113000
DTSTAMP:20260424T113906
CREATED:20260107T030813Z
LAST-MODIFIED:20260107T030816Z
UID:10001670-1821607200-1821612600@www.111project.org
SUMMARY:Canadian County Virtual Community Gathering
DESCRIPTION:Register Here!\n\n\n\n\n\n\n\n\n\nJoin us for a collaboration of church and agency leaders in Canadian County connected through CarePortal with the mission of serving kids and families in our community! Community Gatherings are table conversations where we discuss open opportunities to serve\, ideas for deeper engagement and helpful connections and resourcing among friends.
URL:https://www.111project.org/activities/canadian-county-virtual-community-gathering-2/2027-09-22/
CATEGORIES:Community Gatherings
ATTACH;FMTTYPE=image/png:https://www.111project.org/wp-content/uploads/2026/01/Canadian.png
ORGANIZER;CN="111Project":MAILTO:info@111project.org
END:VEVENT
BEGIN:VEVENT
DTSTART;TZID=America/Chicago:20270927T120000
DTEND;TZID=America/Chicago:20270927T133000
DTSTAMP:20260424T113906
CREATED:20260107T025239Z
LAST-MODIFIED:20260107T030245Z
UID:10001610-1822046400-1822051800@www.111project.org
SUMMARY:Oklahoma County Together Virtual Community Gathering
DESCRIPTION:Register Here!\n\n\n\n\n\n\n\n\n\nJoin us for a collaboration of church and agency leaders in Oklahoma County connected through CarePortal with the mission of serving kids and families in our community! Community Gatherings are table conversations where we discuss open opportunities to serve\, ideas for deeper engagement and helpful connections and resourcing among friends.
URL:https://www.111project.org/activities/oklahoma-county-together-virtual-community-gathering/2027-09-27/
CATEGORIES:Community Gatherings
ATTACH;FMTTYPE=image/png:https://www.111project.org/wp-content/uploads/2026/01/Oklahoma.png
ORGANIZER;CN="111Project":MAILTO:info@111project.org
END:VEVENT
BEGIN:VEVENT
DTSTART;TZID=America/Chicago:20271019T120000
DTEND;TZID=America/Chicago:20271019T130000
DTSTAMP:20260424T113906
CREATED:20251230T231923Z
LAST-MODIFIED:20251230T231926Z
UID:10001482-1823947200-1823950800@www.111project.org
SUMMARY:Pittsburg County Community Gathering
DESCRIPTION:Register Here!\n\n\n\n\n\n\n\nHey\, all! Come join the OKDHS\, the Church\, and community members at the Pittsburg County Community Gathering\, where we celebrate what we have done\, discuss what is being done\, and plan what can be done to end the child welfare crisis in Pittsburg County.
URL:https://www.111project.org/activities/pittsburg-county-community-gathering-21/2027-10-19/
CATEGORIES:Community Gatherings
ATTACH;FMTTYPE=image/png:https://www.111project.org/wp-content/uploads/2025/08/Pittsburg-1.png
ORGANIZER;CN="111Project":MAILTO:info@111project.org
END:VEVENT
BEGIN:VEVENT
DTSTART;TZID=America/Chicago:20271116T120000
DTEND;TZID=America/Chicago:20271116T130000
DTSTAMP:20260424T113906
CREATED:20251230T231923Z
LAST-MODIFIED:20251230T231926Z
UID:10001483-1826366400-1826370000@www.111project.org
SUMMARY:Pittsburg County Community Gathering
DESCRIPTION:Register Here!\n\n\n\n\n\n\n\nHey\, all! Come join the OKDHS\, the Church\, and community members at the Pittsburg County Community Gathering\, where we celebrate what we have done\, discuss what is being done\, and plan what can be done to end the child welfare crisis in Pittsburg County.
URL:https://www.111project.org/activities/pittsburg-county-community-gathering-21/2027-11-16/
CATEGORIES:Community Gatherings
ATTACH;FMTTYPE=image/png:https://www.111project.org/wp-content/uploads/2025/08/Pittsburg-1.png
ORGANIZER;CN="111Project":MAILTO:info@111project.org
END:VEVENT
BEGIN:VEVENT
DTSTART;TZID=America/Chicago:20271122T120000
DTEND;TZID=America/Chicago:20271122T133000
DTSTAMP:20260424T113906
CREATED:20260107T025239Z
LAST-MODIFIED:20260107T030245Z
UID:10001611-1826884800-1826890200@www.111project.org
SUMMARY:Oklahoma County Together Virtual Community Gathering
DESCRIPTION:Register Here!\n\n\n\n\n\n\n\n\n\nJoin us for a collaboration of church and agency leaders in Oklahoma County connected through CarePortal with the mission of serving kids and families in our community! Community Gatherings are table conversations where we discuss open opportunities to serve\, ideas for deeper engagement and helpful connections and resourcing among friends.
URL:https://www.111project.org/activities/oklahoma-county-together-virtual-community-gathering/2027-11-22/
CATEGORIES:Community Gatherings
ATTACH;FMTTYPE=image/png:https://www.111project.org/wp-content/uploads/2026/01/Oklahoma.png
ORGANIZER;CN="111Project":MAILTO:info@111project.org
END:VEVENT
BEGIN:VEVENT
DTSTART;TZID=America/Chicago:20271124T100000
DTEND;TZID=America/Chicago:20271124T113000
DTSTAMP:20260424T113906
CREATED:20260107T030813Z
LAST-MODIFIED:20260107T030816Z
UID:10001671-1827050400-1827055800@www.111project.org
SUMMARY:Canadian County Virtual Community Gathering
DESCRIPTION:Register Here!\n\n\n\n\n\n\n\n\n\nJoin us for a collaboration of church and agency leaders in Canadian County connected through CarePortal with the mission of serving kids and families in our community! Community Gatherings are table conversations where we discuss open opportunities to serve\, ideas for deeper engagement and helpful connections and resourcing among friends.
URL:https://www.111project.org/activities/canadian-county-virtual-community-gathering-2/2027-11-24/
CATEGORIES:Community Gatherings
ATTACH;FMTTYPE=image/png:https://www.111project.org/wp-content/uploads/2026/01/Canadian.png
ORGANIZER;CN="111Project":MAILTO:info@111project.org
END:VEVENT
BEGIN:VEVENT
DTSTART;TZID=America/Chicago:20271221T120000
DTEND;TZID=America/Chicago:20271221T130000
DTSTAMP:20260424T113906
CREATED:20251230T231923Z
LAST-MODIFIED:20251230T231926Z
UID:10001484-1829390400-1829394000@www.111project.org
SUMMARY:Pittsburg County Community Gathering
DESCRIPTION:Register Here!\n\n\n\n\n\n\n\nHey\, all! Come join the OKDHS\, the Church\, and community members at the Pittsburg County Community Gathering\, where we celebrate what we have done\, discuss what is being done\, and plan what can be done to end the child welfare crisis in Pittsburg County.
URL:https://www.111project.org/activities/pittsburg-county-community-gathering-21/2027-12-21/
CATEGORIES:Community Gatherings
ATTACH;FMTTYPE=image/png:https://www.111project.org/wp-content/uploads/2025/08/Pittsburg-1.png
ORGANIZER;CN="111Project":MAILTO:info@111project.org
END:VEVENT
BEGIN:VEVENT
DTSTART;TZID=America/Chicago:20280118T120000
DTEND;TZID=America/Chicago:20280118T130000
DTSTAMP:20260424T113906
CREATED:20251230T231923Z
LAST-MODIFIED:20251230T231926Z
UID:10001485-1831809600-1831813200@www.111project.org
SUMMARY:Pittsburg County Community Gathering
DESCRIPTION:Register Here!\n\n\n\n\n\n\n\nHey\, all! Come join the OKDHS\, the Church\, and community members at the Pittsburg County Community Gathering\, where we celebrate what we have done\, discuss what is being done\, and plan what can be done to end the child welfare crisis in Pittsburg County.
URL:https://www.111project.org/activities/pittsburg-county-community-gathering-21/2028-01-18/
CATEGORIES:Community Gatherings
ATTACH;FMTTYPE=image/png:https://www.111project.org/wp-content/uploads/2025/08/Pittsburg-1.png
ORGANIZER;CN="111Project":MAILTO:info@111project.org
END:VEVENT
BEGIN:VEVENT
DTSTART;TZID=America/Chicago:20280124T120000
DTEND;TZID=America/Chicago:20280124T133000
DTSTAMP:20260424T113906
CREATED:20260107T025239Z
LAST-MODIFIED:20260107T030245Z
UID:10001612-1832328000-1832333400@www.111project.org
SUMMARY:Oklahoma County Together Virtual Community Gathering
DESCRIPTION:Register Here!\n\n\n\n\n\n\n\n\n\nJoin us for a collaboration of church and agency leaders in Oklahoma County connected through CarePortal with the mission of serving kids and families in our community! Community Gatherings are table conversations where we discuss open opportunities to serve\, ideas for deeper engagement and helpful connections and resourcing among friends.
URL:https://www.111project.org/activities/oklahoma-county-together-virtual-community-gathering/2028-01-24/
CATEGORIES:Community Gatherings
ATTACH;FMTTYPE=image/png:https://www.111project.org/wp-content/uploads/2026/01/Oklahoma.png
ORGANIZER;CN="111Project":MAILTO:info@111project.org
END:VEVENT
BEGIN:VEVENT
DTSTART;TZID=America/Chicago:20280126T100000
DTEND;TZID=America/Chicago:20280126T113000
DTSTAMP:20260424T113906
CREATED:20260107T030813Z
LAST-MODIFIED:20260107T030816Z
UID:10001672-1832493600-1832499000@www.111project.org
SUMMARY:Canadian County Virtual Community Gathering
DESCRIPTION:Register Here!\n\n\n\n\n\n\n\n\n\nJoin us for a collaboration of church and agency leaders in Canadian County connected through CarePortal with the mission of serving kids and families in our community! Community Gatherings are table conversations where we discuss open opportunities to serve\, ideas for deeper engagement and helpful connections and resourcing among friends.
URL:https://www.111project.org/activities/canadian-county-virtual-community-gathering-2/2028-01-26/
CATEGORIES:Community Gatherings
ATTACH;FMTTYPE=image/png:https://www.111project.org/wp-content/uploads/2026/01/Canadian.png
ORGANIZER;CN="111Project":MAILTO:info@111project.org
END:VEVENT
BEGIN:VEVENT
DTSTART;TZID=America/Chicago:20280215T120000
DTEND;TZID=America/Chicago:20280215T130000
DTSTAMP:20260424T113906
CREATED:20251230T231923Z
LAST-MODIFIED:20251230T231926Z
UID:10001486-1834228800-1834232400@www.111project.org
SUMMARY:Pittsburg County Community Gathering
DESCRIPTION:Register Here!\n\n\n\n\n\n\n\nHey\, all! Come join the OKDHS\, the Church\, and community members at the Pittsburg County Community Gathering\, where we celebrate what we have done\, discuss what is being done\, and plan what can be done to end the child welfare crisis in Pittsburg County.
URL:https://www.111project.org/activities/pittsburg-county-community-gathering-21/2028-02-15/
CATEGORIES:Community Gatherings
ATTACH;FMTTYPE=image/png:https://www.111project.org/wp-content/uploads/2025/08/Pittsburg-1.png
ORGANIZER;CN="111Project":MAILTO:info@111project.org
END:VEVENT
BEGIN:VEVENT
DTSTART;TZID=America/Chicago:20280321T120000
DTEND;TZID=America/Chicago:20280321T130000
DTSTAMP:20260424T113906
CREATED:20251230T231923Z
LAST-MODIFIED:20251230T231926Z
UID:10001487-1837252800-1837256400@www.111project.org
SUMMARY:Pittsburg County Community Gathering
DESCRIPTION:Register Here!\n\n\n\n\n\n\n\nHey\, all! Come join the OKDHS\, the Church\, and community members at the Pittsburg County Community Gathering\, where we celebrate what we have done\, discuss what is being done\, and plan what can be done to end the child welfare crisis in Pittsburg County.
URL:https://www.111project.org/activities/pittsburg-county-community-gathering-21/2028-03-21/
CATEGORIES:Community Gatherings
ATTACH;FMTTYPE=image/png:https://www.111project.org/wp-content/uploads/2025/08/Pittsburg-1.png
ORGANIZER;CN="111Project":MAILTO:info@111project.org
END:VEVENT
END:VCALENDAR