BEGIN:VCALENDAR
VERSION:2.0
PRODID:-//111Project.org - ECPv6.15.18//NONSGML v1.0//EN
CALSCALE:GREGORIAN
METHOD:PUBLISH
X-ORIGINAL-URL:https://www.111project.org
X-WR-CALDESC:Events for 111Project.org
REFRESH-INTERVAL;VALUE=DURATION:PT1H
X-Robots-Tag:noindex
X-PUBLISHED-TTL:PT1H
BEGIN:VTIMEZONE
TZID:America/Chicago
BEGIN:DAYLIGHT
TZOFFSETFROM:-0600
TZOFFSETTO:-0500
TZNAME:CDT
DTSTART:20260308T080000
END:DAYLIGHT
BEGIN:STANDARD
TZOFFSETFROM:-0500
TZOFFSETTO:-0600
TZNAME:CST
DTSTART:20261101T070000
END:STANDARD
BEGIN:DAYLIGHT
TZOFFSETFROM:-0600
TZOFFSETTO:-0500
TZNAME:CDT
DTSTART:20270314T080000
END:DAYLIGHT
BEGIN:STANDARD
TZOFFSETFROM:-0500
TZOFFSETTO:-0600
TZNAME:CST
DTSTART:20271107T070000
END:STANDARD
BEGIN:DAYLIGHT
TZOFFSETFROM:-0600
TZOFFSETTO:-0500
TZNAME:CDT
DTSTART:20280312T080000
END:DAYLIGHT
BEGIN:STANDARD
TZOFFSETFROM:-0500
TZOFFSETTO:-0600
TZNAME:CST
DTSTART:20281105T070000
END:STANDARD
BEGIN:DAYLIGHT
TZOFFSETFROM:-0600
TZOFFSETTO:-0500
TZNAME:CDT
DTSTART:20290311T080000
END:DAYLIGHT
BEGIN:STANDARD
TZOFFSETFROM:-0500
TZOFFSETTO:-0600
TZNAME:CST
DTSTART:20291104T070000
END:STANDARD
BEGIN:DAYLIGHT
TZOFFSETFROM:-0600
TZOFFSETTO:-0500
TZNAME:CDT
DTSTART:20300310T080000
END:DAYLIGHT
BEGIN:STANDARD
TZOFFSETFROM:-0500
TZOFFSETTO:-0600
TZNAME:CST
DTSTART:20301103T070000
END:STANDARD
END:VTIMEZONE
BEGIN:VEVENT
DTSTART;TZID=America/Chicago:20271221T120000
DTEND;TZID=America/Chicago:20271221T130000
DTSTAMP:20260424T143132
CREATED:20251230T231923Z
LAST-MODIFIED:20251230T231926Z
UID:10001484-1829390400-1829394000@www.111project.org
SUMMARY:Pittsburg County Community Gathering
DESCRIPTION:Register Here!\n\n\n\n\n\n\n\nHey\, all! Come join the OKDHS\, the Church\, and community members at the Pittsburg County Community Gathering\, where we celebrate what we have done\, discuss what is being done\, and plan what can be done to end the child welfare crisis in Pittsburg County.
URL:https://www.111project.org/activities/pittsburg-county-community-gathering-21/2027-12-21/
CATEGORIES:Community Gatherings
ATTACH;FMTTYPE=image/png:https://www.111project.org/wp-content/uploads/2025/08/Pittsburg-1.png
ORGANIZER;CN="111Project":MAILTO:info@111project.org
END:VEVENT
BEGIN:VEVENT
DTSTART;TZID=America/Chicago:20280118T120000
DTEND;TZID=America/Chicago:20280118T130000
DTSTAMP:20260424T143132
CREATED:20251230T231923Z
LAST-MODIFIED:20251230T231926Z
UID:10001485-1831809600-1831813200@www.111project.org
SUMMARY:Pittsburg County Community Gathering
DESCRIPTION:Register Here!\n\n\n\n\n\n\n\nHey\, all! Come join the OKDHS\, the Church\, and community members at the Pittsburg County Community Gathering\, where we celebrate what we have done\, discuss what is being done\, and plan what can be done to end the child welfare crisis in Pittsburg County.
URL:https://www.111project.org/activities/pittsburg-county-community-gathering-21/2028-01-18/
CATEGORIES:Community Gatherings
ATTACH;FMTTYPE=image/png:https://www.111project.org/wp-content/uploads/2025/08/Pittsburg-1.png
ORGANIZER;CN="111Project":MAILTO:info@111project.org
END:VEVENT
BEGIN:VEVENT
DTSTART;TZID=America/Chicago:20280124T120000
DTEND;TZID=America/Chicago:20280124T133000
DTSTAMP:20260424T143132
CREATED:20260107T025239Z
LAST-MODIFIED:20260107T030245Z
UID:10001612-1832328000-1832333400@www.111project.org
SUMMARY:Oklahoma County Together Virtual Community Gathering
DESCRIPTION:Register Here!\n\n\n\n\n\n\n\n\n\nJoin us for a collaboration of church and agency leaders in Oklahoma County connected through CarePortal with the mission of serving kids and families in our community! Community Gatherings are table conversations where we discuss open opportunities to serve\, ideas for deeper engagement and helpful connections and resourcing among friends.
URL:https://www.111project.org/activities/oklahoma-county-together-virtual-community-gathering/2028-01-24/
CATEGORIES:Community Gatherings
ATTACH;FMTTYPE=image/png:https://www.111project.org/wp-content/uploads/2026/01/Oklahoma.png
ORGANIZER;CN="111Project":MAILTO:info@111project.org
END:VEVENT
BEGIN:VEVENT
DTSTART;TZID=America/Chicago:20280126T100000
DTEND;TZID=America/Chicago:20280126T113000
DTSTAMP:20260424T143132
CREATED:20260107T030813Z
LAST-MODIFIED:20260107T030816Z
UID:10001672-1832493600-1832499000@www.111project.org
SUMMARY:Canadian County Virtual Community Gathering
DESCRIPTION:Register Here!\n\n\n\n\n\n\n\n\n\nJoin us for a collaboration of church and agency leaders in Canadian County connected through CarePortal with the mission of serving kids and families in our community! Community Gatherings are table conversations where we discuss open opportunities to serve\, ideas for deeper engagement and helpful connections and resourcing among friends.
URL:https://www.111project.org/activities/canadian-county-virtual-community-gathering-2/2028-01-26/
CATEGORIES:Community Gatherings
ATTACH;FMTTYPE=image/png:https://www.111project.org/wp-content/uploads/2026/01/Canadian.png
ORGANIZER;CN="111Project":MAILTO:info@111project.org
END:VEVENT
BEGIN:VEVENT
DTSTART;TZID=America/Chicago:20280215T120000
DTEND;TZID=America/Chicago:20280215T130000
DTSTAMP:20260424T143132
CREATED:20251230T231923Z
LAST-MODIFIED:20251230T231926Z
UID:10001486-1834228800-1834232400@www.111project.org
SUMMARY:Pittsburg County Community Gathering
DESCRIPTION:Register Here!\n\n\n\n\n\n\n\nHey\, all! Come join the OKDHS\, the Church\, and community members at the Pittsburg County Community Gathering\, where we celebrate what we have done\, discuss what is being done\, and plan what can be done to end the child welfare crisis in Pittsburg County.
URL:https://www.111project.org/activities/pittsburg-county-community-gathering-21/2028-02-15/
CATEGORIES:Community Gatherings
ATTACH;FMTTYPE=image/png:https://www.111project.org/wp-content/uploads/2025/08/Pittsburg-1.png
ORGANIZER;CN="111Project":MAILTO:info@111project.org
END:VEVENT
BEGIN:VEVENT
DTSTART;TZID=America/Chicago:20280321T120000
DTEND;TZID=America/Chicago:20280321T130000
DTSTAMP:20260424T143132
CREATED:20251230T231923Z
LAST-MODIFIED:20251230T231926Z
UID:10001487-1837252800-1837256400@www.111project.org
SUMMARY:Pittsburg County Community Gathering
DESCRIPTION:Register Here!\n\n\n\n\n\n\n\nHey\, all! Come join the OKDHS\, the Church\, and community members at the Pittsburg County Community Gathering\, where we celebrate what we have done\, discuss what is being done\, and plan what can be done to end the child welfare crisis in Pittsburg County.
URL:https://www.111project.org/activities/pittsburg-county-community-gathering-21/2028-03-21/
CATEGORIES:Community Gatherings
ATTACH;FMTTYPE=image/png:https://www.111project.org/wp-content/uploads/2025/08/Pittsburg-1.png
ORGANIZER;CN="111Project":MAILTO:info@111project.org
END:VEVENT
BEGIN:VEVENT
DTSTART;TZID=America/Chicago:20280322T100000
DTEND;TZID=America/Chicago:20280322T113000
DTSTAMP:20260424T143132
CREATED:20260107T030813Z
LAST-MODIFIED:20260107T030816Z
UID:10001673-1837332000-1837337400@www.111project.org
SUMMARY:Canadian County Virtual Community Gathering
DESCRIPTION:Register Here!\n\n\n\n\n\n\n\n\n\nJoin us for a collaboration of church and agency leaders in Canadian County connected through CarePortal with the mission of serving kids and families in our community! Community Gatherings are table conversations where we discuss open opportunities to serve\, ideas for deeper engagement and helpful connections and resourcing among friends.
URL:https://www.111project.org/activities/canadian-county-virtual-community-gathering-2/2028-03-22/
CATEGORIES:Community Gatherings
ATTACH;FMTTYPE=image/png:https://www.111project.org/wp-content/uploads/2026/01/Canadian.png
ORGANIZER;CN="111Project":MAILTO:info@111project.org
END:VEVENT
BEGIN:VEVENT
DTSTART;TZID=America/Chicago:20280327T120000
DTEND;TZID=America/Chicago:20280327T133000
DTSTAMP:20260424T143132
CREATED:20260107T025239Z
LAST-MODIFIED:20260107T030245Z
UID:10001613-1837771200-1837776600@www.111project.org
SUMMARY:Oklahoma County Together Virtual Community Gathering
DESCRIPTION:Register Here!\n\n\n\n\n\n\n\n\n\nJoin us for a collaboration of church and agency leaders in Oklahoma County connected through CarePortal with the mission of serving kids and families in our community! Community Gatherings are table conversations where we discuss open opportunities to serve\, ideas for deeper engagement and helpful connections and resourcing among friends.
URL:https://www.111project.org/activities/oklahoma-county-together-virtual-community-gathering/2028-03-27/
CATEGORIES:Community Gatherings
ATTACH;FMTTYPE=image/png:https://www.111project.org/wp-content/uploads/2026/01/Oklahoma.png
ORGANIZER;CN="111Project":MAILTO:info@111project.org
END:VEVENT
BEGIN:VEVENT
DTSTART;TZID=America/Chicago:20280418T120000
DTEND;TZID=America/Chicago:20280418T130000
DTSTAMP:20260424T143132
CREATED:20251230T231923Z
LAST-MODIFIED:20251230T231926Z
UID:10001488-1839672000-1839675600@www.111project.org
SUMMARY:Pittsburg County Community Gathering
DESCRIPTION:Register Here!\n\n\n\n\n\n\n\nHey\, all! Come join the OKDHS\, the Church\, and community members at the Pittsburg County Community Gathering\, where we celebrate what we have done\, discuss what is being done\, and plan what can be done to end the child welfare crisis in Pittsburg County.
URL:https://www.111project.org/activities/pittsburg-county-community-gathering-21/2028-04-18/
CATEGORIES:Community Gatherings
ATTACH;FMTTYPE=image/png:https://www.111project.org/wp-content/uploads/2025/08/Pittsburg-1.png
ORGANIZER;CN="111Project":MAILTO:info@111project.org
END:VEVENT
BEGIN:VEVENT
DTSTART;TZID=America/Chicago:20280516T120000
DTEND;TZID=America/Chicago:20280516T130000
DTSTAMP:20260424T143132
CREATED:20251230T231923Z
LAST-MODIFIED:20251230T231926Z
UID:10001489-1842091200-1842094800@www.111project.org
SUMMARY:Pittsburg County Community Gathering
DESCRIPTION:Register Here!\n\n\n\n\n\n\n\nHey\, all! Come join the OKDHS\, the Church\, and community members at the Pittsburg County Community Gathering\, where we celebrate what we have done\, discuss what is being done\, and plan what can be done to end the child welfare crisis in Pittsburg County.
URL:https://www.111project.org/activities/pittsburg-county-community-gathering-21/2028-05-16/
CATEGORIES:Community Gatherings
ATTACH;FMTTYPE=image/png:https://www.111project.org/wp-content/uploads/2025/08/Pittsburg-1.png
ORGANIZER;CN="111Project":MAILTO:info@111project.org
END:VEVENT
BEGIN:VEVENT
DTSTART;TZID=America/Chicago:20280522T120000
DTEND;TZID=America/Chicago:20280522T133000
DTSTAMP:20260424T143132
CREATED:20260107T025239Z
LAST-MODIFIED:20260107T030245Z
UID:10001614-1842609600-1842615000@www.111project.org
SUMMARY:Oklahoma County Together Virtual Community Gathering
DESCRIPTION:Register Here!\n\n\n\n\n\n\n\n\n\nJoin us for a collaboration of church and agency leaders in Oklahoma County connected through CarePortal with the mission of serving kids and families in our community! Community Gatherings are table conversations where we discuss open opportunities to serve\, ideas for deeper engagement and helpful connections and resourcing among friends.
URL:https://www.111project.org/activities/oklahoma-county-together-virtual-community-gathering/2028-05-22/
CATEGORIES:Community Gatherings
ATTACH;FMTTYPE=image/png:https://www.111project.org/wp-content/uploads/2026/01/Oklahoma.png
ORGANIZER;CN="111Project":MAILTO:info@111project.org
END:VEVENT
BEGIN:VEVENT
DTSTART;TZID=America/Chicago:20280524T100000
DTEND;TZID=America/Chicago:20280524T113000
DTSTAMP:20260424T143132
CREATED:20260107T030813Z
LAST-MODIFIED:20260107T030816Z
UID:10001674-1842775200-1842780600@www.111project.org
SUMMARY:Canadian County Virtual Community Gathering
DESCRIPTION:Register Here!\n\n\n\n\n\n\n\n\n\nJoin us for a collaboration of church and agency leaders in Canadian County connected through CarePortal with the mission of serving kids and families in our community! Community Gatherings are table conversations where we discuss open opportunities to serve\, ideas for deeper engagement and helpful connections and resourcing among friends.
URL:https://www.111project.org/activities/canadian-county-virtual-community-gathering-2/2028-05-24/
CATEGORIES:Community Gatherings
ATTACH;FMTTYPE=image/png:https://www.111project.org/wp-content/uploads/2026/01/Canadian.png
ORGANIZER;CN="111Project":MAILTO:info@111project.org
END:VEVENT
BEGIN:VEVENT
DTSTART;TZID=America/Chicago:20280620T120000
DTEND;TZID=America/Chicago:20280620T130000
DTSTAMP:20260424T143132
CREATED:20251230T231923Z
LAST-MODIFIED:20251230T231926Z
UID:10001490-1845115200-1845118800@www.111project.org
SUMMARY:Pittsburg County Community Gathering
DESCRIPTION:Register Here!\n\n\n\n\n\n\n\nHey\, all! Come join the OKDHS\, the Church\, and community members at the Pittsburg County Community Gathering\, where we celebrate what we have done\, discuss what is being done\, and plan what can be done to end the child welfare crisis in Pittsburg County.
URL:https://www.111project.org/activities/pittsburg-county-community-gathering-21/2028-06-20/
CATEGORIES:Community Gatherings
ATTACH;FMTTYPE=image/png:https://www.111project.org/wp-content/uploads/2025/08/Pittsburg-1.png
ORGANIZER;CN="111Project":MAILTO:info@111project.org
END:VEVENT
BEGIN:VEVENT
DTSTART;TZID=America/Chicago:20280718T120000
DTEND;TZID=America/Chicago:20280718T130000
DTSTAMP:20260424T143132
CREATED:20251230T231923Z
LAST-MODIFIED:20251230T231926Z
UID:10001491-1847534400-1847538000@www.111project.org
SUMMARY:Pittsburg County Community Gathering
DESCRIPTION:Register Here!\n\n\n\n\n\n\n\nHey\, all! Come join the OKDHS\, the Church\, and community members at the Pittsburg County Community Gathering\, where we celebrate what we have done\, discuss what is being done\, and plan what can be done to end the child welfare crisis in Pittsburg County.
URL:https://www.111project.org/activities/pittsburg-county-community-gathering-21/2028-07-18/
CATEGORIES:Community Gatherings
ATTACH;FMTTYPE=image/png:https://www.111project.org/wp-content/uploads/2025/08/Pittsburg-1.png
ORGANIZER;CN="111Project":MAILTO:info@111project.org
END:VEVENT
BEGIN:VEVENT
DTSTART;TZID=America/Chicago:20280724T120000
DTEND;TZID=America/Chicago:20280724T133000
DTSTAMP:20260424T143132
CREATED:20260107T025239Z
LAST-MODIFIED:20260107T030245Z
UID:10001615-1848052800-1848058200@www.111project.org
SUMMARY:Oklahoma County Together Virtual Community Gathering
DESCRIPTION:Register Here!\n\n\n\n\n\n\n\n\n\nJoin us for a collaboration of church and agency leaders in Oklahoma County connected through CarePortal with the mission of serving kids and families in our community! Community Gatherings are table conversations where we discuss open opportunities to serve\, ideas for deeper engagement and helpful connections and resourcing among friends.
URL:https://www.111project.org/activities/oklahoma-county-together-virtual-community-gathering/2028-07-24/
CATEGORIES:Community Gatherings
ATTACH;FMTTYPE=image/png:https://www.111project.org/wp-content/uploads/2026/01/Oklahoma.png
ORGANIZER;CN="111Project":MAILTO:info@111project.org
END:VEVENT
BEGIN:VEVENT
DTSTART;TZID=America/Chicago:20280726T100000
DTEND;TZID=America/Chicago:20280726T113000
DTSTAMP:20260424T143132
CREATED:20260107T030813Z
LAST-MODIFIED:20260107T030816Z
UID:10001675-1848218400-1848223800@www.111project.org
SUMMARY:Canadian County Virtual Community Gathering
DESCRIPTION:Register Here!\n\n\n\n\n\n\n\n\n\nJoin us for a collaboration of church and agency leaders in Canadian County connected through CarePortal with the mission of serving kids and families in our community! Community Gatherings are table conversations where we discuss open opportunities to serve\, ideas for deeper engagement and helpful connections and resourcing among friends.
URL:https://www.111project.org/activities/canadian-county-virtual-community-gathering-2/2028-07-26/
CATEGORIES:Community Gatherings
ATTACH;FMTTYPE=image/png:https://www.111project.org/wp-content/uploads/2026/01/Canadian.png
ORGANIZER;CN="111Project":MAILTO:info@111project.org
END:VEVENT
BEGIN:VEVENT
DTSTART;TZID=America/Chicago:20280815T120000
DTEND;TZID=America/Chicago:20280815T130000
DTSTAMP:20260424T143132
CREATED:20251230T231923Z
LAST-MODIFIED:20251230T231926Z
UID:10001492-1849953600-1849957200@www.111project.org
SUMMARY:Pittsburg County Community Gathering
DESCRIPTION:Register Here!\n\n\n\n\n\n\n\nHey\, all! Come join the OKDHS\, the Church\, and community members at the Pittsburg County Community Gathering\, where we celebrate what we have done\, discuss what is being done\, and plan what can be done to end the child welfare crisis in Pittsburg County.
URL:https://www.111project.org/activities/pittsburg-county-community-gathering-21/2028-08-15/
CATEGORIES:Community Gatherings
ATTACH;FMTTYPE=image/png:https://www.111project.org/wp-content/uploads/2025/08/Pittsburg-1.png
ORGANIZER;CN="111Project":MAILTO:info@111project.org
END:VEVENT
BEGIN:VEVENT
DTSTART;TZID=America/Chicago:20280919T120000
DTEND;TZID=America/Chicago:20280919T130000
DTSTAMP:20260424T143132
CREATED:20251230T231923Z
LAST-MODIFIED:20251230T231926Z
UID:10001493-1852977600-1852981200@www.111project.org
SUMMARY:Pittsburg County Community Gathering
DESCRIPTION:Register Here!\n\n\n\n\n\n\n\nHey\, all! Come join the OKDHS\, the Church\, and community members at the Pittsburg County Community Gathering\, where we celebrate what we have done\, discuss what is being done\, and plan what can be done to end the child welfare crisis in Pittsburg County.
URL:https://www.111project.org/activities/pittsburg-county-community-gathering-21/2028-09-19/
CATEGORIES:Community Gatherings
ATTACH;FMTTYPE=image/png:https://www.111project.org/wp-content/uploads/2025/08/Pittsburg-1.png
ORGANIZER;CN="111Project":MAILTO:info@111project.org
END:VEVENT
BEGIN:VEVENT
DTSTART;TZID=America/Chicago:20280925T120000
DTEND;TZID=America/Chicago:20280925T133000
DTSTAMP:20260424T143132
CREATED:20260107T025239Z
LAST-MODIFIED:20260107T030245Z
UID:10001616-1853496000-1853501400@www.111project.org
SUMMARY:Oklahoma County Together Virtual Community Gathering
DESCRIPTION:Register Here!\n\n\n\n\n\n\n\n\n\nJoin us for a collaboration of church and agency leaders in Oklahoma County connected through CarePortal with the mission of serving kids and families in our community! Community Gatherings are table conversations where we discuss open opportunities to serve\, ideas for deeper engagement and helpful connections and resourcing among friends.
URL:https://www.111project.org/activities/oklahoma-county-together-virtual-community-gathering/2028-09-25/
CATEGORIES:Community Gatherings
ATTACH;FMTTYPE=image/png:https://www.111project.org/wp-content/uploads/2026/01/Oklahoma.png
ORGANIZER;CN="111Project":MAILTO:info@111project.org
END:VEVENT
BEGIN:VEVENT
DTSTART;TZID=America/Chicago:20280927T100000
DTEND;TZID=America/Chicago:20280927T113000
DTSTAMP:20260424T143132
CREATED:20260107T030813Z
LAST-MODIFIED:20260107T030816Z
UID:10001676-1853661600-1853667000@www.111project.org
SUMMARY:Canadian County Virtual Community Gathering
DESCRIPTION:Register Here!\n\n\n\n\n\n\n\n\n\nJoin us for a collaboration of church and agency leaders in Canadian County connected through CarePortal with the mission of serving kids and families in our community! Community Gatherings are table conversations where we discuss open opportunities to serve\, ideas for deeper engagement and helpful connections and resourcing among friends.
URL:https://www.111project.org/activities/canadian-county-virtual-community-gathering-2/2028-09-27/
CATEGORIES:Community Gatherings
ATTACH;FMTTYPE=image/png:https://www.111project.org/wp-content/uploads/2026/01/Canadian.png
ORGANIZER;CN="111Project":MAILTO:info@111project.org
END:VEVENT
BEGIN:VEVENT
DTSTART;TZID=America/Chicago:20281017T120000
DTEND;TZID=America/Chicago:20281017T130000
DTSTAMP:20260424T143132
CREATED:20251230T231923Z
LAST-MODIFIED:20251230T231926Z
UID:10001494-1855396800-1855400400@www.111project.org
SUMMARY:Pittsburg County Community Gathering
DESCRIPTION:Register Here!\n\n\n\n\n\n\n\nHey\, all! Come join the OKDHS\, the Church\, and community members at the Pittsburg County Community Gathering\, where we celebrate what we have done\, discuss what is being done\, and plan what can be done to end the child welfare crisis in Pittsburg County.
URL:https://www.111project.org/activities/pittsburg-county-community-gathering-21/2028-10-17/
CATEGORIES:Community Gatherings
ATTACH;FMTTYPE=image/png:https://www.111project.org/wp-content/uploads/2025/08/Pittsburg-1.png
ORGANIZER;CN="111Project":MAILTO:info@111project.org
END:VEVENT
BEGIN:VEVENT
DTSTART;TZID=America/Chicago:20281121T120000
DTEND;TZID=America/Chicago:20281121T130000
DTSTAMP:20260424T143132
CREATED:20251230T231923Z
LAST-MODIFIED:20251230T231926Z
UID:10001495-1858420800-1858424400@www.111project.org
SUMMARY:Pittsburg County Community Gathering
DESCRIPTION:Register Here!\n\n\n\n\n\n\n\nHey\, all! Come join the OKDHS\, the Church\, and community members at the Pittsburg County Community Gathering\, where we celebrate what we have done\, discuss what is being done\, and plan what can be done to end the child welfare crisis in Pittsburg County.
URL:https://www.111project.org/activities/pittsburg-county-community-gathering-21/2028-11-21/
CATEGORIES:Community Gatherings
ATTACH;FMTTYPE=image/png:https://www.111project.org/wp-content/uploads/2025/08/Pittsburg-1.png
ORGANIZER;CN="111Project":MAILTO:info@111project.org
END:VEVENT
BEGIN:VEVENT
DTSTART;TZID=America/Chicago:20281122T100000
DTEND;TZID=America/Chicago:20281122T113000
DTSTAMP:20260424T143132
CREATED:20260107T030813Z
LAST-MODIFIED:20260107T030816Z
UID:10001677-1858500000-1858505400@www.111project.org
SUMMARY:Canadian County Virtual Community Gathering
DESCRIPTION:Register Here!\n\n\n\n\n\n\n\n\n\nJoin us for a collaboration of church and agency leaders in Canadian County connected through CarePortal with the mission of serving kids and families in our community! Community Gatherings are table conversations where we discuss open opportunities to serve\, ideas for deeper engagement and helpful connections and resourcing among friends.
URL:https://www.111project.org/activities/canadian-county-virtual-community-gathering-2/2028-11-22/
CATEGORIES:Community Gatherings
ATTACH;FMTTYPE=image/png:https://www.111project.org/wp-content/uploads/2026/01/Canadian.png
ORGANIZER;CN="111Project":MAILTO:info@111project.org
END:VEVENT
BEGIN:VEVENT
DTSTART;TZID=America/Chicago:20281127T120000
DTEND;TZID=America/Chicago:20281127T133000
DTSTAMP:20260424T143132
CREATED:20260107T025239Z
LAST-MODIFIED:20260107T030245Z
UID:10001617-1858939200-1858944600@www.111project.org
SUMMARY:Oklahoma County Together Virtual Community Gathering
DESCRIPTION:Register Here!\n\n\n\n\n\n\n\n\n\nJoin us for a collaboration of church and agency leaders in Oklahoma County connected through CarePortal with the mission of serving kids and families in our community! Community Gatherings are table conversations where we discuss open opportunities to serve\, ideas for deeper engagement and helpful connections and resourcing among friends.
URL:https://www.111project.org/activities/oklahoma-county-together-virtual-community-gathering/2028-11-27/
CATEGORIES:Community Gatherings
ATTACH;FMTTYPE=image/png:https://www.111project.org/wp-content/uploads/2026/01/Oklahoma.png
ORGANIZER;CN="111Project":MAILTO:info@111project.org
END:VEVENT
BEGIN:VEVENT
DTSTART;TZID=America/Chicago:20281219T120000
DTEND;TZID=America/Chicago:20281219T130000
DTSTAMP:20260424T143132
CREATED:20251230T231923Z
LAST-MODIFIED:20251230T231926Z
UID:10001496-1860840000-1860843600@www.111project.org
SUMMARY:Pittsburg County Community Gathering
DESCRIPTION:Register Here!\n\n\n\n\n\n\n\nHey\, all! Come join the OKDHS\, the Church\, and community members at the Pittsburg County Community Gathering\, where we celebrate what we have done\, discuss what is being done\, and plan what can be done to end the child welfare crisis in Pittsburg County.
URL:https://www.111project.org/activities/pittsburg-county-community-gathering-21/2028-12-19/
CATEGORIES:Community Gatherings
ATTACH;FMTTYPE=image/png:https://www.111project.org/wp-content/uploads/2025/08/Pittsburg-1.png
ORGANIZER;CN="111Project":MAILTO:info@111project.org
END:VEVENT
BEGIN:VEVENT
DTSTART;TZID=America/Chicago:20290116T120000
DTEND;TZID=America/Chicago:20290116T130000
DTSTAMP:20260424T143132
CREATED:20251230T231923Z
LAST-MODIFIED:20251230T231926Z
UID:10001497-1863259200-1863262800@www.111project.org
SUMMARY:Pittsburg County Community Gathering
DESCRIPTION:Register Here!\n\n\n\n\n\n\n\nHey\, all! Come join the OKDHS\, the Church\, and community members at the Pittsburg County Community Gathering\, where we celebrate what we have done\, discuss what is being done\, and plan what can be done to end the child welfare crisis in Pittsburg County.
URL:https://www.111project.org/activities/pittsburg-county-community-gathering-21/2029-01-16/
CATEGORIES:Community Gatherings
ATTACH;FMTTYPE=image/png:https://www.111project.org/wp-content/uploads/2025/08/Pittsburg-1.png
ORGANIZER;CN="111Project":MAILTO:info@111project.org
END:VEVENT
BEGIN:VEVENT
DTSTART;TZID=America/Chicago:20290122T120000
DTEND;TZID=America/Chicago:20290122T133000
DTSTAMP:20260424T143132
CREATED:20260107T025239Z
LAST-MODIFIED:20260107T030245Z
UID:10001618-1863777600-1863783000@www.111project.org
SUMMARY:Oklahoma County Together Virtual Community Gathering
DESCRIPTION:Register Here!\n\n\n\n\n\n\n\n\n\nJoin us for a collaboration of church and agency leaders in Oklahoma County connected through CarePortal with the mission of serving kids and families in our community! Community Gatherings are table conversations where we discuss open opportunities to serve\, ideas for deeper engagement and helpful connections and resourcing among friends.
URL:https://www.111project.org/activities/oklahoma-county-together-virtual-community-gathering/2029-01-22/
CATEGORIES:Community Gatherings
ATTACH;FMTTYPE=image/png:https://www.111project.org/wp-content/uploads/2026/01/Oklahoma.png
ORGANIZER;CN="111Project":MAILTO:info@111project.org
END:VEVENT
BEGIN:VEVENT
DTSTART;TZID=America/Chicago:20290124T100000
DTEND;TZID=America/Chicago:20290124T113000
DTSTAMP:20260424T143132
CREATED:20260107T030813Z
LAST-MODIFIED:20260107T030816Z
UID:10001678-1863943200-1863948600@www.111project.org
SUMMARY:Canadian County Virtual Community Gathering
DESCRIPTION:Register Here!\n\n\n\n\n\n\n\n\n\nJoin us for a collaboration of church and agency leaders in Canadian County connected through CarePortal with the mission of serving kids and families in our community! Community Gatherings are table conversations where we discuss open opportunities to serve\, ideas for deeper engagement and helpful connections and resourcing among friends.
URL:https://www.111project.org/activities/canadian-county-virtual-community-gathering-2/2029-01-24/
CATEGORIES:Community Gatherings
ATTACH;FMTTYPE=image/png:https://www.111project.org/wp-content/uploads/2026/01/Canadian.png
ORGANIZER;CN="111Project":MAILTO:info@111project.org
END:VEVENT
BEGIN:VEVENT
DTSTART;TZID=America/Chicago:20290220T120000
DTEND;TZID=America/Chicago:20290220T130000
DTSTAMP:20260424T143132
CREATED:20251230T231923Z
LAST-MODIFIED:20251230T231926Z
UID:10001498-1866283200-1866286800@www.111project.org
SUMMARY:Pittsburg County Community Gathering
DESCRIPTION:Register Here!\n\n\n\n\n\n\n\nHey\, all! Come join the OKDHS\, the Church\, and community members at the Pittsburg County Community Gathering\, where we celebrate what we have done\, discuss what is being done\, and plan what can be done to end the child welfare crisis in Pittsburg County.
URL:https://www.111project.org/activities/pittsburg-county-community-gathering-21/2029-02-20/
CATEGORIES:Community Gatherings
ATTACH;FMTTYPE=image/png:https://www.111project.org/wp-content/uploads/2025/08/Pittsburg-1.png
ORGANIZER;CN="111Project":MAILTO:info@111project.org
END:VEVENT
BEGIN:VEVENT
DTSTART;TZID=America/Chicago:20290320T120000
DTEND;TZID=America/Chicago:20290320T130000
DTSTAMP:20260424T143132
CREATED:20251230T231923Z
LAST-MODIFIED:20251230T231926Z
UID:10001499-1868702400-1868706000@www.111project.org
SUMMARY:Pittsburg County Community Gathering
DESCRIPTION:Register Here!\n\n\n\n\n\n\n\nHey\, all! Come join the OKDHS\, the Church\, and community members at the Pittsburg County Community Gathering\, where we celebrate what we have done\, discuss what is being done\, and plan what can be done to end the child welfare crisis in Pittsburg County.
URL:https://www.111project.org/activities/pittsburg-county-community-gathering-21/2029-03-20/
CATEGORIES:Community Gatherings
ATTACH;FMTTYPE=image/png:https://www.111project.org/wp-content/uploads/2025/08/Pittsburg-1.png
ORGANIZER;CN="111Project":MAILTO:info@111project.org
END:VEVENT
END:VCALENDAR