BEGIN:VCALENDAR
VERSION:2.0
PRODID:-//111Project.org - ECPv6.15.18//NONSGML v1.0//EN
CALSCALE:GREGORIAN
METHOD:PUBLISH
X-WR-CALNAME:111Project.org
X-ORIGINAL-URL:https://www.111project.org
X-WR-CALDESC:Events for 111Project.org
REFRESH-INTERVAL;VALUE=DURATION:PT1H
X-Robots-Tag:noindex
X-PUBLISHED-TTL:PT1H
BEGIN:VTIMEZONE
TZID:America/Chicago
BEGIN:DAYLIGHT
TZOFFSETFROM:-0600
TZOFFSETTO:-0500
TZNAME:CDT
DTSTART:20250309T080000
END:DAYLIGHT
BEGIN:STANDARD
TZOFFSETFROM:-0500
TZOFFSETTO:-0600
TZNAME:CST
DTSTART:20251102T070000
END:STANDARD
BEGIN:DAYLIGHT
TZOFFSETFROM:-0600
TZOFFSETTO:-0500
TZNAME:CDT
DTSTART:20260308T080000
END:DAYLIGHT
BEGIN:STANDARD
TZOFFSETFROM:-0500
TZOFFSETTO:-0600
TZNAME:CST
DTSTART:20261101T070000
END:STANDARD
BEGIN:DAYLIGHT
TZOFFSETFROM:-0600
TZOFFSETTO:-0500
TZNAME:CDT
DTSTART:20270314T080000
END:DAYLIGHT
BEGIN:STANDARD
TZOFFSETFROM:-0500
TZOFFSETTO:-0600
TZNAME:CST
DTSTART:20271107T070000
END:STANDARD
END:VTIMEZONE
BEGIN:VEVENT
DTSTART;TZID=America/Chicago:20260212T100000
DTEND;TZID=America/Chicago:20260212T120000
DTSTAMP:20260424T084435
CREATED:20260129T154407Z
LAST-MODIFIED:20260129T154412Z
UID:10001853-1770890400-1770897600@www.111project.org
SUMMARY:Faith to Action Initiative Roundtable
DESCRIPTION:Roundtable discussion with Oklahoma church leaders to help shape the future of how American Christians respond to the needs of the most vulnerable children and families around the world.
URL:https://www.111project.org/activities/faith-to-action-initiative-roundtable/
LOCATION:421 NW 23rd St\, Oklahoma City\, OK 73103\, 421 NW 23rd St\, Oklahoma City\, OK 73103
END:VEVENT
BEGIN:VEVENT
DTSTART;TZID=America/Chicago:20260129T130000
DTEND;TZID=America/Chicago:20260129T150000
DTSTAMP:20260424T084435
CREATED:20260213T020550Z
LAST-MODIFIED:20260129T160049Z
UID:10001854-1769691600-1769698800@www.111project.org
SUMMARY:Faith to Action Initiative Roundtable
DESCRIPTION:Roundtable discussion with Oklahoma church leaders to help shape the future of how American Christians respond to the needs of the most vulnerable children and families around the world.
URL:https://www.111project.org/activities/faith-to-action/
LOCATION:421 NW 23rd St\, Oklahoma City\, OK 73103\, 421 NW 23rd St\, Oklahoma City\, OK 73103
END:VEVENT
END:VCALENDAR