BEGIN:VCALENDAR
VERSION:2.0
PRODID:-//111Project.org - ECPv6.15.18//NONSGML v1.0//EN
CALSCALE:GREGORIAN
METHOD:PUBLISH
X-ORIGINAL-URL:https://www.111project.org
X-WR-CALDESC:Events for 111Project.org
REFRESH-INTERVAL;VALUE=DURATION:PT1H
X-Robots-Tag:noindex
X-PUBLISHED-TTL:PT1H
BEGIN:VTIMEZONE
TZID:America/Chicago
BEGIN:DAYLIGHT
TZOFFSETFROM:-0600
TZOFFSETTO:-0500
TZNAME:CDT
DTSTART:20250309T080000
END:DAYLIGHT
BEGIN:STANDARD
TZOFFSETFROM:-0500
TZOFFSETTO:-0600
TZNAME:CST
DTSTART:20251102T070000
END:STANDARD
BEGIN:DAYLIGHT
TZOFFSETFROM:-0600
TZOFFSETTO:-0500
TZNAME:CDT
DTSTART:20260308T080000
END:DAYLIGHT
BEGIN:STANDARD
TZOFFSETFROM:-0500
TZOFFSETTO:-0600
TZNAME:CST
DTSTART:20261101T070000
END:STANDARD
BEGIN:DAYLIGHT
TZOFFSETFROM:-0600
TZOFFSETTO:-0500
TZNAME:CDT
DTSTART:20270314T080000
END:DAYLIGHT
BEGIN:STANDARD
TZOFFSETFROM:-0500
TZOFFSETTO:-0600
TZNAME:CST
DTSTART:20271107T070000
END:STANDARD
END:VTIMEZONE
BEGIN:VEVENT
DTSTART;TZID=America/Chicago:20260910T133000
DTEND;TZID=America/Chicago:20260910T150000
DTSTAMP:20260424T102941
CREATED:20260215T175022Z
LAST-MODIFIED:20260215T175025Z
UID:10001938-1789047000-1789052400@www.111project.org
SUMMARY:Delaware County Community Gathering
DESCRIPTION:Join local Church and Community Leaders with a heart for children and families! This will be a time of community collaboration\, as we work to come up with solutions and next steps! Invite someone you would like to see at the table! We hope to see you there! 
URL:https://www.111project.org/activities/delaware-county-community-gathering-7/
LOCATION:Fire and Ice- Fireplace and Ice Cream Shop\, 4601 US-59\, Grove\, Oklahoma\, United States
CATEGORIES:Community Gatherings
ATTACH;FMTTYPE=image/jpeg:https://www.111project.org/wp-content/uploads/2026/02/Delaware-1.jpg
END:VEVENT
END:VCALENDAR