BEGIN:VCALENDAR
VERSION:2.0
PRODID:-//111Project.org - ECPv6.15.18//NONSGML v1.0//EN
CALSCALE:GREGORIAN
METHOD:PUBLISH
X-ORIGINAL-URL:https://www.111project.org
X-WR-CALDESC:Events for 111Project.org
REFRESH-INTERVAL;VALUE=DURATION:PT1H
X-Robots-Tag:noindex
X-PUBLISHED-TTL:PT1H
BEGIN:VTIMEZONE
TZID:America/Chicago
BEGIN:DAYLIGHT
TZOFFSETFROM:-0600
TZOFFSETTO:-0500
TZNAME:CDT
DTSTART:20250309T080000
END:DAYLIGHT
BEGIN:STANDARD
TZOFFSETFROM:-0500
TZOFFSETTO:-0600
TZNAME:CST
DTSTART:20251102T070000
END:STANDARD
BEGIN:DAYLIGHT
TZOFFSETFROM:-0600
TZOFFSETTO:-0500
TZNAME:CDT
DTSTART:20260308T080000
END:DAYLIGHT
BEGIN:STANDARD
TZOFFSETFROM:-0500
TZOFFSETTO:-0600
TZNAME:CST
DTSTART:20261101T070000
END:STANDARD
BEGIN:DAYLIGHT
TZOFFSETFROM:-0600
TZOFFSETTO:-0500
TZNAME:CDT
DTSTART:20270314T080000
END:DAYLIGHT
BEGIN:STANDARD
TZOFFSETFROM:-0500
TZOFFSETTO:-0600
TZNAME:CST
DTSTART:20271107T070000
END:STANDARD
END:VTIMEZONE
BEGIN:VEVENT
DTSTART;TZID=America/Chicago:20260205T130000
DTEND;TZID=America/Chicago:20260205T143000
DTSTAMP:20260424T104950
CREATED:20251229T210355Z
LAST-MODIFIED:20260127T214446Z
UID:10001448-1770296400-1770301800@www.111project.org
SUMMARY:Tulsa County Community Gathering
DESCRIPTION:Join us for our first community gathering of 2025! Connect with local church and community leaders who share a passion for children and family well-being.\nWe will pray\, pursue\, and work toward local solutions while making meaningful connections that last.
URL:https://www.111project.org/activities/tulsa-county-community-gathering-16/
LOCATION:Hope Fellowship Church Tulsa  4803 S Lewis Ave. Tulsa\, OK 74105\, 4803 S Lewis Ave\, Tulsa\, Oklahoma\, 74105
CATEGORIES:Community Gatherings
ATTACH;FMTTYPE=image/png:https://www.111project.org/wp-content/uploads/2025/12/Copy-of-Community-Gathering-Template-e1768335412404.png
ORGANIZER;CN="111Project":MAILTO:info@111project.org
END:VEVENT
END:VCALENDAR