BEGIN:VCALENDAR
VERSION:2.0
PRODID:-//111Project.org - ECPv6.15.18//NONSGML v1.0//EN
CALSCALE:GREGORIAN
METHOD:PUBLISH
X-WR-CALNAME:111Project.org
X-ORIGINAL-URL:https://www.111project.org
X-WR-CALDESC:Events for 111Project.org
REFRESH-INTERVAL;VALUE=DURATION:PT1H
X-Robots-Tag:noindex
X-PUBLISHED-TTL:PT1H
BEGIN:VTIMEZONE
TZID:America/Chicago
BEGIN:DAYLIGHT
TZOFFSETFROM:-0600
TZOFFSETTO:-0500
TZNAME:CDT
DTSTART:20250309T080000
END:DAYLIGHT
BEGIN:STANDARD
TZOFFSETFROM:-0500
TZOFFSETTO:-0600
TZNAME:CST
DTSTART:20251102T070000
END:STANDARD
BEGIN:DAYLIGHT
TZOFFSETFROM:-0600
TZOFFSETTO:-0500
TZNAME:CDT
DTSTART:20260308T080000
END:DAYLIGHT
BEGIN:STANDARD
TZOFFSETFROM:-0500
TZOFFSETTO:-0600
TZNAME:CST
DTSTART:20261101T070000
END:STANDARD
BEGIN:DAYLIGHT
TZOFFSETFROM:-0600
TZOFFSETTO:-0500
TZNAME:CDT
DTSTART:20270314T080000
END:DAYLIGHT
BEGIN:STANDARD
TZOFFSETFROM:-0500
TZOFFSETTO:-0600
TZNAME:CST
DTSTART:20271107T070000
END:STANDARD
END:VTIMEZONE
BEGIN:VEVENT
DTSTART;TZID=America/Chicago:20260428T120000
DTEND;TZID=America/Chicago:20260428T130000
DTSTAMP:20260424T041749
CREATED:20260415T170642Z
LAST-MODIFIED:20260415T171059Z
UID:10002090-1777377600-1777381200@www.111project.org
SUMMARY:Kay County Community Gathering
DESCRIPTION:Register Here!\n\n\n\nJoin us for our next Community Gathering with DHS\, local church leaders\, and other agency and community members with a heart for child and family welfare. We will discuss local resources and needs including CarePortal. Food will be provided. 
URL:https://www.111project.org/activities/kay-county-community-gathering-4/
LOCATION:Immanuel Baptist Church\, 1600 S 13th St\, Blackwell\, Oklahoma\, 74631
CATEGORIES:Community Gatherings
ORGANIZER;CN="111Project":MAILTO:info@111project.org
END:VEVENT
END:VCALENDAR