BEGIN:VCALENDAR
VERSION:2.0
PRODID:-//111Project.org - ECPv6.15.18//NONSGML v1.0//EN
CALSCALE:GREGORIAN
METHOD:PUBLISH
X-WR-CALNAME:111Project.org
X-ORIGINAL-URL:https://www.111project.org
X-WR-CALDESC:Events for 111Project.org
REFRESH-INTERVAL;VALUE=DURATION:PT1H
X-Robots-Tag:noindex
X-PUBLISHED-TTL:PT1H
BEGIN:VTIMEZONE
TZID:America/Chicago
BEGIN:DAYLIGHT
TZOFFSETFROM:-0600
TZOFFSETTO:-0500
TZNAME:CDT
DTSTART:20250309T080000
END:DAYLIGHT
BEGIN:STANDARD
TZOFFSETFROM:-0500
TZOFFSETTO:-0600
TZNAME:CST
DTSTART:20251102T070000
END:STANDARD
BEGIN:DAYLIGHT
TZOFFSETFROM:-0600
TZOFFSETTO:-0500
TZNAME:CDT
DTSTART:20260308T080000
END:DAYLIGHT
BEGIN:STANDARD
TZOFFSETFROM:-0500
TZOFFSETTO:-0600
TZNAME:CST
DTSTART:20261101T070000
END:STANDARD
BEGIN:DAYLIGHT
TZOFFSETFROM:-0600
TZOFFSETTO:-0500
TZNAME:CDT
DTSTART:20270314T080000
END:DAYLIGHT
BEGIN:STANDARD
TZOFFSETFROM:-0500
TZOFFSETTO:-0600
TZNAME:CST
DTSTART:20271107T070000
END:STANDARD
END:VTIMEZONE
BEGIN:VEVENT
DTSTART;TZID=America/Chicago:20260507T090000
DTEND;TZID=America/Chicago:20260507T101500
DTSTAMP:20260424T054951
CREATED:20260106T212718Z
LAST-MODIFIED:20260106T212721Z
UID:10001574-1778144400-1778148900@www.111project.org
SUMMARY:Sequoyah County Community Gathering
DESCRIPTION:What is a Community Gathering? \n\n\n\nIn the simplest terms\, this is where you get to hear about what is happening in your community at a very local level and how you can be involved.  \n\n\n\nThese are regular meetings of church and agency leaders\, as well as community members\, who collaborate to support and advocate for children and families\, particularly through the CarePortal. \n\n\n\nThese gatherings provide a platform for sharing stories (both the good and the challenging)\, discussing local needs\, collaborating on resources\, developing strategies for family support\, and planning future actions for vulnerable children and families within each specific geographic community.
URL:https://www.111project.org/activities/sequoyah-county-community-gathering-5/
LOCATION:OKDHS OFFICE: 502 George Glenn Blvd\, Sallisaw\, OK 74955
CATEGORIES:Community Gatherings
ATTACH;FMTTYPE=image/png:https://www.111project.org/wp-content/uploads/2026/01/Sequoyah.png
END:VEVENT
BEGIN:VEVENT
DTSTART;TZID=America/Chicago:20260702T090000
DTEND;TZID=America/Chicago:20260702T101500
DTSTAMP:20260424T054951
CREATED:20260106T212803Z
LAST-MODIFIED:20260106T212806Z
UID:10001575-1782982800-1782987300@www.111project.org
SUMMARY:Sequoyah County Community Gathering
DESCRIPTION:What is a Community Gathering? \n\n\n\nIn the simplest terms\, this is where you get to hear about what is happening in your community at a very local level and how you can be involved.  \n\n\n\nThese are regular meetings of church and agency leaders\, as well as community members\, who collaborate to support and advocate for children and families\, particularly through the CarePortal. \n\n\n\nThese gatherings provide a platform for sharing stories (both the good and the challenging)\, discussing local needs\, collaborating on resources\, developing strategies for family support\, and planning future actions for vulnerable children and families within each specific geographic community.
URL:https://www.111project.org/activities/sequoyah-county-community-gathering-6/
LOCATION:OKDHS OFFICE: 502 George Glenn Blvd\, Sallisaw\, OK 74955
CATEGORIES:Community Gatherings
ATTACH;FMTTYPE=image/png:https://www.111project.org/wp-content/uploads/2026/01/Sequoyah.png
END:VEVENT
BEGIN:VEVENT
DTSTART;TZID=America/Chicago:20260806T090000
DTEND;TZID=America/Chicago:20260806T101500
DTSTAMP:20260424T054951
CREATED:20260106T212848Z
LAST-MODIFIED:20260106T212851Z
UID:10001576-1786006800-1786011300@www.111project.org
SUMMARY:Sequoyah County Community Gathering
DESCRIPTION:What is a Community Gathering? \n\n\n\nIn the simplest terms\, this is where you get to hear about what is happening in your community at a very local level and how you can be involved.  \n\n\n\nThese are regular meetings of church and agency leaders\, as well as community members\, who collaborate to support and advocate for children and families\, particularly through the CarePortal. \n\n\n\nThese gatherings provide a platform for sharing stories (both the good and the challenging)\, discussing local needs\, collaborating on resources\, developing strategies for family support\, and planning future actions for vulnerable children and families within each specific geographic community.
URL:https://www.111project.org/activities/sequoyah-county-community-gathering-7/
LOCATION:OKDHS OFFICE: 502 George Glenn Blvd\, Sallisaw\, OK 74955
CATEGORIES:Community Gatherings
ATTACH;FMTTYPE=image/png:https://www.111project.org/wp-content/uploads/2026/01/Sequoyah.png
END:VEVENT
BEGIN:VEVENT
DTSTART;TZID=America/Chicago:20260903T090000
DTEND;TZID=America/Chicago:20260903T101500
DTSTAMP:20260424T054951
CREATED:20260106T212932Z
LAST-MODIFIED:20260106T212934Z
UID:10001577-1788426000-1788430500@www.111project.org
SUMMARY:Sequoyah County Community Gathering
DESCRIPTION:What is a Community Gathering? \n\n\n\nIn the simplest terms\, this is where you get to hear about what is happening in your community at a very local level and how you can be involved.  \n\n\n\nThese are regular meetings of church and agency leaders\, as well as community members\, who collaborate to support and advocate for children and families\, particularly through the CarePortal. \n\n\n\nThese gatherings provide a platform for sharing stories (both the good and the challenging)\, discussing local needs\, collaborating on resources\, developing strategies for family support\, and planning future actions for vulnerable children and families within each specific geographic community.
URL:https://www.111project.org/activities/sequoyah-county-community-gathering-8/
LOCATION:OKDHS OFFICE: 502 George Glenn Blvd\, Sallisaw\, OK 74955
CATEGORIES:Community Gatherings
ATTACH;FMTTYPE=image/png:https://www.111project.org/wp-content/uploads/2026/01/Sequoyah.png
END:VEVENT
BEGIN:VEVENT
DTSTART;TZID=America/Chicago:20261001T090000
DTEND;TZID=America/Chicago:20261001T101500
DTSTAMP:20260424T054951
CREATED:20260106T213009Z
LAST-MODIFIED:20260106T213012Z
UID:10001578-1790845200-1790849700@www.111project.org
SUMMARY:Sequoyah County Community Gathering
DESCRIPTION:What is a Community Gathering? \n\n\n\nIn the simplest terms\, this is where you get to hear about what is happening in your community at a very local level and how you can be involved.  \n\n\n\nThese are regular meetings of church and agency leaders\, as well as community members\, who collaborate to support and advocate for children and families\, particularly through the CarePortal. \n\n\n\nThese gatherings provide a platform for sharing stories (both the good and the challenging)\, discussing local needs\, collaborating on resources\, developing strategies for family support\, and planning future actions for vulnerable children and families within each specific geographic community.
URL:https://www.111project.org/activities/sequoyah-county-community-gathering-9/
LOCATION:OKDHS OFFICE: 502 George Glenn Blvd\, Sallisaw\, OK 74955
CATEGORIES:Community Gatherings
ATTACH;FMTTYPE=image/png:https://www.111project.org/wp-content/uploads/2026/01/Sequoyah.png
END:VEVENT
BEGIN:VEVENT
DTSTART;TZID=America/Chicago:20261105T090000
DTEND;TZID=America/Chicago:20261105T101500
DTSTAMP:20260424T054951
CREATED:20260106T213100Z
LAST-MODIFIED:20260106T213104Z
UID:10001579-1793869200-1793873700@www.111project.org
SUMMARY:Sequoyah County Community Gathering
DESCRIPTION:What is a Community Gathering? \n\n\n\nIn the simplest terms\, this is where you get to hear about what is happening in your community at a very local level and how you can be involved.  \n\n\n\nThese are regular meetings of church and agency leaders\, as well as community members\, who collaborate to support and advocate for children and families\, particularly through the CarePortal. \n\n\n\nThese gatherings provide a platform for sharing stories (both the good and the challenging)\, discussing local needs\, collaborating on resources\, developing strategies for family support\, and planning future actions for vulnerable children and families within each specific geographic community.
URL:https://www.111project.org/activities/sequoyah-county-community-gathering-10/
LOCATION:OKDHS OFFICE: 502 George Glenn Blvd\, Sallisaw\, OK 74955
CATEGORIES:Community Gatherings
ATTACH;FMTTYPE=image/png:https://www.111project.org/wp-content/uploads/2026/01/Sequoyah.png
END:VEVENT
END:VCALENDAR