BEGIN:VCALENDAR
VERSION:2.0
PRODID:-//111Project.org - ECPv6.15.18//NONSGML v1.0//EN
CALSCALE:GREGORIAN
METHOD:PUBLISH
X-ORIGINAL-URL:https://www.111project.org
X-WR-CALDESC:Events for 111Project.org
REFRESH-INTERVAL;VALUE=DURATION:PT1H
X-Robots-Tag:noindex
X-PUBLISHED-TTL:PT1H
BEGIN:VTIMEZONE
TZID:America/Chicago
BEGIN:DAYLIGHT
TZOFFSETFROM:-0600
TZOFFSETTO:-0500
TZNAME:CDT
DTSTART:20250309T080000
END:DAYLIGHT
BEGIN:STANDARD
TZOFFSETFROM:-0500
TZOFFSETTO:-0600
TZNAME:CST
DTSTART:20251102T070000
END:STANDARD
BEGIN:DAYLIGHT
TZOFFSETFROM:-0600
TZOFFSETTO:-0500
TZNAME:CDT
DTSTART:20260308T080000
END:DAYLIGHT
BEGIN:STANDARD
TZOFFSETFROM:-0500
TZOFFSETTO:-0600
TZNAME:CST
DTSTART:20261101T070000
END:STANDARD
BEGIN:DAYLIGHT
TZOFFSETFROM:-0600
TZOFFSETTO:-0500
TZNAME:CDT
DTSTART:20270314T080000
END:DAYLIGHT
BEGIN:STANDARD
TZOFFSETFROM:-0500
TZOFFSETTO:-0600
TZNAME:CST
DTSTART:20271107T070000
END:STANDARD
END:VTIMEZONE
BEGIN:VEVENT
DTSTART;TZID=America/Chicago:20260507T140000
DTEND;TZID=America/Chicago:20260507T151500
DTSTAMP:20260424T072401
CREATED:20260106T213511Z
LAST-MODIFIED:20260106T213513Z
UID:10001584-1778162400-1778166900@www.111project.org
SUMMARY:Muskogee Community Gathering
DESCRIPTION:What is a Community Gathering? \n\n\n\nIn the simplest terms\, this is where you get to hear about what is happening in your community at a very local level and how you can be involved.  \n\n\n\nThese are regular meetings of church and agency leaders\, as well as community members\, who collaborate to support and advocate for children and families\, particularly through the CarePortal. \n\n\n\nThese gatherings provide a platform for sharing stories (both the good and the challenging)\, discussing local needs\, collaborating on resources\, developing strategies for family support\, and planning future actions for vulnerable children and families within each specific geographic community.
URL:https://www.111project.org/activities/muskogee-community-gathering-5/
LOCATION:Queen City Coffee: 109 N Main St. Muskogee\, OK 74401\, 109 N Main St.\, Muskogee\, Oklahoma\, 74401\, United States
CATEGORIES:Community Gatherings
ATTACH;FMTTYPE=image/png:https://www.111project.org/wp-content/uploads/2026/01/Muskogee.png
END:VEVENT
BEGIN:VEVENT
DTSTART;TZID=America/Chicago:20260702T140000
DTEND;TZID=America/Chicago:20260702T151500
DTSTAMP:20260424T072401
CREATED:20260106T213537Z
LAST-MODIFIED:20260106T213540Z
UID:10001583-1783000800-1783005300@www.111project.org
SUMMARY:Muskogee Community Gathering
DESCRIPTION:What is a Community Gathering? \n\n\n\nIn the simplest terms\, this is where you get to hear about what is happening in your community at a very local level and how you can be involved.  \n\n\n\nThese are regular meetings of church and agency leaders\, as well as community members\, who collaborate to support and advocate for children and families\, particularly through the CarePortal. \n\n\n\nThese gatherings provide a platform for sharing stories (both the good and the challenging)\, discussing local needs\, collaborating on resources\, developing strategies for family support\, and planning future actions for vulnerable children and families within each specific geographic community.
URL:https://www.111project.org/activities/muskogee-community-gathering-6/
LOCATION:Queen City Coffee: 109 N Main St. Muskogee\, OK 74401\, 109 N Main St.\, Muskogee\, Oklahoma\, 74401\, United States
CATEGORIES:Community Gatherings
ATTACH;FMTTYPE=image/png:https://www.111project.org/wp-content/uploads/2026/01/Muskogee.png
END:VEVENT
BEGIN:VEVENT
DTSTART;TZID=America/Chicago:20260806T140000
DTEND;TZID=America/Chicago:20260806T151500
DTSTAMP:20260424T072401
CREATED:20260106T213601Z
LAST-MODIFIED:20260106T213604Z
UID:10001582-1786024800-1786029300@www.111project.org
SUMMARY:Muskogee Community Gathering
DESCRIPTION:What is a Community Gathering? \n\n\n\nIn the simplest terms\, this is where you get to hear about what is happening in your community at a very local level and how you can be involved.  \n\n\n\nThese are regular meetings of church and agency leaders\, as well as community members\, who collaborate to support and advocate for children and families\, particularly through the CarePortal. \n\n\n\nThese gatherings provide a platform for sharing stories (both the good and the challenging)\, discussing local needs\, collaborating on resources\, developing strategies for family support\, and planning future actions for vulnerable children and families within each specific geographic community.
URL:https://www.111project.org/activities/muskogee-community-gathering-7/
LOCATION:Queen City Coffee: 109 N Main St. Muskogee\, OK 74401\, 109 N Main St.\, Muskogee\, Oklahoma\, 74401\, United States
CATEGORIES:Community Gatherings
ATTACH;FMTTYPE=image/png:https://www.111project.org/wp-content/uploads/2026/01/Muskogee.png
END:VEVENT
BEGIN:VEVENT
DTSTART;TZID=America/Chicago:20260903T140000
DTEND;TZID=America/Chicago:20260903T151500
DTSTAMP:20260424T072401
CREATED:20260106T213627Z
LAST-MODIFIED:20260106T213630Z
UID:10001581-1788444000-1788448500@www.111project.org
SUMMARY:Muskogee Community Gathering
DESCRIPTION:What is a Community Gathering? \n\n\n\nIn the simplest terms\, this is where you get to hear about what is happening in your community at a very local level and how you can be involved.  \n\n\n\nThese are regular meetings of church and agency leaders\, as well as community members\, who collaborate to support and advocate for children and families\, particularly through the CarePortal. \n\n\n\nThese gatherings provide a platform for sharing stories (both the good and the challenging)\, discussing local needs\, collaborating on resources\, developing strategies for family support\, and planning future actions for vulnerable children and families within each specific geographic community.
URL:https://www.111project.org/activities/muskogee-community-gathering-8/
LOCATION:Queen City Coffee: 109 N Main St. Muskogee\, OK 74401\, 109 N Main St.\, Muskogee\, Oklahoma\, 74401\, United States
CATEGORIES:Community Gatherings
ATTACH;FMTTYPE=image/png:https://www.111project.org/wp-content/uploads/2026/01/Muskogee.png
END:VEVENT
BEGIN:VEVENT
DTSTART;TZID=America/Chicago:20261001T140000
DTEND;TZID=America/Chicago:20261001T151500
DTSTAMP:20260424T072401
CREATED:20260106T213656Z
LAST-MODIFIED:20260106T213659Z
UID:10001580-1790863200-1790867700@www.111project.org
SUMMARY:Muskogee Community Gathering
DESCRIPTION:What is a Community Gathering? \n\n\n\nIn the simplest terms\, this is where you get to hear about what is happening in your community at a very local level and how you can be involved.  \n\n\n\nThese are regular meetings of church and agency leaders\, as well as community members\, who collaborate to support and advocate for children and families\, particularly through the CarePortal. \n\n\n\nThese gatherings provide a platform for sharing stories (both the good and the challenging)\, discussing local needs\, collaborating on resources\, developing strategies for family support\, and planning future actions for vulnerable children and families within each specific geographic community.
URL:https://www.111project.org/activities/muskogee-community-gathering-9/
LOCATION:Queen City Coffee: 109 N Main St. Muskogee\, OK 74401\, 109 N Main St.\, Muskogee\, Oklahoma\, 74401\, United States
CATEGORIES:Community Gatherings
ATTACH;FMTTYPE=image/png:https://www.111project.org/wp-content/uploads/2026/01/Muskogee.png
END:VEVENT
BEGIN:VEVENT
DTSTART;TZID=America/Chicago:20261105T140000
DTEND;TZID=America/Chicago:20261105T151500
DTSTAMP:20260424T072401
CREATED:20260106T213737Z
LAST-MODIFIED:20260106T213741Z
UID:10001588-1793887200-1793891700@www.111project.org
SUMMARY:Muskogee Community Gathering
DESCRIPTION:What is a Community Gathering? \n\n\n\nIn the simplest terms\, this is where you get to hear about what is happening in your community at a very local level and how you can be involved.  \n\n\n\nThese are regular meetings of church and agency leaders\, as well as community members\, who collaborate to support and advocate for children and families\, particularly through the CarePortal. \n\n\n\nThese gatherings provide a platform for sharing stories (both the good and the challenging)\, discussing local needs\, collaborating on resources\, developing strategies for family support\, and planning future actions for vulnerable children and families within each specific geographic community.
URL:https://www.111project.org/activities/muskogee-community-gathering-10/
LOCATION:Queen City Coffee: 109 N Main St. Muskogee\, OK 74401\, 109 N Main St.\, Muskogee\, Oklahoma\, 74401\, United States
CATEGORIES:Community Gatherings
ATTACH;FMTTYPE=image/png:https://www.111project.org/wp-content/uploads/2026/01/Muskogee.png
END:VEVENT
END:VCALENDAR