BEGIN:VCALENDAR
VERSION:2.0
PRODID:-//111Project.org - ECPv6.15.18//NONSGML v1.0//EN
CALSCALE:GREGORIAN
METHOD:PUBLISH
X-WR-CALNAME:111Project.org
X-ORIGINAL-URL:https://www.111project.org
X-WR-CALDESC:Events for 111Project.org
REFRESH-INTERVAL;VALUE=DURATION:PT1H
X-Robots-Tag:noindex
X-PUBLISHED-TTL:PT1H
BEGIN:VTIMEZONE
TZID:America/Chicago
BEGIN:DAYLIGHT
TZOFFSETFROM:-0600
TZOFFSETTO:-0500
TZNAME:CDT
DTSTART:20250309T080000
END:DAYLIGHT
BEGIN:STANDARD
TZOFFSETFROM:-0500
TZOFFSETTO:-0600
TZNAME:CST
DTSTART:20251102T070000
END:STANDARD
BEGIN:DAYLIGHT
TZOFFSETFROM:-0600
TZOFFSETTO:-0500
TZNAME:CDT
DTSTART:20260308T080000
END:DAYLIGHT
BEGIN:STANDARD
TZOFFSETFROM:-0500
TZOFFSETTO:-0600
TZNAME:CST
DTSTART:20261101T070000
END:STANDARD
BEGIN:DAYLIGHT
TZOFFSETFROM:-0600
TZOFFSETTO:-0500
TZNAME:CDT
DTSTART:20270314T080000
END:DAYLIGHT
BEGIN:STANDARD
TZOFFSETFROM:-0500
TZOFFSETTO:-0600
TZNAME:CST
DTSTART:20271107T070000
END:STANDARD
END:VTIMEZONE
BEGIN:VEVENT
DTSTART;TZID=America/Chicago:20260521T100000
DTEND;TZID=America/Chicago:20260521T113000
DTSTAMP:20260424T053522
CREATED:20260212T012135Z
LAST-MODIFIED:20260212T231952Z
UID:10001911-1779357600-1779363000@www.111project.org
SUMMARY:Rogers County Community Gathering
DESCRIPTION:Join local Church and Community Leaders with a heart for children and families! This will be a time of community collaboration\, as we work to come up with solutions and next steps! Invite someone you would like to see at the table! We hope to see you there! 
URL:https://www.111project.org/activities/rogers-county-community-gathering-4/
LOCATION:She Brews Claremore\, 1301 Old Country Club rd\, Claremore\, Oklahoma\, United States
CATEGORIES:Community Gatherings
ATTACH;FMTTYPE=image/jpeg:https://www.111project.org/wp-content/uploads/2026/02/Rogers-2.jpg
END:VEVENT
BEGIN:VEVENT
DTSTART;TZID=America/Chicago:20260716T100000
DTEND;TZID=America/Chicago:20260716T113000
DTSTAMP:20260424T053522
CREATED:20260212T225736Z
LAST-MODIFIED:20260212T231918Z
UID:10001921-1784196000-1784201400@www.111project.org
SUMMARY:Rogers County Community Gathering
DESCRIPTION:Join local Church and Community Leaders with a heart for children and families! This will be a time of community collaboration\, as we work to come up with solutions and next steps! Invite someone you would like to see at the table! We hope to see you there!
URL:https://www.111project.org/activities/rogers-county-community-gathering-5/
LOCATION:She Brews Claremore\, 1301 Old Country Club rd\, Claremore\, Oklahoma\, United States
CATEGORIES:Community Gatherings
ATTACH;FMTTYPE=image/jpeg:https://www.111project.org/wp-content/uploads/2026/02/Rogers-2.jpg
END:VEVENT
BEGIN:VEVENT
DTSTART;TZID=America/Chicago:20260813T100000
DTEND;TZID=America/Chicago:20260813T113000
DTSTAMP:20260424T053522
CREATED:20260212T231829Z
LAST-MODIFIED:20260212T231834Z
UID:10001931-1786615200-1786620600@www.111project.org
SUMMARY:Rogers County Community Gathering
DESCRIPTION:Join local Church and Community Leaders with a heart for children and families! This will be a time of community collaboration\, as we work to come up with solutions and next steps! Invite someone you would like to see at the table! We hope to see you there!
URL:https://www.111project.org/activities/rogers-county-community-gathering-17/
LOCATION:She Brews Claremore\, 1301 Old Country Club rd\, Claremore\, Oklahoma\, United States
CATEGORIES:Community Gatherings
ATTACH;FMTTYPE=image/jpeg:https://www.111project.org/wp-content/uploads/2026/02/Rogers-1.jpg
END:VEVENT
BEGIN:VEVENT
DTSTART;TZID=America/Chicago:20260917T100000
DTEND;TZID=America/Chicago:20260917T113000
DTSTAMP:20260424T053522
CREATED:20260215T175318Z
LAST-MODIFIED:20260215T175322Z
UID:10001940-1789639200-1789644600@www.111project.org
SUMMARY:Rogers County Community Gathering
DESCRIPTION:Join local Church and Community Leaders with a heart for children and families! This will be a time of community collaboration\, as we work to come up with solutions and next steps! Invite someone you would like to see at the table! We hope to see you there!
URL:https://www.111project.org/activities/rogers-county-community-gathering-18/
LOCATION:She Brews Claremore\, 1301 Old Country Club rd\, Claremore\, Oklahoma\, United States
CATEGORIES:Community Gatherings
ATTACH;FMTTYPE=image/jpeg:https://www.111project.org/wp-content/uploads/2026/02/Rogers-1.jpg
END:VEVENT
BEGIN:VEVENT
DTSTART;TZID=America/Chicago:20261022T100000
DTEND;TZID=America/Chicago:20261022T113000
DTSTAMP:20260424T053522
CREATED:20260215T181707Z
LAST-MODIFIED:20260215T181710Z
UID:10001950-1792663200-1792668600@www.111project.org
SUMMARY:Rogers County Community Gathering
DESCRIPTION:Join local Church and Community Leaders with a heart for children and families! This will be a time of community collaboration\, as we work to come up with solutions and next steps! Invite someone you would like to see at the table! We hope to see you there!
URL:https://www.111project.org/activities/rogers-county-community-gathering-19/
LOCATION:She Brews Claremore\, 1301 Old Country Club rd\, Claremore\, Oklahoma\, United States
CATEGORIES:Community Gatherings
ATTACH;FMTTYPE=image/jpeg:https://www.111project.org/wp-content/uploads/2026/02/Rogers-1.jpg
END:VEVENT
BEGIN:VEVENT
DTSTART;TZID=America/Chicago:20261119T100000
DTEND;TZID=America/Chicago:20261119T113000
DTSTAMP:20260424T053522
CREATED:20260215T183518Z
LAST-MODIFIED:20260215T183522Z
UID:10001959-1795082400-1795087800@www.111project.org
SUMMARY:Rogers County Community Gathering
DESCRIPTION:Join local Church and Community Leaders with a heart for children and families! This will be a time of community collaboration\, as we work to come up with solutions and next steps! Invite someone you would like to see at the table! We hope to see you there!
URL:https://www.111project.org/activities/rogers-county-community-gathering-20/
LOCATION:She Brews Claremore\, 1301 Old Country Club rd\, Claremore\, Oklahoma\, United States
CATEGORIES:Community Gatherings
ATTACH;FMTTYPE=image/jpeg:https://www.111project.org/wp-content/uploads/2026/02/Rogers-1.jpg
END:VEVENT
END:VCALENDAR