BEGIN:VCALENDAR
VERSION:2.0
PRODID:-//111Project.org - ECPv6.15.18//NONSGML v1.0//EN
CALSCALE:GREGORIAN
METHOD:PUBLISH
X-ORIGINAL-URL:https://www.111project.org
X-WR-CALDESC:Events for 111Project.org
REFRESH-INTERVAL;VALUE=DURATION:PT1H
X-Robots-Tag:noindex
X-PUBLISHED-TTL:PT1H
BEGIN:VTIMEZONE
TZID:America/Chicago
BEGIN:DAYLIGHT
TZOFFSETFROM:-0600
TZOFFSETTO:-0500
TZNAME:CDT
DTSTART:20250309T080000
END:DAYLIGHT
BEGIN:STANDARD
TZOFFSETFROM:-0500
TZOFFSETTO:-0600
TZNAME:CST
DTSTART:20251102T070000
END:STANDARD
BEGIN:DAYLIGHT
TZOFFSETFROM:-0600
TZOFFSETTO:-0500
TZNAME:CDT
DTSTART:20260308T080000
END:DAYLIGHT
BEGIN:STANDARD
TZOFFSETFROM:-0500
TZOFFSETTO:-0600
TZNAME:CST
DTSTART:20261101T070000
END:STANDARD
BEGIN:DAYLIGHT
TZOFFSETFROM:-0600
TZOFFSETTO:-0500
TZNAME:CDT
DTSTART:20270314T080000
END:DAYLIGHT
BEGIN:STANDARD
TZOFFSETFROM:-0500
TZOFFSETTO:-0600
TZNAME:CST
DTSTART:20271107T070000
END:STANDARD
END:VTIMEZONE
BEGIN:VEVENT
DTSTART;TZID=America/Chicago:20260521T133000
DTEND;TZID=America/Chicago:20260521T150000
DTSTAMP:20260424T042203
CREATED:20260212T012322Z
LAST-MODIFIED:20260212T012330Z
UID:10001912-1779370200-1779375600@www.111project.org
SUMMARY:Nowata County Community Gathering
DESCRIPTION:Join local Church and Community Leaders with a heart for children and families! This will be a time of community collaboration\, as we work to come up with solutions and next steps! Invite someone you would like to see at the table! We hope to see you there! 
URL:https://www.111project.org/activities/nowata-county-community-gathering-12/
LOCATION:Wise Beans Coffee Shop\, 102 E Cherokee Ave\, Nowata\, Oklahoma\, United States
CATEGORIES:Community Gatherings
ATTACH;FMTTYPE=image/jpeg:https://www.111project.org/wp-content/uploads/2026/02/Nowata-2.jpg
END:VEVENT
BEGIN:VEVENT
DTSTART;TZID=America/Chicago:20260716T133000
DTEND;TZID=America/Chicago:20260716T150000
DTSTAMP:20260424T042203
CREATED:20260212T230035Z
LAST-MODIFIED:20260212T230039Z
UID:10001923-1784208600-1784214000@www.111project.org
SUMMARY:Nowata Community Gathering
DESCRIPTION:Join local Church and Community Leaders with a heart for children and families! This will be a time of community collaboration\, as we work to come up with solutions and next steps! Invite someone you would like to see at the table! We hope to see you there! 
URL:https://www.111project.org/activities/nowata-community-gathering-2/
LOCATION:Wise Beans Coffee Shop\, 102 E Cherokee Ave\, Nowata\, Oklahoma\, United States
CATEGORIES:Community Gatherings
ATTACH;FMTTYPE=image/jpeg:https://www.111project.org/wp-content/uploads/2026/02/Nowata.jpg
END:VEVENT
BEGIN:VEVENT
DTSTART;TZID=America/Chicago:20260813T133000
DTEND;TZID=America/Chicago:20260813T150000
DTSTAMP:20260424T042203
CREATED:20260212T232143Z
LAST-MODIFIED:20260212T232147Z
UID:10001932-1786627800-1786633200@www.111project.org
SUMMARY:Nowata Community Gathering
DESCRIPTION:Join local Church and Community Leaders with a heart for children and families! This will be a time of community collaboration\, as we work to come up with solutions and next steps! Invite someone you would like to see at the table! We hope to see you there! 
URL:https://www.111project.org/activities/nowata-community-gathering-3/
LOCATION:Wise Beans Coffee Shop\, 102 E Cherokee Ave\, Nowata\, Oklahoma\, United States
CATEGORIES:Community Gatherings
ATTACH;FMTTYPE=image/jpeg:https://www.111project.org/wp-content/uploads/2026/02/Nowata.jpg
END:VEVENT
BEGIN:VEVENT
DTSTART;TZID=America/Chicago:20260917T133000
DTEND;TZID=America/Chicago:20260917T150000
DTSTAMP:20260424T042203
CREATED:20260215T175607Z
LAST-MODIFIED:20260215T175611Z
UID:10001942-1789651800-1789657200@www.111project.org
SUMMARY:Nowata Community Gathering
DESCRIPTION:Join local Church and Community Leaders with a heart for children and families! This will be a time of community collaboration\, as we work to come up with solutions and next steps! Invite someone you would like to see at the table! We hope to see you there! 
URL:https://www.111project.org/activities/nowata-community-gathering-4/
LOCATION:Wise Beans Coffee Shop\, 102 E Cherokee Ave\, Nowata\, Oklahoma\, United States
CATEGORIES:Community Gatherings
ATTACH;FMTTYPE=image/jpeg:https://www.111project.org/wp-content/uploads/2026/02/Nowata.jpg
END:VEVENT
BEGIN:VEVENT
DTSTART;TZID=America/Chicago:20261022T133000
DTEND;TZID=America/Chicago:20261022T150000
DTSTAMP:20260424T042203
CREATED:20260215T181934Z
LAST-MODIFIED:20260215T181938Z
UID:10001951-1792675800-1792681200@www.111project.org
SUMMARY:Nowata Community Gathering
DESCRIPTION:Join local Church and Community Leaders with a heart for children and families! This will be a time of community collaboration\, as we work to come up with solutions and next steps! Invite someone you would like to see at the table! We hope to see you there! 
URL:https://www.111project.org/activities/nowata-community-gathering-5/
LOCATION:Wise Beans Coffee Shop\, 102 E Cherokee Ave\, Nowata\, Oklahoma\, United States
CATEGORIES:Community Gatherings
ATTACH;FMTTYPE=image/jpeg:https://www.111project.org/wp-content/uploads/2026/02/Nowata.jpg
END:VEVENT
BEGIN:VEVENT
DTSTART;TZID=America/Chicago:20261119T133000
DTEND;TZID=America/Chicago:20261119T150000
DTSTAMP:20260424T042203
CREATED:20260215T183755Z
LAST-MODIFIED:20260215T183758Z
UID:10001960-1795095000-1795100400@www.111project.org
SUMMARY:Nowata Community Gathering
DESCRIPTION:Join local Church and Community Leaders with a heart for children and families! This will be a time of community collaboration\, as we work to come up with solutions and next steps! Invite someone you would like to see at the table! We hope to see you there! 
URL:https://www.111project.org/activities/nowata-community-gathering-6/
LOCATION:Wise Beans Coffee Shop\, 102 E Cherokee Ave\, Nowata\, Oklahoma\, United States
CATEGORIES:Community Gatherings
ATTACH;FMTTYPE=image/jpeg:https://www.111project.org/wp-content/uploads/2026/02/Nowata.jpg
END:VEVENT
END:VCALENDAR